{"text_format":"1","workbook":"xlsx","n_sheets":16,"sheets":["Datos de la entidad","Instrucciones","Priorización 2025","Distribución presupuestal 2025","SEE 2025","Población total 2025","Beneficiarios DIS 2025","Beneficiarios AS 2025 ","Acciones académicas DIS 2025","Acciones académicas AS 2025","Atención complementaria DIS","Atención complementaria AS","Equipamiento específico DIS","Equipamiento específico AS","GOL","Autorización"],"not_rendered":{"charts":0,"images":1,"macros":1,"external_links":0,"defined_names":2,"comments":0,"pivot_tables":0},"unopened":[],"bounds":{"document_bytes":16777216,"sheet_cells":100000,"rows_first":2000,"rows_last":500,"rows_between":2000,"halvings":0,"cell_chars":16384,"cell_head_chars":4096},"cells_cut":0,"cells_raw":0,"read":"whole","date_system":"1900"}

{"sheet":"Datos de la entidad","index":0,"n_rows":19,"n_cols":5,"rows_kept":19,"cut":false,"hidden":false,"merged":[[16,0,16,2],[16,3,16,8],[17,0,17,2],[17,3,17,8],[18,0,18,2],[18,3,18,8],[10,0,10,2],[10,3,10,8],[11,0,11,2],[11,3,11,8],[12,0,15,2],[12,3,15,8],[8,0,9,8],[0,0,4,2],[0,4,4,8],[5,0,5,8],[6,0,6,2],[6,3,6,8]]}
[null,null,null,null,"Subsecretaría de Educación Básica\nDirección General de Desarrollo Curricular\nDirección de Fortalecimiento Curricular para la \nFormación Personal y Social en la Educación Básica\nEducación Especial"]
[]
[]
[]
[]
["\nANEXO 3\nPLAN ANUAL DE TRABAJO (PAT) 2025\nPrograma Fortalecimiento de los Servicios de Educación Especial (PFSEE)"]
["Entidad:",null,null,"D U R A N G O"]
[]
["1. Datos de la Persona Coodinadora Local del PFSEE"]
[]
["Nombre:",null,null,"DR. ANTONIO HERRERA MONTES"]
["Cargo:",null,null,"ENCARGADO DE LA COORDINACIÓN DEL PFSEE DURANGO"]
["Domicilio de la oficina:",null,null,"Blvd. Domingo Arrieta 1700, Fracc. Domingo Arrieta CP. 34180 Durango Dgo."]
[]
[]
[]
["Correo electrónico:",null,null,"pfsee.seed@durango.gob.mx"]
["Teléfono y extensión:",null,null,"6181376259     CISCO 76259"]
["Celular:",null,null,6181384669]

{"sheet":"Instrucciones","index":1,"n_rows":115,"n_cols":19,"rows_kept":115,"cut":false,"hidden":false,"merged":[[114,0,115,24],[99,0,100,24],[102,0,103,24],[105,0,106,24],[107,0,107,24],[108,0,109,24],[111,0,112,24],[96,0,97,24],[0,0,4,4],[0,18,4,24],[5,0,5,24],[9,0,10,24],[16,0,17,24],[19,0,20,24],[22,0,23,24],[36,0,37,24],[55,0,56,24],[77,0,78,24],[93,0,94,24]]}
[null,null,null,null,null,null,null,null,null,null,null,null,null,null,null,null,null,null,"Subsecretaría de Educación Básica\nDirección General de Desarrollo Curricular\nDirección de Fortalecimiento Curricular para la \nFormación Personal y Social en la Educación Básica\nEducación Especial"]
[]
[]
[]
[]
["Sírvase de las siguientes recomendaciones para el llenado de su formato PAT"]
[]
["Este archivo requiere guardarse como \"Libro de Excel habilitado para macros\"."]
[]
["1. Previamente, el formato está diseñado para imprimirse bajo los siguientes criterios, sin embargo, puede hacer las adecuaciones que considere para que las tablas se impriman completas hoja por hoja:"]
[]
[null,"o Formato horizontal"]
[null,"o Tamaño Carta"]
[null,"o Márgenes estrechos"]
[null,"o Escalado 40%"]
[]
["2. Una vez llenadas las pestañas \"Distribución presupuestal 2025\" y \"SEE 2025\", se pasan en automático los servicios que fueron focalizados en cada tabla, así como el recurso proyectado para cada criterio. Lo anterior, para facilitar el llenado a partir de estos datos."]
[]
[]
["3. La celda \"Remanente\" es un apoyo para el llenado del documento, ahí se va actualizando el recurso que no se está planeando con las acciones propuestas. Para la entrega final, el remanente deberá quedar en ceros."]
[]
[]
["4. En las pestañas correspondientes a \"Acciones académicas\", se despliegan las siguientes opciones. Favor de no escribir, únicamente seleccionar del desplegable:"]
[]
[null,"Diplomado",null,"2do",null,"Encuentro",null,"Arrendamiento de salas / salones "]
[null,"Curso",null,"3ro",null,"Curso",null,"Compra de recursos didácticos"]
[null,"Taller",null,"4to",null,"Taller",null,"Reproducción de materiales"]
[null,"Conferencia",null,null,null,"Reunión",null,"Pago a conferencistas o talleristas "]
[null,"Asesoría",null,null,null,null,null,"Contratación de plataforma digital"]
[null,null,null,null,null,null,null,"Pago de viáticos para asistentes"]
[null,null,null,null,null,null,null,"Pago de traslados para asistentes"]
[null,null,null,null,null,null,null,"Coffee break"]
[null,null,null,null,null,null,null,"Compra de papelería"]
[null,null,null,null,null,null,null,"Renta de equipo de audio y/o video"]
[null,null,null,null,null,null,null,"Renta de mobiliario"]
[null,null,null,null,null,null,null,"N/A"]
["4. En las pestañas correspondientes a \"Atención complementaria\", se despliegan las siguientes opciones. Favor de no escribir, únicamente seleccionar del desplegable:"]
[]
[null,"Académica",null,"2do",null,"Campaña",null,"Arrendamiento de salas / salones "]
[null,"Artística",null,"3ro",null,"Feria",null,"Compra de recursos didácticos"]
[null,"Deportiva",null,"4to",null,"Evento",null,"Compra de material deportivo y/o artístico"]
[null,"Rehabilitadora",null,null,null,null,null,"Reproducción de materiales"]
[null,"Desarrollo de habilidades socioafectivas",null,null,null,null,null,"Pago a especialistas"]
[null,"Para contribuir al diagnóstico",null,null,null,null,null,"Contratación de plataforma digital"]
[null,null,null,null,null,null,null,"Pago de viáticos para asistentes"]
[null,null,null,null,null,null,null,"Pago de traslados para asistentes"]
[null,null,null,null,null,null,null,"Compra de Box lunch"]
[null,null,null,null,null,null,null,"Compra de papelería"]
[null,null,null,null,null,null,null,"Adquisición de uniformes"]
[null,null,null,null,null,null,null,"Renta de vestuario"]
[null,null,null,null,null,null,null,"Renta de material didáctico y/o deportivo"]
[null,null,null,null,null,null,null,"Diseño y producción de lonas"]
[null,null,null,null,null,null,null,"Renta de equipo de audio y/o video"]
[null,null,null,null,null,null,null,"Renta de mobiliario"]
[null,null,null,null,null,null,null,"N/A"]
["5. En la pestaña correspondiente a \"Equipamiento específico (DIS)\", se despliegan las siguientes opciones. Favor de no escribir, únicamente seleccionar del desplegable:"]
[]
[null,"Material didáctico concreto",null,null,null,"Libros especializados en atención educativa",null,"Braille",null,null,null,"Para el desplazamiento",null,null,null,null,null,null,"Software"]
[null,"Esquemas o mapas en relieve",null,"2do",null,"Libros especializados en discapacidad",null,"Lectura fácil",null,null,null,"Para la orientación",null,null,null,null,null,null,"Hardware"]
[null,"Regletas y punzón",null,"3ro",null,"Libros especializados en ciencia",null,"Audiolibro",null,null,null,"Para la comunicación",null,null,null,null,null,null,"Equipo de cómputo"]
[null,"Caja aritmética",null,"4to",null,"Libros especializados en artes",null,"Videos con animaciones",null,null,null,null,null,null,null,null,null,null,"Cañón"]
[null," Ábaco Cramer",null,null,null,"Libros en formatos accesibles",null,"Videos con interpretación en LSM",null,null,null,null,null,null,null,null,null,null,"Impresora"]
[null,"Tableros de comunicación",null,null,null,"Libros de literatura infantil",null,"Videos con closed caption",null,null,null,null,null,null,null,null,null,null,"Enmicadora"]
[null,"Regletas cuisenaire",null,null,null,"Libros de literatura juvenil",null,"Tecnología de bajo costo",null,null,null,null,null,null,null,null,null,null,"Tableta electrónica"]
[null,"Juegos de estrategia adaptados",null,null,null,"Equipamiento para espacios de lectura",null,"Otro (especifique)",null,null,null,null,null,null,null,null,null,null,"Equipo para producciones audiovisuales de NNAJ"]
[null,"Material para ciencia",null,null,null,"Otro (especifique)",null,null,null,null,null,null,null,null,null,null,null,null,"Reproductor de audio"]
[null,"Equipo deportivo",null,null,null,null,null,null,null,null,null,null,null,null,null,null,null,null,"Reproductor de video"]
[null,"Instrumentos musicales acústicos",null,null,null,null,null,null,null,null,null,null,null,null,null,null,null,null,"Equipo de asistencia tecnológica"]
[null,"Material de robótica",null,null,null,null,null,null,null,null,null,null,null,null,null,null,null,null,"Tecnología adaptada"]
[null,"Máquinas robóticas mecánicas",null,null,null,null,null,null,null,null,null,null,null,null,null,null,null,null,"Impresora en Braille"]
[null,"Paquetes con diversos materiales",null,null,null,null,null,null,null,null,null,null,null,null,null,null,null,null,"Máquina Perkins"]
[null,"Otro (especifique)",null,null,null,null,null,null,null,null,null,null,null,null,null,null,null,null,"Calculadora parlante"]
[null,null,null,null,null,null,null,null,null,null,null,null,null,null,null,null,null,null,"Magnificador de pantalla"]
[null,null,null,null,null,null,null,null,null,null,null,null,null,null,null,null,null,null,"Contratación de plataforma digital"]
[null,null,null,null,null,null,null,null,null,null,null,null,null,null,null,null,null,null,"Material para robótica"]
[null,null,null,null,null,null,null,null,null,null,null,null,null,null,null,null,null,null,"Instrumentos musicales electrónicos"]
[null,null,null,null,null,null,null,null,null,null,null,null,null,null,null,null,null,null,"Otro (especifique)"]
["6. En la pestaña correspondiente a \"Equipamiento específico (AS)\", se despliegan las siguientes opciones. Favor de no escribir, únicamente seleccionar del desplegable:"]
[]
[null,"Juegos de estrategia",null,null,null,"Libros especializados en atención educativa",null,null,null,"Software"]
[null,"Material para ciencia",null,"2do",null,"Libros especializados en aptitudes sobresalientes",null,null,null,"Hardware"]
[null,"Material para artes",null,"3ro",null,"Libros especializados en ciencia",null,null,null,"Equipo de cómputo"]
[null,"Equipo deportivo",null,"4to",null,"Libros especializados en artes",null,null,null,"Cañón"]
[null,"Instrumentos musicales acústicos",null,null,null,"Libros de literatura infantil",null,null,null,"Impresora"]
[null,"Paquetes con diversos materiales",null,null,null,"Libros de literatura juvenil",null,null,null,"Tableta electrónica"]
[null,"Material de robótica ",null,null,null,"Equipamiento para espacios de lectura",null,null,null,"Equipo para producciones audiovisuales realizado por NNAJ"]
[null,"Máquinas robóticas mecánicas",null,null,null,"Otro (especifique)",null,null,null,"Reproductor de audio"]
[null,"Otro (especifique)",null,null,null,null,null,null,null,"Reproductor de video"]
[null,null,null,null,null,null,null,null,null,"Material para robótica"]
[null,null,null,null,null,null,null,null,null,"Enmicadora"]
[null,null,null,null,null,null,null,null,null,"Contratación de plataforma digital"]
[null,null,null,null,null,null,null,null,null,"Instrumentos musicales electrónicos"]
[null,null,null,null,null,null,null,null,null,"Otro (especifique)"]
["7. La cantidad a distribuir se refiere al total de material que se va a adquirir y distribuir, es decir 15 regletas, 10 equipos deportivos, etc."]
[]
[]
["8. El trimestre se refiere a cuándo se empezará la actividad y cuándo se concluye. Favor de seleccionarlo del desplegable y, si la actividad se realizará en un solo trimestre, se escribe lo mismo en las dos celdas."]
[]
[]
["9. Se solicita que, en la medida de lo posible, se diversifique el propósito educativo reportado para cada actividad/adquisición."]
[]
[]
["10. Para recabar las firmas de \"Autorización\", si en su entidad no hay subsistemas, podrá eliminar una de las tablas correspondientes a las firmas de los Responsables de Educación Especial."]
[]
[]
["11. Se recomienda que, en caso de no requerir todas las tablas que aparecen a continuación, sea porque no va a realizar acciones en ese criterio de gasto, o no se va a beneficiar a todos los tipos de servicios que se presentan, imprima únicamente lo necesario (es decir, las tablas que contengan algún tipo de información)."]
[]
[]
["12. En caso de requerir mayor número de filas para reportar más actividades, podrá hacerlo siguiendo la ruta: Inicio / Celdas / Insertar filas. O bien, haciendo click derecho en el encabezado de la fila."]
[]
[]
["13. Solicitamos su apoyo para que este formato no sea desbloqueado, agregado o eliminado columnas, ni fórmulas; de lo contrario, se le solicitará que se vuelva a recabar la información en un formato en limpio."]
[]
[]
["14. Favor de no eliminar esta pestaña."]

{"sheet":"Priorización 2025","index":2,"n_rows":46,"n_cols":9,"rows_kept":46,"cut":false,"hidden":false,"merged":[[45,0,48,1],[45,3,57,8],[0,0,4,2],[0,4,4,8],[6,0,6,8],[8,0,8,8],[9,0,9,8],[11,0,11,8],[12,0,12,8],[21,0,21,8],[22,0,28,8],[30,0,33,1],[30,3,42,8],[16,0,16,7],[17,0,17,7],[18,0,18,7],[19,0,19,7],[13,0,13,7],[14,0,14,7],[15,0,15,7]]}
[null,null,null,null,"Subsecretaría de Educación Básica\nDirección General de Desarrollo Curricular\nDirección de Fortalecimiento Curricular para la \nFormación Personal y Social en la Educación Básica\nEducación Especial"]
[]
[]
[]
[]
[]
["Situación de lo programado en 2025 para los logros del diagnóstico de servicios de educación especial en la entidad"]
[]
["Fortalecimiento 2025"]
["Criterios de selección y priorización de los servicios de educación especial.\n(Puede seleccionar más de una opción)"]
[]
["Seleccione los criterios de priorización"]
["Seleccione con una X"]
["Servicios de sostenimiento público."]
["Servicios que atienden estudiantes con discapacidad y/o con aptitudes sobresalientes.",null,null,null,null,null,null,null,"X"]
["Servicios que se ubiquen en localidades catalogadas por el CONAPO con un grado de marginación “alto” o “muy alto”."]
["Servicios de nueva creación"]
["Servicios con mayores necesidades de acuerdo con los criterios establecidos en el diagnóstico.\n",null,null,null,null,null,null,null,"X"]
["Servicios que atienden a población con discapacidad y/o con aptitudes sobresalientes que se encuentren en doble situación de vulnerabilidad, como indígena, afrodescendiente y migrante."]
["Servicios que brinden actualización a docentes de escuelas de Educación Básica (Componente 1).\n",null,null,null,null,null,null,null,"X"]
[]
["Describa los criterios de dicha priorización"]
["1. Servicios que atienden estudiantes con discapacidad y/o con aptitudes sobresalientes: Centros que proporcionen intervenciones específicas, herramientas pedagógicas adaptadas y acompañamiento especializado tanto a los estudiantes como a docentes y familias, fortaleciendo la labor es fundamental del personal.                                                                                                                                                                                                   2. Servicios con mayores necesidades de acuerdo con los criterios establecidos en el diagnóstico: Servicios que operan con infraestructura insuficiente o deteriorada, carecen de equipamiento especializado actualizado, y cuentan con personal que requiere formación específica en atención a las diversas condiciones de discapacidad y aptitudes sobresalientes.                                                                                                                                   3. Servicios que brinden actualización a docentes de escuelas de Educación Básica (Componente 1): Los Servicios de Educación Especial que brindan actualización a agentes educativos de Escuelas Públicas de Educación Básica son prioritarios para fortalecer la educación inclusiva, ya que capacitan a docentes regulares en estrategias específicas para atender adecuadamente a estudiantes con discapacidad y/o aptitudes sobresalientes."]
[]
[]
[]
[]
[]
[]
[]
["Describa de qué manera se satisfacen las necesidades identificadas en su diagnóstico con las acciones programadas para beneficiar a población con discapacidad",null,null,"Atendiendo al incremento de condiciones de trastornos del neurodesarrollo, discapacidad intelectual y dificultades severas de aprendizaje, las acciones programadas para beneficiar a esta población, responden directamente a las necesidades identificadas en el diagnóstico a través de intervenciones estratégicas en tres componentes. Mediante el componente de Acciones académicas, se ofrece capacitación especializada a docentes y agentes educativos para fortalecer sus habilidades en la atención a estudiantes con diferentes tipos de discapacidad, cubriendo la carencia de personal actualizado. El componente de Acciones de atención complementaria permite implementar intervenciones directas como: actividades artísticas, deportivas, así como caravanas de sensibilización que promueven una cultura inclusiva. Por último, el componente de Equipamiento específico dota a los servicios de educación especial con tecnología asistida, mobiliario adecuado, ayudas técnicas para la movilidad y equipamiento para aulas multisensoriales que aportan beneficios a la totalidad de la población atendida."]
[]
[]
[]
[]
[]
[]
[]
[]
[]
[]
[]
[]
[]
[]
["Describa de qué manera se satisfacen las necesidades identificadas en su diagnóstico con las acciones programadas para beneficiar a población con aptitudes sobresalientes",null,null,"Las acciones programadas para la población con aptitudes sobresalientes responden estratégicamente a las necesidades diagnósticadas, reforzando la detección constante para incrementar la población en atención. El componente de Acciones académicas aborda la necesidad de formación especializada a través de capacitación a docentes y agentes educativos en metodologías de identificación, estimulación y enriquecimiento para estudiantes sobresalientes en diversas áreas. El componente de Acciones de atención complementaria busca satisfacer la necesidad de experiencias educativas desafiantes mediante intervenciones académicas especializadas, proyectos de investigación, actividades artísticas, y eventos que permiten a estos estudiantes mostrar sus habilidades y profundizar en sus áreas de interés. Finalmente, el componente de Equipamiento específico proporciona los recursos necesarios a través de materiales didácticos especializados, equipamiento tecnológico, permitiendo a los estudiantes con aptitudes sobresalientes desarrollar plenamente su potencial al contar con los insumos adecuados para su estimulación cognitiva y creativa."]

{"sheet":"Distribución presupuestal 2025","index":3,"n_rows":70,"n_cols":27,"rows_kept":70,"cut":false,"hidden":false,"merged":[[69,0,69,5],[69,7,69,9],[69,11,69,12],[46,17,46,27],[46,0,46,12],[67,0,67,5],[67,7,67,9],[67,11,67,12],[68,0,68,5],[68,7,68,9],[68,11,68,12],[64,0,65,5],[64,6,65,6],[64,7,65,9],[64,11,65,12],[66,0,66,5],[66,7,66,9],[66,11,66,12],[63,0,63,5],[63,7,63,9],[63,11,63,12],[64,17,64,20],[64,22,64,24],[64,26,64,27],[62,0,62,5],[62,7,62,9],[62,11,62,12],[63,17,63,20],[63,22,63,24],[63,26,63,27],[62,17,62,20],[62,22,62,24],[62,26,62,27],[61,0,61,5],[61,7,61,9],[61,11,61,12],[61,17,61,20],[61,22,61,24],[61,26,61,27],[60,0,60,5],[60,7,60,9],[60,11,60,12],[60,17,60,20],[60,22,60,24],[60,26,60,27],[58,0,58,13],[58,17,58,28],[59,0,59,5],[59,6,59,9],[59,11,59,12],[59,17,59,20],[59,21,59,24],[59,26,59,27],[56,7,56,9],[56,11,56,12],[56,22,56,24],[56,26,56,27],[56,0,56,5],[56,17,56,20],[55,0,55,5],[55,7,55,9],[55,11,55,12],[55,17,55,20],[55,22,55,24],[55,26,55,27],[53,0,53,12],[53,17,53,27],[54,0,54,5],[54,6,54,9],[54,11,54,12],[54,17,54,20],[54,21,54,24],[54,26,54,27],[51,0,51,5],[51,7,51,9],[51,11,51,12],[51,17,51,20],[51,22,51,24],[51,26,51,27],[50,0,50,5],[50,7,50,9],[50,11,50,12],[50,17,50,20],[50,22,50,24],[50,26,50,27],[48,0,48,12],[48,17,48,27],[49,0,49,5],[49,6,49,9],[49,11,49,12],[49,17,49,20],[49,21,49,24],[49,26,49,27],[41,20,41,26],[42,20,42,26],[41,1,42,1],[34,12,34,13],[34,19,34,20],[34,21,34,23],[36,4,36,5],[36,7,36,8],[36,10,36,11],[36,12,36,13],[36,15,36,16],[36,19,36,20],[27,3,27,8],[27,10,27,17],[27,19,27,26],[29,1,38,1],[30,19,30,26],[32,3,32,8],[32,10,32,17],[32,19,32,26],[34,4,34,5],[20,1,27,1],[20,19,20,26],[22,3,22,8],[22,10,22,17],[22,19,22,26],[36,21,36,23],[36,25,36,26],[37,3,37,8],[37,10,37,17],[37,19,37,26],[24,19,24,20],[24,21,24,23],[26,4,26,5],[26,7,26,8],[34,10,34,11],[26,10,26,11],[26,12,26,13],[26,15,26,16],[26,19,26,20],[26,21,26,23],[24,4,24,5],[24,10,24,11],[24,12,24,13],[13,18,13,20],[13,23,13,24],[15,18,15,26],[26,25,26,26],[0,3,4,5],[0,18,4,28],[5,0,5,28],[7,7,9,13],[7,15,9,20],[11,1,15,1],[11,4,11,12],[11,18,11,26],[13,4,13,8],[13,11,13,12]]}
[null,null,null,null,null,null,null,null,null,null,null,null,null,null,null,null,null,null,"Subsecretaría de Educación Básica\nDirección General de Desarrollo Curricular\nDirección de Fortalecimiento Curricular para la \nFormación Personal y Social en la Educación Básica\nEducación Especial"]
[]
[]
[]
[]
["Esquema de la distribución presupuestal que se planea ejercer en cada uno de los criterios de los 3 componentes. Favor de llenar sólo la información del monto asignado por Convenio, los GOL, y la planeación por criterio de gasto, el resto se calcula solo."]
[]
[null,null,null,null,null,null,null,"Monto asignado por Convenio Marco",null,null,null,null,null,null,null,14790902]
[]
[]
[]
[null,"POR TIPO DE GASTO",null,null,"Monto para acciones sustantivas:",null,null,null,null,null,null,null,null,null,null,null,null,null,"Monto para Gastos de Operación Local:"]
[]
[null,null,null,null,{"$f":"P8-S14","v":14347174.939999999},null,null,null,null,null,null,0,null,null,null,null,null,null,443727.06,null,null,null,null,0]
[]
[null,null,null,null,null,null,null,null,null,null,null,null,null,null,null,null,null,null,"El porcentaje esta dentro de lo permitido en RO"]
[]
[]
[]
[]
[null,"POR COMPONENTE EN DIS",null,"Acciones planeadas para beneficiar a población con discapacidad",null,null,null,null,null,null,null,null,null,null,null,null,null,null,{"$f":"+H27+P27+Z27","v":0},"verificar porcentajes para que sume a 100%"]
[]
[null,null,null,"Acciones académicas para agentes educativos en temas de discapacidad (hasta 50%)",null,null,null,null,null,null,"Acciones de atención complementaria para estudiantes con discapacidad (hasta 50%)",null,null,null,null,null,null,null,null,"Equipamiento específico en beneficio de estudiantes con discapacidad (hasta 80%)"]
[]
[null,null,null,"Monto disponible ",null,null,null,"hasta 50%",null,null,"Monto disponible ",null,null,null,null,"hasta 50%",null,null,null,"Monto disponible ",null,null,null,null,null,"hasta 80%"]
[]
[null,null,null,"Monto comprometido",{"$f":"SUM(H51:J52)","v":2110531},null,null,{"$f":"IFERROR((E27/#REF!),0)","v":0},"%",null,"Monto comprometido",null,{"$f":"SUM(H56:J57)","v":2250000},null,null,{"$f":"IFERROR((M27/#REF!),0)","v":0},null,null,null,"Monto comprometido",null,{"$f":"SUM(H61:J70)","v":5532319.8899999997},null,null,null,{"$f":"IFERROR((V27/#REF!),0)","v":0}]
[null,null,null,"El porcentaje esta dentro de lo permitido en RO",null,null,null,null,null,null,"El porcentaje esta dentro de lo permitido en RO",null,null,null,null,null,null,null,null,"El porcentaje esta dentro de lo permitido en RO"]
[]
[null,"POR COMPONENTE EN AS"]
[null,null,null,"Acciones planeadas para beneficiar a población con aptitudes sobresalientes",null,null,null,null,null,null,null,null,null,null,null,null,null,null,{"$f":"+H37+P37+Z37","v":0},"verificar porcentajes para que sume a 100%"]
[]
[null,null,null,"Acciones académicas para agentes educativos en temas de aptitudes sobresalientes (hasta 50%)",null,null,null,null,null,null,"Acciones de atención complementaria para estudiantes con aptitudes sobresalientes (hasta 50%)",null,null,null,null,null,null,null,null,"Equipamiento específico en beneficio de estudiantes con aptitudes sobresalientes (hasta 80%)"]
[]
[null,null,null,"Monto disponible ",null,null,null,"hasta 50%",null,null,"Monto disponible ",null,null,null,null,"hasta 50%",null,null,null,"Monto disponible ",null,null,null,null,null,"hasta 80%"]
[]
[null,null,null,"Monto comprometido",{"$f":"SUM(W51:Y52)","v":969756},null,null,{"$f":"IFERROR((E37/#REF!),0)","v":0},"%",null,"Monto comprometido",null,{"$f":"SUM(W56:Y57)","v":616500},null,null,{"$f":"IFERROR((M37/#REF!),0)","v":0},null,null,null,"Monto comprometido",null,{"$f":"SUM(W61:Y65)","v":3255213.16},null,null,null,{"$f":"IFERROR((V37/#REF!),0)","v":0}]
[null,null,null,"El porcentaje esta dentro de lo permitido en RO",null,null,null,null,null,null,"El porcentaje esta dentro de lo permitido en RO",null,null,null,null,null,null,null,null,"El porcentaje esta dentro de lo permitido en RO"]
[]
[]
[]
[null,"BALANCE FINAL ",null,null,null,null,null,null,null,null,null,null,null,null,null,null,null,null,null,null,{"$f":"+E14-O42-G42","v":14347174.939999999}]
[null,null,null,null,null,null,null,null,null,null,null,null,null,null,null,null,null,null,null,null,"Su distribución coincide con el subsidio total"]
[]
[]
[]
["Planeación de acciones para beneficio de estudiantes con discapacidad",null,null,null,null,null,null,null,null,null,null,null,null,null,null,null,null,"Planeación de acciones académicas en temas de aptitudes sobresalientes"]
[]
["Componente 1. Acciones académicas para agentes educativos en temas de discapacidad",null,null,null,null,null,null,null,null,null,null,null,null,null,null,null,null,"Componente 1. Acciones académicas para agentes educativos en temas de aptitudes sobresalientes"]
["Criterio",null,null,null,null,null,"Monto comprometido",null,null,null,null,"% respecto al monto autorizado",null,null,null,null,null,"Criterio",null,null,null,"Monto comprometido",null,null,null,null,"% respecto al monto autorizado"]
["1.1 Acciones de actualización y fortalecimiento académico de agentes educativos en temas de discapacidad.",null,null,null,null,null,"$",2110531,null,null,null,{"$f":"IFERROR((H51/$E$25),0)","v":0},null,null,null,null,null,"1.1 Acciones de actualización y fortalecimiento académico de agentes educativos en temas de aptitudes sobresalientes.",null,null,null,"$",539756,null,null,null,{"$f":"IFERROR((W51/$E$35),0)","v":0}]
["1.2 Encuentros, cursos, talleres y/o reuniones entre madres y padres de familia o tutores de estudiantes con discapacidad para la conformación y operación de sus redes de apoyo.",null,null,"1.2 Acciones orientadas a sensibilizar, promover, difundir y, desarrollar en la comunidad escolar una cultura inclusiva",null,null,"$",null,null,null,null,{"$f":"IFERROR((H52/$E$25),0)","v":0},null,null,null,null,null,"1.2 Encuentros, cursos, talleres y/o reuniones entre madres y padres de familia o tutores de estudiantes con aptitudes sobresalientes para la conformación y operación de sus redes de apoyo.","1.2 Acciones orientadas a sensibilizar, promover, difundir y, desarrollar en la comunidad escolar una cultura inclusiva",null,null,"$",430000,null,null,null,{"$f":"IFERROR((W52/$E$35),0)","v":0}]
[]
["Componente 2. Acciones de atención complementaria para estudiantes con discapacidad",null,null,null,null,null,null,null,null,null,null,null,null,null,null,null,null,"Componente 2. Acciones de atención complementaria para estudiantes con aptitudes sobresalientes"]
["Criterio",null,null,null,null,null,"Monto comprometido",null,null,null,null,"% respecto al monto autorizado",null,null,null,null,null,"Criterio",null,null,null,"Monto comprometido",null,null,null,null,"% respecto al monto autorizado"]
["2.1 Acciones orientadas a la intervención directa y la atención complementaria: académica, artística, deportiva, rehabilitadora, desarrollo de habilidades socioafectivas y/o que contribuyan en el diagnóstico de las y los estudiantes con discapacidad.",null,null,null,null,null,"$",277800,null,null,null,{"$f":"IFERROR((H56/$M$25),0)","v":0},null,null,null,null,null,"2.1 Acciones orientadas a la intervención directa y la atención complementaria: académica, artística, deportiva, rehabilitadora, desarrollo de habilidades socioafectivas y/o que contribuyan en el diagnóstico de las y los estudiantes con aptitudes sobresalientes. ",null,null,null,"$",106500,null,null,null,{"$f":"IFERROR((W56/$M$35),0)","v":0}]
["2.2 Acciones orientadas a que las y los estudiantes con discapacidad pongan en práctica las habilidades académicas, artísticas, deportivas, para la vida y/o laborales y que promuevan la sensibilización, promoción, difusión y desarrollo en la comunidad escolar una cultura inclusiva, a través de campañas, ferias y eventos.",null,null,null,null,null,"$",1972200,null,null,null,{"$f":"IFERROR((H57/$M$25),0)","v":0},null,null,null,null,null,"2.2 Acciones orientadas a que las y los estudiantes con aptitudes sobresalientes, pongan en práctica las habilidades académicas, artísticas, deportivas, para la vida y/o laborales y que promuevan la sensibilización, promoción, difusión y desarrollo en la comunidad escolar una cultura inclusiva, a través de campañas, ferias y eventos.",null,null,null,"$",510000,null,null,null,{"$f":"IFERROR((W57/$M$35),0)","v":0}]
[]
["Componente 3. Equipamiento específico en beneficio de estudiantes con discapacidad",null,null,null,null,null,null,null,null,null,null,null,null,null,null,null,null,"Componente 3. Equipamiento específico en beneficio de estudiantes con aptitudes sobresalientes"]
["Criterio",null,null,null,null,null,"Monto comprometido",null,null,null,null,"% respecto al monto autorizado",null,null,null,null,null,"Criterio",null,null,null,"Monto comprometido",null,null,null,null,"% respecto al monto autorizado"]
["3.1 Dotar de material didáctico especializado para estudiantes con discapacidad.",null,null,null,null,null,"$",633427.18999999994,null,null,null,{"$f":"IFERROR((H61/$V$25),0)","v":0},null,null,null,null,null,"3.10 Dotar de material didáctico especializado para estudiantes con aptitudes sobresalientes.",null,null,null,"$",2351313.16,null,null,null,{"$f":"IFERROR((W61/$V$35),0)","v":0}]
["3.2 Adquirir equipamiento y materiales para espacios de lectura y dotar de material bibliográfico para estudiantes con discapacidad.",null,null,null,null,null,"$",null,null,null,null,{"$f":"IFERROR((H62/$V$25),0)","v":0},null,null,null,null,null,"3.11 Adquirir equipamiento y materiales para espacios de lectura y dotar de material bibliográfico para estudiantes con aptitudes sobresalientes.",null,null,null,"$",null,null,null,null,{"$f":"IFERROR((W62/$V$35),0)","v":0}]
["3.3 Diseño, producción e impresión de material en formatos adaptados para favorecer la accesibilidad de estudiantes con discapacidad.",null,null,null,null,null,"$",null,null,null,null,{"$f":"IFERROR((H63/$V$25),0)","v":0},null,null,null,null,null,"3.12 Dotar de insumos de papelería (hojas, tóner) para la reproducción de entrevistas, cuestionarios e inventarios para la detección de estudiantes con aptitudes sobresalientes, así como para la contratación de servicios de aplicación y procesamiento en línea, de instrumentos de evaluación.",null,null,null,"$",375000,null,null,null,0]
["3.4 Dotar de equipo adaptado, tecnológico y/o multimedia para estudiantes con discapacidad.",null,null,null,null,null,"$",null,null,null,null,0,null,null,null,null,null,"3.13 Dotar de equipo tecnológico y/o multimedia para estudiantes con aptitudes sobresalientes.",null,null,null,"$",528900,null,null,null,0]
["3.5 Adquirir equipamiento, herramientas, utensilios, enseres domésticos y aparatos electrónicos que se requieren para impartir las especialidades que se ofertan en los CAM laboral y con Formación para el Trabajo.",null,null,null,null,null,"$",136527.81,null,null,null,{"$f":"IFERROR((H65/$V$25),0)","v":0},null,null,null,null,null,"3.14 Dotar de insumos y materiales consumibles no perecederos que se requieren para apoyar las actividades curriculares y extracurriculares de las y los estudiantes con aptitudes sobresalientes.",null,null,null,"$",null,null,null,null,0]
[null,null,null,null,null,null,null,null,null,null,null,null,null,null,null,null,null,null,null," "]
["3.6 Dotar de insumos y materiales consumibles no perecederos que se requieren en las especialidades que se ofertan en los CAM laboral y con Formación para el Trabajo para apoyar las actividades de las y los estudiantes con discapacidad.",null,null,null,null,null,"$",70000,null,null,null,{"$f":"IFERROR((H67/$V$25),0)","v":0}]
["3.7 Adquirir ayudas técnicas para la accesibilidad y movilidad que mejoren las condiciones para el desplazamiento, orientación y comunicación de la o el estudiante con discapacidad.",null,null,null,null,null,"$",30000,null,null,null,{"$f":"IFERROR((H68/$V$25),0)","v":0}]
["3.8 Dotar de mobiliario ordinario y/o adaptado para las y los estudiantes con discapacidad.",null,null,null,null,null,"$",null,null,null,null,{"$f":"IFERROR((H69/$V$25),0)","v":0}]
["3.9 Adquirir equipamiento y materiales para aulas multisensoriales.",null,null,null,null,null,"$",4662364.8899999997,null,null,null,{"$f":"IFERROR((H70/$V$25),0)","v":0}]

{"sheet":"SEE 2025","index":4,"n_rows":38,"n_cols":20,"rows_kept":38,"cut":false,"hidden":false,"merged":[[14,19,14,20],[19,19,19,20],[20,19,22,20],[24,19,24,20],[25,19,27,20],[23,12,23,20],[20,13,22,13],[20,14,22,14],[20,15,22,15],[15,14,17,14],[15,15,17,15],[15,16,17,16],[15,17,17,17],[15,19,17,20],[18,12,18,20],[19,12,22,12],[14,9,14,10],[19,9,19,10],[20,9,22,10],[24,9,24,10],[23,0,23,10],[20,7,22,7],[18,0,18,10],[19,0,22,0],[20,1,22,1],[20,3,22,3],[20,4,22,4],[20,5,22,5],[20,6,22,6],[24,0,27,0],[24,12,27,12],[25,5,27,5],[25,6,27,6],[37,0,37,19],[25,1,27,1],[25,3,27,3],[25,4,27,4],[25,9,27,10],[25,13,27,13],[25,14,27,14],[25,15,27,15],[25,16,27,16],[25,17,27,17],[25,7,27,7],[38,0,38,19],[32,0,32,19],[33,0,33,19],[34,0,34,19],[35,0,35,19],[36,0,36,19],[20,16,22,16],[20,17,22,17],[12,0,12,10],[12,12,12,20],[13,0,13,10],[13,12,13,20],[14,0,17,0],[14,12,17,12],[15,1,17,1],[15,3,17,3],[15,4,17,4],[15,5,17,5],[15,6,17,6],[15,7,17,7],[15,13,17,13],[15,9,17,10],[0,0,4,2],[0,14,4,20],[5,0,5,20],[7,0,7,9],[8,0,11,0],[9,1,11,1],[9,3,11,3],[9,4,11,4],[9,5,11,5],[9,6,11,6],[9,7,11,7],[9,9,11,9]]}
[null,null,null,null,null,null,null,null,null,null,null,null,null,null,"Subsecretaría de Educación Básica\nDirección General de Desarrollo Curricular\nDirección de Fortalecimiento Curricular para la \nFormación Personal y Social en la Educación Básica\nEducación Especial"]
[]
[]
[]
[]
["Información cuantitativa respecto al número de servicios de educación especial que existen en su entidad y los que serán beneficiados en este año fiscal. En caso de no contar con algún tipo de servicio poner \"0\"."]
[]
["Total de servicios de educación especial en la entidad"]
["Servicios de educación especial públicos que existen en la entidad","USAER","CAM Básico","CAM Laboral","CAPEP","CRIE","UOP","UAEBH","Otro","Total"]
[null,81,0,2,0,0,0,0,1,{"$f":"SUM(B10,C10,C12,D10,E10,F10,G10,H10,I10)","v":112}]
[null,null,"Con FpT",null,null,null,null,null,"(especifique)"]
[null,null,28,null,null,null,null,null,"Centro de Iniciación a la Ciencia y la Tecnología (CICyT)"]
["Focalización para población con discapacidad ",null,null,null,null,null,null,null,null,null,null,null,"Focalización para población con aptitudes sobresalientes "]
["Servicios de educación especial focalizados en el componente 1. Acciones académicas para agentes educativos en temas de discapacidad",null,null,null,null,null,null,null,null,null,null,null,"Servicios de educación especial focalizados en el componente 1. Acciones académicas para agentes educativos en temas de aptitudes sobresalientes"]
["Servicios focalizados para beneficiar a través del PFSEE en el año 2025 en el componente 1","USAER","CAM Básico","CAM Laboral","CAPEP","CRIE","UOP","UAEBH","Otro","Total",null,null,"Servicios focalizados para beneficiar a través del PFSEE en el año 2025 en el componente 1","USAER","CAPEP","CRIE","UOP","UAEBH","Otro","Total"]
[null,81,0,2,0,0,0,0,0,{"$f":"SUM(B16,C16,C18,D16,E16,F16,G16,H16,I16)","v":111},null,null,null,76,0,0,0,0,1,{"$f":"SUM(N16,O16,P16,Q16,R16,S16)","v":77}]
[null,null,"Con FpT",null,null,null,null,null,"(especifique)",null,null,null,null,null,null,null,null,null,"(especifique)"]
[null,null,28,null,null,null,null,null,"(Nombre)",null,null,null,null,null,null,null,null,null,"Centro de Iniciación a la Ciencia y la Tecnología (CICyT)"]
["Servicios de educación especial focalizados en el componente 2. Acciones de atención complementaria para estudiantes con discapacidad",null,null,null,null,null,null,null,null,null,null,null,"Servicios de educación especial focalizados en el componente 2. Acciones de atención complementaria para estudiantes con aptitudes sobresalientes"]
["Servicios focalizados para beneficiar a través del PFSEE en el año 2025 en el componente 2","USAER","CAM Básico","CAM Laboral","CAPEP","CRIE","UOP","UAEBH","Otro","Total",null,null,"Servicios focalizados para beneficiar a través del PFSEE en el año 2025 en el componente 2","USAER","CAPEP","CRIE","UOP","UAEBH","Otro","Total"]
[null,64,0,2,0,0,0,0,0,{"$f":"SUM(B21,C21,C23,D21,E21,F21,G21,H21,I21)","v":94},null,null,null,53,0,0,0,0,0,{"$f":"SUM(N21,O21,P21,Q21,R21,S21)","v":53}]
[null,null,"Con FpT",null,null,null,null,null,"(especifique)",null,null,null,null,null,null,null,null,null,"(especifique)"]
[null,null,28,null,null,null,null,null,"[Nombre]",null,null,null,null,null,null,null,null,null,"[Nombre]"]
["Servicios de educación especial focalizados en el componente 3. Equipamiento específico en beneficio de estudiantes con discapacidad",null,null,null,null,null,null,null,null,null,null,null,"Servicios de educación especial focalizados en el componente 3. Equipamiento específico en beneficio de estudiantes con aptitudes sobresalientes"]
["Servicios focalizados para beneficiar a través del PFSEE en el año 2025 en el componente 3","USAER","CAM Básico","CAM Laboral","CAPEP","CRIE","UOP","UAEBH","Otro","Total",null,null,"Servicios focalizados para beneficiar a través del PFSEE en el año 2025 en el componente 3","USAER","CAPEP","CRIE","UOP","UAEBH","Otro","Total"]
[null,81,0,2,0,0,0,0,0,{"$f":"SUM(B26,C26,C28,D26,E26,F26,G26,H26,I26)","v":111},null,null,null,76,0,0,0,0,1,{"$f":"SUM(N26,O26,P26,Q26,R26,S26)","v":77}]
[null,null,"Con FpT",null,null,null,null,null,"(especifique)",null,null,null,null,null,null,null,null,null,"(especifique)"]
[null,null,28,null,null,null,null,null,"[Nombre]",null,null,null,null,null,null,null,null,null,"Centro de Iniciación a la Ciencia y la Tecnología (CICyT)"]
[]
["*Con FpT: Con Formación para el Trabajo"]
[]
["Para el llenado de esta hoja de Excel considerar los siguientes puntos:"]
["a) En la tabla superior se reporta la totalidad de servicios y en las siguientes tres, únicamente los que serán beneficiados por el PFSEE en este 2025, por criterio general de gasto."]
["b) En \"CAM Básico\" se reportan los centros que ofrecen educación básica, que no cuentan con formación para el trabajo."]
["c) En \"Con FpT\" se reportan los CAM Básicos que además de la educación básica, cuentan con talleres de formación para el trabajo."]
["d) En \"CAM Laboral\" se reportan únicamente los centros dedicados a la formación laboral o para el trabajo."]
["e) Cuidar de no repetir los datos, pues entre lo reportado en CAM Básico, Con FpT y CAM Laboral, debe sumar la totalidad de los CAM en su entidad."]
["f) Si en su entidad cuenta con otro tipo de servicio no considerado en la tabla, reportar la cantidad en \"Otro\" y anotar su nombre en el apartado \"(especifique)\"."]

{"sheet":"Población total 2025","index":5,"n_rows":45,"n_cols":36,"rows_kept":45,"cut":false,"hidden":false,"merged":[[42,10,42,12],[43,10,43,12],[44,10,44,12],[36,10,36,12],[37,10,37,12],[38,10,38,12],[39,10,39,12],[40,10,40,12],[41,10,41,12],[17,29,17,31],[17,33,17,35],[21,31,22,33],[33,0,33,21],[34,13,34,15],[34,16,34,18],[34,19,34,21],[16,29,16,35],[8,19,8,21],[8,22,8,24],[8,25,8,27],[8,29,8,35],[9,29,9,31],[9,33,9,35],[12,29,12,35],[13,29,13,31],[13,33,13,35],[8,18,9,18],[0,0,4,4],[0,30,4,36],[5,0,5,36],[6,0,6,35],[7,0,9,0],[7,1,7,15],[7,16,7,18],[7,19,7,27],[8,1,8,3],[8,4,8,6],[8,7,8,9],[8,10,8,12],[8,13,8,15],[8,16,9,16],[8,17,9,17]]}
[null,null,null,null,null,null,null,null,null,null,null,null,null,null,null,null,null,null,null,null,null,null,null,null,null,null,null,null,null,null,"Subsecretaría de Educación Básica\nDirección General de Desarrollo Curricular\nDirección de Fortalecimiento Curricular para la \nFormación Personal y Social en la Educación Básica\nEducación Especial"]
[]
[]
[]
[]
["Información cuantitativa respecto a la población que atienden los servicios de educación especial, en su entidad, por sexo y tipo de condición:"]
["Población total atendida por los servicios de educación especial"]
["Condición","Población atendida por condición y por SEE",null,null,null,null,null,null,null,null,null,null,null,null,null,null,"Población total atendida",null,null,"De la población total reportada por condición, especifique si se trata de alguna de las siguientes poblaciones."]
[null,"USAER",null,null,"CAM básico",null,null,"CAM básico con FpT",null,null,"CAM laboral",null,null,"Otro",null,null,"M","H","TOTAL","Población indígena",null,null,"Población afrodescendiente",null,null,"Población migrante",null,null,null,"Estudiantes atendidos"]
[null,"M","H","TOTAL","M","H","TOTAL","M","H","TOTAL","M","H","TOTAL","M","H","TOTAL",null,null,null,"M","H","TOTAL","M","H","TOTAL","M","H","TOTAL",null,"CAPEP",null,null,null,"UAEBH"]
["Ceguera",6,12,{"$f":"SUM(B11:C11)","v":18},0,0,{"$f":"SUM(E11:F11)","v":0},9,8,{"$f":"SUM(H11:I11)","v":17},0,1,{"$f":"SUM(K11:L11)","v":1},0,0,{"$f":"SUM(N11:O11)","v":0},{"$f":"SUM(B11,E11,H11,K11,N11)","v":15},{"$f":"SUM(C11,F11,I11,L11,O11)","v":21},{"$f":"SUM(Q11,R11)","v":36},0,0,{"$f":"SUM(T11,U11)","v":0},0,0,{"$f":"SUM(W11,X11)","v":0},0,0,{"$f":"SUM(Z11,AA11)","v":0},null,"M","H","TOTAL",null,"M","H","TOTAL"]
["Baja Visión",29,59,{"$f":"SUM(B12:C12)","v":88},0,0,{"$f":"SUM(E12:F12)","v":0},2,3,{"$f":"SUM(H12:I12)","v":5},0,0,{"$f":"SUM(K12:L12)","v":0},0,0,{"$f":"SUM(N12:O12)","v":0},{"$f":"SUM(B12,E12,H12,K12,N12)","v":31},62,{"$f":"SUM(Q12,R12)","v":93},0,0,{"$f":"SUM(T12,U12)","v":0},0,0,{"$f":"SUM(W12,X12)","v":0},0,0,{"$f":"SUM(Z12,AA12)","v":0},null,0,0,{"$f":"SUM(AD12,AE12)","v":0},null,0,0,{"$f":"SUM(AH12,AI12)","v":0}]
["Sordera",9,11,20,0,0,0,6,4,10,2,0,2,0,0,0,17,15,32,0,0,0,0,0,0,0,0,0,null,"Personal docente y/o directivos atendidos"]
["Hipoacusia",53,55,108,0,0,0,6,6,12,0,0,0,0,0,0,59,61,120,0,0,0,0,0,0,0,0,0,null,"CRIE",null,null,null,"UOP"]
["Sordoceguera",0,0,0,0,0,0,0,0,0,0,0,0,0,0,0,0,0,0,0,0,0,0,0,0,0,0,0,null,"M","H","TOTAL",null,"M","H","TOTAL"]
["Motriz",67,100,167,0,0,0,33,58,91,0,4,4,0,0,0,100,162,262,0,0,0,0,0,0,0,0,0,null,0,0,{"$f":"SUM(AD16,AE16)","v":0},null,0,0,{"$f":"SUM(AH16,AI16)","v":0}]
["Intelectual",292,400,692,0,0,0,367,483,850,42,49,91,0,0,0,701,932,1633,0,0,0,0,0,0,0,0,0,null,"Familias y/o público en general atendidos"]
["Psicosocial",5,8,13,0,0,0,0,1,1,0,1,1,0,0,0,5,10,15,0,0,0,0,0,0,0,0,0,null,"CRIE",null,null,null,"UOP"]
["Espectro autista",98,524,622,0,0,0,55,177,232,1,8,9,0,0,0,154,709,863,0,0,0,0,0,0,0,0,0,null,"M","H","TOTAL",null,"M","H","TOTAL"]
["Múltiple",23,21,44,0,0,0,70,106,176,4,6,10,0,0,0,97,133,230,0,0,0,0,0,0,0,0,0,null,0,0,{"$f":"SUM(AD20,AE20)","v":0},null,0,0,{"$f":"SUM(AH20,AI20)","v":0}]
["TDA TDA-H",177,829,1006,0,0,0,2,12,14,0,6,6,0,0,0,179,847,1026,0,0,0,0,0,0,0,0,0]
["AS Intelectual",185,225,410,{"$f":"SUM(E11:E21)","v":0},{"$f":"SUM(F11:F21)","v":0},{"$f":"SUM(G11:G21)","v":0},550,858,1408,49,75,{"$f":"SUM(K22,L22)","v":124},60,105,165,{"$f":"SUM(B22,N22)","v":245},{"$f":"SUM(C22,O22)","v":330},575,0,0,0,0,0,0,0,0,0,null,null,null,"Total de estudiantes atendidos"]
["AS Creativa",227,221,448,null,null,null,null,null,null,null,null,null,0,0,0,{"$f":"SUM(B23,N23)","v":227},221,448,0,0,0,0,0,0,0,0,0]
["AS Artística",76,68,144,null,null,null,null,null,null,null,null,null,0,0,0,76,68,144,0,0,0,0,0,0,0,0,0,null,null,null,"M","H","Total"]
["AS Psicomotriz",18,41,59,null,null,null,null,null,null,null,null,null,0,0,0,18,41,59,0,0,0,0,0,0,0,0,0,null,null,null,{"$f":"SUM(Q27,AD12,AH12)","v":1961},{"$f":"SUM(R27,AE12,AI12)","v":3642},{"$f":"SUM(AF25,AG25)","v":5603}]
["AS Socioafectiva",37,30,67,null,null,null,null,null,null,null,null,null,0,0,0,37,30,67,0,0,0,0,0,0,0,0,0]
["Totales",{"$f":"SUM(B11:B26)","v":1302},{"$f":"SUM(C11:C26)","v":2604},{"$f":"SUM(B27,C27)","v":3906},null,null,null,null,null,null,null,null,null,{"$f":"SUM(N11:N26)","v":60},{"$f":"SUM(O11:O26)","v":105},165,{"$f":"SUM(B27,K22,H22,E22,N27)","v":1961},{"$f":"SUM(C27,F22,I22,L22,O27)","v":3642},{"$f":"SUM(Q27,R27)","v":5603},{"$f":"SUM(T11:T26)","v":0},{"$f":"SUM(U11:U26)","v":0},{"$f":"SUM(T27,U27)","v":0},{"$f":"SUM(W11:W26)","v":0},{"$f":"SUM(X11:X26)","v":0},{"$f":"SUM(W27,X27)","v":0},{"$f":"SUM(Z11:Z26)","v":0},{"$f":"SUM(AA11:AA26)","v":0},{"$f":"SUM(Z27,AA27)","v":0}]
[]
[]
["AS: Aptitudes sobresalientes",null,null,null,null,null,"TDA: Trastorno por Déficit de Atención"]
[null,null,null,null,null,null,"TDA-H: Trastorno por Déficit de Atención e Hiperactividad"]
[]
[]
["Personal total en los servicios de educación especial",null,null,null,null,null,null,null,null,null,null,null,null,null,null,null,null,null,null,null,null,null,null,"Personal docente: maestra(o) de grupo, docente de taller."]
[null,null,null,null,null,null,null,null,null,null,null,null,null,"Personal docente",null,null,"Personal paradocente",null,null,"Personal administrativo",null,null,null,"Personal paradocente: equipo de apoyo, niñera, médica (o), enfermera (o)."]
[null,null,null,null,null,null,null,null,null,null,null,null,null,"M","H","TOTAL","M","H","TOTAL","M","H","TOTAL",null,"Personal administrativo: secretaria (o), asistente, chofer, limpieza."]
[null,"M","H","TOTAL",null,null,null,null,null,null,"USAER",null,null,598,108,{"$f":"SUM(N37:O37)","v":706},245,30,{"$f":"SUM(Q37:R37)","v":275},79,25,{"$f":"SUM(T37:U37)","v":104}]
["Supervisores",12,3,{"$f":"SUM(B38:C38)","v":15},null,null,null,null,null,null,"CAM básico",null,null,0,0,{"$f":"SUM(N38:O38)","v":0},0,0,{"$f":"SUM(Q38:R38)","v":0},0,0,{"$f":"SUM(T38:U38)","v":0}]
["ATP",10,3,{"$f":"SUM(B39:C39)","v":13},null,null,null,null,null,null,"CAM básico con FpT",null,null,197,24,221,136,11,147,39,40,79]
["Directivas (os)",84,28,{"$f":"SUM(B40:C40)","v":112},null,null,null,null,null,null,"CAM laboral",null,null,14,7,21,5,1,6,5,5,10]
[null,null,null,null,null,null,null,null,null,null,"CAPEP",null,null,0,0,0,0,0,0,0,0,0]
[null,null,null,null,null,null,null,null,null,null,"CRIE",null,null,0,0,0,0,0,0,0,0,0]
[null,null,null,null,null,null,null,null,null,null,"UOP",null,null,0,0,0,0,0,0,0,0,0]
[null,null,null,null,null,null,null,null,null,null,"UAEBH",null,null,0,0,0,0,0,0,0,0,0]
[null,null,null,null,null,null,null,null,null,"Otro","Centro de Iniciación a la Ciencia y la Tecnología",null,null,1,0,1,0,0,0,0,1,1]

{"sheet":"Beneficiarios DIS 2025","index":6,"n_rows":76,"n_cols":36,"rows_kept":76,"cut":false,"hidden":false,"merged":[[55,29,55,31],[55,33,55,35],[70,0,71,27],[58,29,58,35],[59,29,59,31],[59,33,59,35],[62,29,62,35],[63,29,63,31],[63,33,63,35],[54,17,55,17],[67,31,68,33],[39,29,39,35],[40,29,40,31],[40,33,40,35],[44,31,45,33],[54,29,54,35],[47,0,48,27],[52,0,52,35],[53,0,55,0],[53,1,53,15],[53,16,53,18],[53,19,53,27],[54,1,54,3],[54,4,54,6],[54,7,54,9],[54,10,54,12],[54,13,54,15],[54,16,55,16],[54,18,55,18],[54,19,54,21],[54,22,54,24],[54,25,54,27],[35,29,35,35],[36,29,36,31],[36,33,36,35],[32,29,32,31],[32,33,32,35],[18,29,18,31],[18,33,18,35],[25,0,26,27],[22,31,23,33],[29,0,29,35],[30,0,32,0],[30,1,30,15],[30,16,30,18],[30,19,30,27],[31,1,31,3],[31,16,32,16],[31,18,32,18],[31,19,31,21],[31,22,31,24],[31,25,31,27],[31,17,32,17],[31,29,31,35],[31,4,31,6],[31,7,31,9],[31,10,31,12],[31,13,31,15],[17,29,17,35],[9,19,9,21],[9,22,9,24],[9,25,9,27],[9,29,9,35],[10,29,10,31],[10,33,10,35],[13,29,13,35],[14,29,14,31],[14,33,14,35],[0,0,4,4],[0,30,4,36],[5,0,5,36],[7,0,7,35],[8,0,10,0],[8,1,8,15],[8,16,8,18],[8,19,8,27],[9,1,9,3],[9,4,9,6],[9,7,9,9],[9,10,9,12],[9,13,9,15],[9,16,10,16],[9,17,10,17],[9,18,10,18]]}
[null,null,null,null,null,null,null,null,null,null,null,null,null,null,null,null,null,null,null,null,null,null,null,null,null,null,null,null,null,null,"Subsecretaría de Educación Básica\nDirección General de Desarrollo Curricular\nDirección de Fortalecimiento Curricular para la \nFormación Personal y Social en la Educación Básica\nEducación Especial"]
[]
[]
[]
[]
["Información cuantitativa respecto a la población con discapacidad que atienden los servicios de educación especial focalizados, en su entidad, por sexo y tipo de condición:"]
[]
["Población con discapacidad atendida por los servicios de educación especial focalizados en el componente 1 para beneficiar en 2025"]
["Condición","Beneficiarias/os por condición y por SEE",null,null,null,null,null,null,null,null,null,null,null,null,null,null,"Población total beneficiaria",null,null,"De la población total reportada por condición, especifique si se trata de alguna de las siguientes poblaciones."]
[null,"USAER",null,null,"CAM básico",null,null,"CAM básico con FpT",null,null,"CAM laboral",null,null,"Otro",null,null,"M","H","TOTAL","Población indígena",null,null,"Población afrodescendiente",null,null,"Población migrante",null,null,null,"Estudiantes focalizados discapacidad"]
[null,"M","H","TOTAL","M","H","TOTAL","M","H","TOTAL","M","H","TOTAL","M","H","TOTAL",null,null,null,"M","H","TOTAL","M","H","TOTAL","M","H","TOTAL",null,"CAPEP",null,null,null,"UAEBH"]
["Ceguera",6,12,{"$f":"SUM(B12:C12)","v":18},0,0,{"$f":"SUM(E12:F12)","v":0},9,8,{"$f":"SUM(H12:I12)","v":17},0,1,{"$f":"SUM(K12:L12)","v":1},0,0,{"$f":"SUM(N12:O12)","v":0},{"$f":"SUM(B12,E12,H12,K12,N12)","v":15},{"$f":"SUM(C12,F12,I12,L12,O12)","v":21},{"$f":"SUM(Q12,R12)","v":36},0,0,{"$f":"SUM(T12,U12)","v":0},0,0,{"$f":"SUM(W12,X12)","v":0},0,0,{"$f":"SUM(Z12,AA12)","v":0},null,"M","H","TOTAL",null,"M","H","TOTAL"]
["Baja Visión",29,59,{"$f":"SUM(B13:C13)","v":88},0,0,{"$f":"SUM(E13:F13)","v":0},2,3,{"$f":"SUM(H13:I13)","v":5},0,0,{"$f":"SUM(K13:L13)","v":0},0,0,{"$f":"SUM(N13:O13)","v":0},{"$f":"SUM(B13,E13,H13,K13,N13)","v":31},62,93,0,0,{"$f":"SUM(T13,U13)","v":0},0,0,{"$f":"SUM(W13,X13)","v":0},0,0,{"$f":"SUM(Z13,AA13)","v":0},null,0,0,{"$f":"SUM(AD13,AE13)","v":0},null,0,0,{"$f":"SUM(AH13,AI13)","v":0}]
["Sordera",9,11,20,0,0,0,6,4,10,2,0,2,0,0,0,17,15,32,0,0,0,0,0,0,0,0,0,null,"Personal docente y/o directivos focalizados"]
["Hipoacusia",53,55,108,0,0,0,6,6,12,0,0,0,0,0,0,59,61,120,0,0,0,0,0,0,0,0,0,null,"CRIE",null,null,null,"UOP"]
["Sordoceguera",0,0,0,0,0,0,0,0,0,0,0,0,0,0,0,0,0,0,0,0,0,0,0,0,0,0,0,null,"M","H","TOTAL",null,"M","H","TOTAL"]
["Motriz",67,100,167,0,0,0,33,58,91,0,4,4,0,0,0,100,162,262,0,0,0,0,0,0,0,0,0,null,0,0,{"$f":"SUM(AD17,AE17)","v":0},null,0,0,{"$f":"SUM(AH17,AI17)","v":0}]
["Intelectual",292,400,692,0,0,0,367,483,850,42,49,91,0,0,0,701,932,1633,0,0,0,0,0,0,0,0,0,null,"Familias y/o público en general focalizados"]
["Psicosocial",5,8,13,0,0,0,0,1,1,0,1,1,0,0,0,5,10,15,0,0,0,0,0,0,0,0,0,null,"CRIE",null,null,null,"UOP"]
["Espectro autista",98,524,622,0,0,0,55,177,232,1,8,9,0,0,0,154,709,863,0,0,0,0,0,0,0,0,0,null,"M","H","TOTAL",null,"M","H","TOTAL"]
["Múltiple",23,21,44,0,0,0,70,106,176,4,6,10,0,0,0,97,133,230,0,0,0,0,0,0,0,0,0,null,0,0,{"$f":"SUM(AD21,AE21)","v":0},null,0,0,{"$f":"SUM(AH21,AI21)","v":0}]
["TDA TDA-H",177,829,1006,0,0,0,2,12,14,0,6,6,0,0,0,179,847,1026,0,0,0,0,0,0,0,0,0]
["Totales",{"$f":"SUM(B12:B22)","v":759},{"$f":"SUM(C12:C22)","v":2019},{"$f":"SUM(B23:C23)","v":2778},{"$f":"SUM(E12:E22)","v":0},{"$f":"SUM(F12:F22)","v":0},{"$f":"SUM(E23,F23)","v":0},{"$f":"SUM(H12:H22)","v":550},{"$f":"SUM(I12:I22)","v":858},{"$f":"SUM(H23,I23)","v":1408},{"$f":"SUM(K12:K22)","v":49},{"$f":"SUM(L12:L22)","v":75},{"$f":"SUM(K23:L23)","v":124},{"$f":"SUM(N12:N22)","v":0},{"$f":"SUM(O12:O22)","v":0},{"$f":"SUM(N23:O23)","v":0},{"$f":"SUM(B23,E23,H23,K23,N23)","v":1358},{"$f":"SUM(C23,F23,I23,L23,O23)","v":2952},4310,{"$f":"SUM(T12:T22)","v":0},{"$f":"SUM(U12:U22)","v":0},0,{"$f":"SUM(W12:W22)","v":0},{"$f":"SUM(X12:X22)","v":0},0,{"$f":"SUM(Z12:Z22)","v":0},{"$f":"SUM(AA12:AA22)","v":0},0,null,null,null,"Total de estudiantes con discapacidad focalizados"]
[]
[null,null,null,null,null,null,null,null,null,null,null,null,null,null,null,null,null,null,null,null,null,null,null,null,null,null,null,null,null,null,null,"M","H","Total"]
["Verificar que la población reportada en CAPEP, CRIE, UOP y UAEBH con discapacidad, al sumarla con la reportada en AS sea correspondiente con lo registrado en la pestaña de Población total.",null,null,null,null,null,null,null,null,null,null,null,null,null,null,null,null,null,null,null,null,null,null,null,null,null,null,null,null,null,null,{"$f":"SUM(Q23,AD13,AH13)","v":1358},{"$f":"SUM(R23,AE13,AI13)","v":2952},{"$f":"SUM(AF26:AG26)","v":4310}]
[]
[]
[]
["Población con discapacidad atendida por los servicios de educación especial focalizados en el componente 2 para beneficiar en 2025"]
["Condición","Beneficiarias/os por condición y por SEE",null,null,null,null,null,null,null,null,null,null,null,null,null,null,"Población total beneficiaria",null,null,"De la población total reportada por condición, especifique si se trata de alguna de las siguientes poblaciones."]
[null,"USAER",null,null,"CAM básico",null,null,"CAM básico con FpT",null,null,"CAM laboral",null,null,"Otro",null,null,"M","H","TOTAL","Población indígena",null,null,"Población afrodescendiente",null,null,"Población migrante",null,null,null,"Estudiantes focalizados discapacidad"]
[null,"M","H","TOTAL","M","H","TOTAL","M","H","TOTAL","M","H","TOTAL","M","H","TOTAL",null,null,null,"M","H","TOTAL","M","H","TOTAL","M","H","TOTAL",null,"CAPEP",null,null,null,"UAEBH"]
["Ceguera",1,5,{"$f":"SUM(B34:C34)","v":6},0,0,{"$f":"SUM(E34:F34)","v":0},9,8,{"$f":"SUM(H34:I34)","v":17},0,1,{"$f":"SUM(K34:L34)","v":1},0,0,{"$f":"SUM(N34:O34)","v":0},{"$f":"SUM(B34,E34,H34,K34,N34)","v":10},{"$f":"SUM(C34,F34,I34,L34,O34)","v":14},{"$f":"SUM(Q34,R34)","v":24},0,0,{"$f":"SUM(T34,U34)","v":0},0,0,{"$f":"SUM(W34,X34)","v":0},0,0,{"$f":"SUM(Z34,AA34)","v":0},null,"M","H","TOTAL",null,"M","H","TOTAL"]
["Baja Visión",7,7,{"$f":"SUM(B35:C35)","v":14},0,0,{"$f":"SUM(E35:F35)","v":0},2,3,{"$f":"SUM(H35:I35)","v":5},0,0,{"$f":"SUM(K35:L35)","v":0},0,0,{"$f":"SUM(N35:O35)","v":0},{"$f":"SUM(B35,E35,H35,K35,N35)","v":9},10,19,0,0,{"$f":"SUM(T35,U35)","v":0},0,0,{"$f":"SUM(W35,X35)","v":0},0,0,{"$f":"SUM(Z35,AA35)","v":0},null,0,0,{"$f":"SUM(AD35,AE35)","v":0},null,0,0,{"$f":"SUM(AH35,AI35)","v":0}]
["Sordera",4,4,8,0,0,0,6,4,10,0,0,0,0,0,0,10,8,18,0,0,0,0,0,0,0,0,0,null,"Personal docente y/o directivos focalizados"]
["Hipoacusia",15,14,29,0,0,0,6,6,12,0,0,0,0,0,0,21,20,41,0,0,0,0,0,0,0,0,0,null,"CRIE",null,null,null,"UOP"]
["Sordoceguera",0,0,0,0,0,0,0,0,0,0,0,0,0,0,0,0,0,0,0,0,0,0,0,0,0,0,0,null,"M","H","TOTAL",null,"M","H","TOTAL"]
["Motriz",19,31,50,0,0,0,33,58,91,0,1,1,0,0,0,52,90,142,0,0,0,0,0,0,0,0,0,null,0,0,{"$f":"SUM(AD39,AE39)","v":0},null,0,0,{"$f":"SUM(AH39,AI39)","v":0}]
["Intelectual",92,140,232,0,0,0,367,483,850,28,24,52,0,0,0,487,647,1134,0,0,0,0,0,0,0,0,0,null,"Familias y/o público en general focalizados"]
["Psicosocial",2,5,7,0,0,0,0,1,1,0,1,1,0,0,0,2,7,9,0,0,0,0,0,0,0,0,0,null,"CRIE",null,null,null,"UOP"]
["Espectro autista",18,138,156,0,0,0,55,177,232,0,6,6,0,0,0,73,321,394,0,0,0,0,0,0,0,0,0,null,"M","H","TOTAL",null,"M","H","TOTAL"]
["Múltiple",8,4,12,0,0,0,70,106,176,0,0,0,0,0,0,78,110,188,0,0,0,0,0,0,0,0,0,null,0,0,{"$f":"SUM(AD43,AE43)","v":0},null,0,0,{"$f":"SUM(AH43,AI43)","v":0}]
["TDA TDA-H",41,206,247,0,0,0,2,12,14,0,6,6,0,0,0,43,224,267,0,0,0,0,0,0,0,0,0]
["Totales",{"$f":"SUM(B34:B44)","v":207},{"$f":"SUM(C34:C44)","v":554},{"$f":"SUM(B45:C45)","v":761},{"$f":"SUM(E34:E44)","v":0},{"$f":"SUM(F34:F44)","v":0},{"$f":"SUM(E45,F45)","v":0},{"$f":"SUM(H34:H44)","v":550},{"$f":"SUM(I34:I44)","v":858},{"$f":"SUM(H45,I45)","v":1408},{"$f":"SUM(K34:K44)","v":28},{"$f":"SUM(L34:L44)","v":39},{"$f":"SUM(K45:L45)","v":67},{"$f":"SUM(N34:N44)","v":0},{"$f":"SUM(O34:O44)","v":0},{"$f":"SUM(N45:O45)","v":0},{"$f":"SUM(B45,E45,H45,K45,N45)","v":785},{"$f":"SUM(C45,F45,I45,L45,O45)","v":1451},2236,{"$f":"SUM(T34:T44)","v":0},{"$f":"SUM(U34:U44)","v":0},0,{"$f":"SUM(W34:W44)","v":0},{"$f":"SUM(X34:X44)","v":0},0,{"$f":"SUM(Z34:Z44)","v":0},{"$f":"SUM(AA34:AA44)","v":0},0,null,null,null,"Total de estudiantes con discapacidad focalizados"]
[]
[null,null,null,null,null,null,null,null,null,null,null,null,null,null,null,null,null,null,null,null,null,null,null,null,null,null,null,null,null,null,null,"M","H","Total"]
["Verificar que la población reportada en CAPEP, CRIE, UOP y UAEBH con discapacidad, al sumarla con la reportada en AS sea correspondiente con lo registrado en la pestaña de Población total.",null,null,null,null,null,null,null,null,null,null,null,null,null,null,null,null,null,null,null,null,null,null,null,null,null,null,null,null,null,null,{"$f":"SUM(Q45,AD35,AH35)","v":785},{"$f":"SUM(R45,AE35,AI35)","v":1451},{"$f":"SUM(AF48:AG48)","v":2236}]
[]
[]
[]
[]
["Población con discapacidad atendida por los servicios de educación especial focalizados en el componente 3 para beneficiar en 2025"]
["Condición","Beneficiarias/os por condición y por SEE",null,null,null,null,null,null,null,null,null,null,null,null,null,null,"Población total beneficiaria",null,null,"De la población total reportada por condición, especifique si se trata de alguna de las siguientes poblaciones."]
[null,"USAER",null,null,"CAM básico",null,null,"CAM básico con FpT",null,null,"CAM laboral",null,null,"Otro",null,null,"M","H","TOTAL","Población indígena",null,null,"Población afrodescendiente",null,null,"Población migrante",null,null,null,"Estudiantes focalizados discapacidad"]
[null,"M","H","TOTAL","M","H","TOTAL","M","H","TOTAL","M","H","TOTAL","M","H","TOTAL",null,null,null,"M","H","TOTAL","M","H","TOTAL","M","H","TOTAL",null,"CAPEP",null,null,null,"UAEBH"]
["Ceguera",6,12,{"$f":"SUM(B57:C57)","v":18},0,0,{"$f":"SUM(E57:F57)","v":0},9,8,{"$f":"SUM(H57:I57)","v":17},0,1,{"$f":"SUM(K57:L57)","v":1},0,0,{"$f":"SUM(N57:O57)","v":0},{"$f":"SUM(B57,E57,H57,K57,N57)","v":15},{"$f":"SUM(C57,F57,I57,L57,O57)","v":21},{"$f":"SUM(Q57,R57)","v":36},0,0,{"$f":"SUM(T57,U57)","v":0},0,0,{"$f":"SUM(W57,X57)","v":0},0,0,{"$f":"SUM(Z57,AA57)","v":0},null,"M","H","TOTAL",null,"M","H","TOTAL"]
["Baja Visión",29,59,{"$f":"SUM(B58:C58)","v":88},0,0,{"$f":"SUM(E58:F58)","v":0},2,3,{"$f":"SUM(H58:I58)","v":5},0,0,{"$f":"SUM(K58:L58)","v":0},0,0,{"$f":"SUM(N58:O58)","v":0},{"$f":"SUM(B58,E58,H58,K58,N58)","v":31},62,93,0,0,{"$f":"SUM(T58,U58)","v":0},0,0,{"$f":"SUM(W58,X58)","v":0},0,0,{"$f":"SUM(Z58,AA58)","v":0},null,0,0,{"$f":"SUM(AD58,AE58)","v":0},null,0,0,{"$f":"SUM(AH58,AI58)","v":0}]
["Sordera",9,11,20,0,0,0,6,4,10,2,0,2,0,0,0,17,15,32,0,0,0,0,0,0,0,0,0,null,"Personal docente y/o directivos focalizados"]
["Hipoacusia",53,55,108,0,0,0,6,6,12,0,0,0,0,0,0,59,61,120,0,0,0,0,0,0,0,0,0,null,"CRIE",null,null,null,"UOP"]
["Sordoceguera",0,0,0,0,0,0,0,0,0,0,0,0,0,0,0,0,0,0,0,0,0,0,0,0,0,0,0,null,"M","H","TOTAL",null,"M","H","TOTAL"]
["Motriz",67,100,167,0,0,0,33,58,91,0,4,4,0,0,0,100,162,262,0,0,0,0,0,0,0,0,0,null,0,0,{"$f":"SUM(AD62,AE62)","v":0},null,0,0,{"$f":"SUM(AH62,AI62)","v":0}]
["Intelectual",292,400,692,0,0,0,367,483,850,42,49,91,0,0,0,701,932,1633,0,0,0,0,0,0,0,0,0,null,"Familias y/o público en general focalizados"]
["Psicosocial",5,8,13,0,0,0,0,1,1,0,1,1,0,0,0,5,10,15,0,0,0,0,0,0,0,0,0,null,"CRIE",null,null,null,"UOP"]
["Espectro autista",98,524,622,0,0,0,55,177,232,1,8,9,0,0,0,154,709,863,0,0,0,0,0,0,0,0,0,null,"M","H","TOTAL",null,"M","H","TOTAL"]
["Múltiple",23,21,44,0,0,0,70,106,176,4,6,10,0,0,0,97,133,230,0,0,0,0,0,0,0,0,0,null,0,0,{"$f":"SUM(AD66,AE66)","v":0},null,0,0,{"$f":"SUM(AH66,AI66)","v":0}]
["TDA TDA-H",177,829,1006,0,0,0,2,12,14,0,6,6,0,0,0,179,847,1026,0,0,0,0,0,0,0,0,0]
["Totales",{"$f":"SUM(B57:B67)","v":759},{"$f":"SUM(C57:C67)","v":2019},{"$f":"SUM(B68:C68)","v":2778},{"$f":"SUM(E57:E67)","v":0},{"$f":"SUM(F57:F67)","v":0},{"$f":"SUM(E68,F68)","v":0},{"$f":"SUM(H57:H67)","v":550},{"$f":"SUM(I57:I67)","v":858},{"$f":"SUM(H68,I68)","v":1408},{"$f":"SUM(K57:K67)","v":49},{"$f":"SUM(L57:L67)","v":75},{"$f":"SUM(K68:L68)","v":124},{"$f":"SUM(N57:N67)","v":0},{"$f":"SUM(O57:O67)","v":0},{"$f":"SUM(N68:O68)","v":0},{"$f":"SUM(B68,E68,H68,K68,N68)","v":1358},{"$f":"SUM(C68,F68,I68,L68,O68)","v":2952},4310,{"$f":"SUM(T57:T67)","v":0},{"$f":"SUM(U57:U67)","v":0},0,{"$f":"SUM(W57:W67)","v":0},{"$f":"SUM(X57:X67)","v":0},0,{"$f":"SUM(Z57:Z67)","v":0},{"$f":"SUM(AA57:AA67)","v":0},0,null,null,null,"Total de estudiantes con discapacidad focalizados"]
[]
[null,null,null,null,null,null,null,null,null,null,null,null,null,null,null,null,null,null,null,null,null,null,null,null,null,null,null,null,null,null,null,"M","H","Total"]
["Verificar que la población reportada en CAPEP, CRIE, UOP y UAEBH con discapacidad, al sumarla con la reportada en AS sea correspondiente con lo registrado en la pestaña de Población total.",null,null,null,null,null,null,null,null,null,null,null,null,null,null,null,null,null,null,null,null,null,null,null,null,null,null,null,null,null,null,{"$f":"SUM(Q68,AD58,AH58)","v":1358},{"$f":"SUM(R68,AE58,AI58)","v":2952},{"$f":"SUM(AF71:AG71)","v":4310}]
[]
[]
[]
["TDA: Trastorno por Déficit de Atención"]
["TDA-H: Trastorno por Déficit de Atención e Hiperactividad"]

{"sheet":"Beneficiarios AS 2025 ","index":7,"n_rows":68,"n_cols":27,"rows_kept":68,"cut":false,"hidden":false,"merged":[[51,20,51,26],[52,20,52,22],[52,24,52,26],[55,20,55,26],[56,20,56,22],[56,24,56,26],[49,10,49,12],[49,13,49,15],[49,16,49,18],[62,15,63,17],[59,0,60,18],[35,20,35,26],[42,15,43,17],[48,0,50,0],[48,1,48,6],[48,7,48,9],[48,10,48,18],[49,1,49,3],[49,4,49,6],[36,20,36,22],[36,24,36,26],[47,20,47,26],[48,20,48,22],[48,24,48,26],[49,7,50,7],[49,8,50,8],[49,9,50,9],[27,20,27,26],[28,20,28,22],[28,24,28,26],[31,20,31,26],[32,20,32,22],[32,24,32,26],[39,0,40,18],[29,9,30,9],[29,10,29,12],[29,13,29,15],[29,16,29,18],[22,15,23,17],[28,0,30,0],[28,1,28,6],[28,7,28,9],[28,10,28,18],[29,1,29,3],[29,4,29,6],[29,7,30,7],[29,8,30,8],[13,20,13,22],[13,24,13,26],[19,0,20,18],[16,20,16,26],[17,20,17,22],[17,24,17,26],[12,20,12,26],[9,7,10,7],[9,8,10,8],[9,9,10,9],[9,10,9,12],[9,13,9,15],[9,16,9,18],[9,20,9,22],[9,24,9,26],[0,0,4,0],[0,21,4,27],[5,0,5,27],[7,0,7,26],[8,0,10,0],[8,1,8,6],[8,7,8,9],[8,10,8,18],[9,1,9,3],[9,4,9,6],[8,20,8,26]]}
[null,null,null,null,null,null,null,null,null,null,null,null,null,null,null,null,null,null,null,null,null,"Subsecretaría de Educación Básica\nDirección General de Desarrollo Curricular\nDirección de Fortalecimiento Curricular para la \nFormación Personal y Social en la Educación Básica\nEducación Especial"]
[]
[]
[]
[]
["Información cuantitativa respecto a la población con aptitudes sobresalientes que atienden los servicios de educación especial focalizados, en su entidad, por sexo y tipo de condición:"]
[]
["Población con aptitudes sobresalientes atendida por los servicios de educación especial focalizados en el componente 1 para beneficiar en 2025"]
["Condición","Beneficiarias/os por condición y por SEE",null,null,null,null,null,"Población total beneficiaria",null,null,"De la población total reportada por condición, especifique si se trata de alguna de las siguientes poblaciones.",null,null,null,null,null,null,null,null,null,"Estudiantes focalizados aptitudes sobresalientes"]
[null,"USAER",null,null,"Otro",null,null,"M","H","TOTAL","Población indígena",null,null,"Población afrodescendiente",null,null,"Población migrante",null,null,null,"CAPEP",null,null,null,"UAEBH"]
[null,"M","H","TOTAL","M","H","TOTAL",null,null,null,"M","H","TOTAL","M","H","TOTAL","M","H","TOTAL",null,"M","H","TOTAL",null,"M","H","TOTAL"]
["AS Intelectual",185,225,{"$f":"SUM(B12:C12)","v":410},60,105,{"$f":"SUM(E12:F12)","v":165},{"$f":"SUM(B12,E12)","v":245},{"$f":"SUM(C12,F12)","v":330},{"$f":"SUM(H12:I12)","v":575},0,0,{"$f":"SUM(K12:L12)","v":0},0,0,{"$f":"SUM(N12:O12)","v":0},0,0,{"$f":"SUM(Q12:R12)","v":0},null,0,0,{"$f":"SUM(U12,V12)","v":0},null,0,0,{"$f":"SUM(Y12,Z12)","v":0}]
["AS Creativa",227,221,448,0,0,0,{"$f":"SUM(B13,E13)","v":227},221,448,0,0,0,0,0,0,0,0,0,null,"Personal docente y/o directivos focalizados"]
["AS Artística",76,68,144,0,0,0,76,68,144,0,0,0,0,0,0,0,0,0,null,"CRIE",null,null,null,"UOP"]
["AS Psicomotriz",18,41,59,0,0,0,18,41,59,0,0,0,0,0,0,0,0,0,null,"M","H","TOTAL",null,"M","H","TOTAL"]
["AS Socioafectiva",37,30,67,0,0,0,37,30,67,0,0,0,0,0,0,0,0,0,null,0,0,{"$f":"SUM(U16,V16)","v":0},null,0,0,{"$f":"SUM(Y16,Z16)","v":0}]
["Totales",{"$f":"SUM(B12:B16)","v":543},{"$f":"SUM(C12:C16)","v":585},1128,{"$f":"SUM(E12:E16)","v":60},{"$f":"SUM(F12:F16)","v":105},165,{"$f":"SUM(H12:H16)","v":603},{"$f":"SUM(I12:I16)","v":690},1293,{"$f":"SUM(K12:K16)","v":0},{"$f":"SUM(L12:L16)","v":0},0,{"$f":"SUM(N12:N16)","v":0},{"$f":"SUM(O12:O16)","v":0},0,{"$f":"SUM(Q12:Q16)","v":0},{"$f":"SUM(R12:R16)","v":0},0,null,"Familias y/o público en general focalizados"]
[null,null,null,null,null,null,null,null,null,null,null,null,null,null,null,null,null,null,null,null,"CRIE",null,null,null,"UOP"]
[null,null,null,null,null,null,null,null,null,null,null,null,null,null,null,null,null,null,null,null,"M","H","TOTAL",null,"M","H","TOTAL"]
["Verificar que la población reportada en CAPEP, CRIE, UOP y UAEBH con discapacidad, al sumarla con la reportada en AS sea correspondiente con lo registrado en la pestaña de Población total.",null,null,null,null,null,null,null,null,null,null,null,null,null,null,null,null,null,null,null,0,0,{"$f":"SUM(U20,V20)","v":0},null,0,0,{"$f":"SUM(Y20,Z20)","v":0}]
[]
[]
[null,null,null,null,null,null,null,null,null,null,null,null,null,null,null,"Total de estudiantes con aptitudes sobresalientes focalizados"]
[]
[null,null,null,null,null,null,null,null,null,null,null,null,null,null,null,"M","H","Total"]
[null,null,null,null,null,null,null,null,null,null,null,null,null,null,null,{"$f":"SUM(H17,U12,Y12)","v":603},{"$f":"SUM(I17,V12,Z12)","v":690},{"$f":"SUM(P26:Q26)","v":1293}]
[]
["Población con aptitudes sobresalientes atendida por los servicios de educación especial focalizados en el componente 2 para beneficiar en 2025",null,null,null,null,null,null,null,null,null,null,null,null,null,null,null,null,null,null,null,"Estudiantes focalizados aptitudes sobresalientes"]
["Condición","Beneficiarias/os por condición y por SEE",null,null,null,null,null,"Población total beneficiaria",null,null,"De la población total reportada por condición, especifique si se trata de alguna de las siguientes poblaciones.",null,null,null,null,null,null,null,null,null,"CAPEP",null,null,null,"UAEBH"]
[null,"USAER",null,null,"Otro",null,null,"M","H","TOTAL","Población indígena",null,null,"Población afrodescendiente",null,null,"Población migrante",null,null,null,"M","H","TOTAL",null,"M","H","TOTAL"]
[null,"M","H","TOTAL","M","H","TOTAL",null,null,null,"M","H","TOTAL","M","H","TOTAL","M","H","TOTAL",null,0,0,{"$f":"SUM(U31,V31)","v":0},null,0,0,{"$f":"SUM(Y31,Z31)","v":0}]
["AS Intelectual",185,225,{"$f":"SUM(B32:C32)","v":410},0,0,{"$f":"SUM(E32:F32)","v":0},{"$f":"SUM(B32,E32)","v":185},{"$f":"SUM(C32,F32)","v":225},{"$f":"SUM(H32:I32)","v":410},0,0,{"$f":"SUM(K32:L32)","v":0},0,0,{"$f":"SUM(N32:O32)","v":0},0,0,{"$f":"SUM(Q32:R32)","v":0},null,"Personal docente y/o directivos focalizados"]
["AS Creativa",227,221,448,0,0,0,{"$f":"SUM(B33,E33)","v":227},221,448,0,0,0,0,0,0,0,0,0,null,"CRIE",null,null,null,"UOP"]
["AS Artística",76,68,144,0,0,0,76,68,144,0,0,0,0,0,0,0,0,0,null,"M","H","TOTAL",null,"M","H","TOTAL"]
["AS Psicomotriz",18,41,59,0,0,0,18,41,59,0,0,0,0,0,0,0,0,0,null,0,0,{"$f":"SUM(U35,V35)","v":0},null,0,0,{"$f":"SUM(Y35,Z35)","v":0}]
["AS Socioafectiva",37,30,67,0,0,0,37,30,67,0,0,0,0,0,0,0,0,0,null,"Familias y/o público en general focalizados"]
["Totales",{"$f":"SUM(B32:B36)","v":543},{"$f":"SUM(C32:C36)","v":585},1128,{"$f":"SUM(E32:E36)","v":0},{"$f":"SUM(F32:F36)","v":0},0,{"$f":"SUM(H32:H36)","v":543},{"$f":"SUM(I32:I36)","v":585},{"$f":"SUM(H37:I37)","v":1128},{"$f":"SUM(K32:K36)","v":0},{"$f":"SUM(L32:L36)","v":0},0,{"$f":"SUM(N32:N36)","v":0},{"$f":"SUM(O32:O36)","v":0},0,{"$f":"SUM(Q32:Q36)","v":0},{"$f":"SUM(R32:R36)","v":0},0,null,"CRIE",null,null,null,"UOP"]
[null,null,null,null,null,null,null,null,null,null,null,null,null,null,null,null,null,null,null,null,"M","H","TOTAL",null,"M","H","TOTAL"]
[null,null,null,null,null,null,null,null,null,null,null,null,null,null,null,null,null,null,null,null,0,0,{"$f":"SUM(U39,V39)","v":0},null,0,0,{"$f":"SUM(Y39,Z39)","v":0}]
["Verificar que la población reportada en CAPEP, CRIE, UOP y UAEBH con discapacidad, al sumarla con la reportada en AS sea correspondiente con lo registrado en la pestaña de Población total."]
[]
[]
[null,null,null,null,null,null,null,null,null,null,null,null,null,null,null,"Total de estudiantes con aptitudes sobresalientes focalizados"]
[]
[null,null,null,null,null,null,null,null,null,null,null,null,null,null,null,"M","H","Total"]
[null,null,null,null,null,null,null,null,null,null,null,null,null,null,null,{"$f":"SUM(H37,U32,Y32)","v":543},{"$f":"SUM(I37,V32,Z32)","v":585},{"$f":"SUM(P46:Q46)","v":1128}]
[]
["Población con aptitudes sobresalientes atendida por los servicios de educación especial focalizados en el componente 3 para beneficiar en 2025",null,null,null,null,null,null,null,null,null,null,null,null,null,null,null,null,null,null,null,"Estudiantes focalizados aptitudes sobresalientes"]
["Condición","Beneficiarias/os por condición y por SEE",null,null,null,null,null,"Población total beneficiaria",null,null,"De la población total reportada por condición, especifique si se trata de alguna de las siguientes poblaciones.",null,null,null,null,null,null,null,null,null,"CAPEP",null,null,null,"UAEBH"]
[null,"USAER",null,null,"Otro",null,null,"M","H","TOTAL","Población indígena",null,null,"Población afrodescendiente",null,null,"Población migrante",null,null,null,"M","H","TOTAL",null,"M","H","TOTAL"]
[null,"M","H","TOTAL","M","H","TOTAL",null,null,null,"M","H","TOTAL","M","H","TOTAL","M","H","TOTAL",null,0,0,{"$f":"SUM(U51,V51)","v":0},null,0,0,{"$f":"SUM(Y51,Z51)","v":0}]
["AS Intelectual",185,225,{"$f":"SUM(B52:C52)","v":410},60,105,{"$f":"SUM(E52:F52)","v":165},{"$f":"SUM(B52,E52)","v":245},{"$f":"SUM(C52,F52)","v":330},{"$f":"SUM(H52:I52)","v":575},0,0,{"$f":"SUM(K52:L52)","v":0},0,0,{"$f":"SUM(N52:O52)","v":0},0,0,{"$f":"SUM(Q52:R52)","v":0},null,"Personal docente y/o directivos focalizados"]
["AS Creativa",227,221,448,0,0,0,{"$f":"SUM(B53,E53)","v":227},221,448,0,0,0,0,0,0,0,0,0,null,"CRIE",null,null,null,"UOP"]
["AS Artística",76,68,144,0,0,0,76,68,144,0,0,0,0,0,0,0,0,0,null,"M","H","TOTAL",null,"M","H","TOTAL"]
["AS Psicomotriz",18,41,59,0,0,0,18,41,59,0,0,0,0,0,0,0,0,0,null,0,0,{"$f":"SUM(U55,V55)","v":0},null,0,0,{"$f":"SUM(Y55,Z55)","v":0}]
["AS Socioafectiva",37,30,67,0,0,0,37,30,67,0,0,0,0,0,0,0,0,0,null,"Familias y/o público en general focalizados"]
["Totales",{"$f":"SUM(B52:B56)","v":543},{"$f":"SUM(C52:C56)","v":585},1128,{"$f":"SUM(E52:E56)","v":60},{"$f":"SUM(F52:F56)","v":105},165,{"$f":"SUM(H52:H56)","v":603},{"$f":"SUM(I52:I56)","v":690},{"$f":"SUM(H57:I57)","v":1293},{"$f":"SUM(K52:K56)","v":0},{"$f":"SUM(L52:L56)","v":0},0,{"$f":"SUM(N52:N56)","v":0},{"$f":"SUM(O52:O56)","v":0},0,{"$f":"SUM(Q52:Q56)","v":0},{"$f":"SUM(R52:R56)","v":0},0,null,"CRIE",null,null,null,"UOP"]
[null,null,null,null,null,null,null,null,null,null,null,null,null,null,null,null,null,null,null,null,"M","H","TOTAL",null,"M","H","TOTAL"]
[null,null,null,null,null,null,null,null,null,null,null,null,null,null,null,null,null,null,null,null,0,0,{"$f":"SUM(U59,V59)","v":0},null,0,0,{"$f":"SUM(Y59,Z59)","v":0}]
["Verificar que la población reportada en CAPEP, CRIE, UOP y UAEBH con discapacidad, al sumarla con la reportada en AS sea correspondiente con lo registrado en la pestaña de Población total."]
[]
[]
[null,null,null,null,null,null,null,null,null,null,null,null,null,null,null,"Total de estudiantes con aptitudes sobresalientes focalizados"]
[]
[null,null,null,null,null,null,null,null,null,null,null,null,null,null,null,"M","H","Total"]
[null,null,null,null,null,null,null,null,null,null,null,null,null,null,null,{"$f":"SUM(H57,U52,Y52)","v":603},{"$f":"SUM(I57,V52,Z52)","v":690},{"$f":"SUM(P66:Q66)","v":1293}]
[]
["AS: Aptitudes sobresalientes"]

{"sheet":"Acciones académicas DIS 2025","index":8,"n_rows":434,"n_cols":32,"rows_kept":434,"cut":false,"hidden":false,"merged":[[429,31,437,33],[431,1,431,2],[433,1,433,29],[434,1,438,29],[429,4,429,5],[429,7,429,8],[429,10,429,11],[429,13,429,14],[429,16,429,17],[429,19,429,20],[428,15,428,17],[428,18,428,20],[428,21,428,23],[428,24,428,26],[428,27,428,29],[428,31,428,33],[427,12,427,13],[427,14,427,18],[427,19,427,21],[427,22,427,27],[427,28,427,33],[428,1,430,2],[428,3,428,5],[428,6,428,8],[428,9,428,11],[428,12,428,14],[429,22,429,23],[429,25,429,26],[429,28,429,29],[426,1,426,2],[426,3,426,5],[427,1,427,2],[427,3,427,5],[427,6,427,7],[427,8,427,11],[415,22,415,23],[415,25,415,26],[415,28,415,29],[415,31,423,33],[417,1,417,2],[419,1,419,29],[420,1,424,29],[415,4,415,5],[415,7,415,8],[415,10,415,11],[415,13,415,14],[415,16,415,17],[415,19,415,20],[414,15,414,17],[414,18,414,20],[414,21,414,23],[414,24,414,26],[414,27,414,29],[414,31,414,33],[413,12,413,13],[413,14,413,18],[413,19,413,21],[413,22,413,27],[413,28,413,33],[414,1,416,2],[414,3,414,5],[414,6,414,8],[414,9,414,11],[414,12,414,14],[412,1,412,2],[412,3,412,5],[413,1,413,2],[413,3,413,5],[413,6,413,7],[413,8,413,11],[387,13,387,14],[387,16,387,17],[387,19,387,20],[401,22,401,23],[401,25,401,26],[401,28,401,29],[401,31,409,33],[403,1,403,2],[405,1,405,29],[406,1,410,29],[401,4,401,5],[401,7,401,8],[401,10,401,11],[401,13,401,14],[401,16,401,17],[401,19,401,20],[400,15,400,17],[400,18,400,20],[400,21,400,23],[400,24,400,26],[400,27,400,29],[400,31,400,33],[386,1,388,2],[386,3,386,5],[386,6,386,8],[386,9,386,11],[386,12,386,14],[384,1,384,2],[384,3,384,5],[385,1,385,2],[385,3,385,5],[385,6,385,7],[385,8,385,11],[399,12,399,13],[399,14,399,18],[399,19,399,21],[399,22,399,27],[399,28,399,33],[400,1,402,2],[400,3,400,5],[400,6,400,8],[400,9,400,11],[400,12,400,14],[398,1,398,2],[398,3,398,5],[399,1,399,2],[399,3,399,5],[399,6,399,7],[399,8,399,11],[387,22,387,23],[387,25,387,26],[387,28,387,29],[387,31,395,33],[389,1,389,2],[391,1,391,29],[392,1,396,29],[387,4,387,5],[387,7,387,8],[387,10,387,11],[373,7,373,8],[373,10,373,11],[373,13,373,14],[373,16,373,17],[373,19,373,20],[372,15,372,17],[372,18,372,20],[372,21,372,23],[372,24,372,26],[372,27,372,29],[372,31,372,33],[386,15,386,17],[386,18,386,20],[386,21,386,23],[386,24,386,26],[386,27,386,29],[386,31,386,33],[385,12,385,13],[385,14,385,18],[385,19,385,21],[385,22,385,27],[385,28,385,33],[371,12,371,13],[371,14,371,18],[371,19,371,21],[371,22,371,27],[371,28,371,33],[372,1,374,2],[372,3,372,5],[372,6,372,8],[372,9,372,11],[372,12,372,14],[370,1,370,2],[370,3,370,5],[371,1,371,2],[371,3,371,5],[371,6,371,7],[371,8,371,11],[359,19,359,20],[359,22,359,23],[359,25,359,26],[359,28,359,29],[359,31,367,33],[361,1,361,2],[363,1,363,29],[364,1,368,29],[373,22,373,23],[373,25,373,26],[373,28,373,29],[373,31,381,33],[375,1,375,2],[377,1,377,29],[378,1,382,29],[373,4,373,5],[358,18,358,20],[358,21,358,23],[358,24,358,26],[358,27,358,29],[358,31,358,33],[359,4,359,5],[359,7,359,8],[359,10,359,11],[359,13,359,14],[359,16,359,17],[358,1,360,2],[358,3,358,5],[358,6,358,8],[358,9,358,11],[358,12,358,14],[358,15,358,17],[357,8,357,11],[357,12,357,13],[357,14,357,18],[357,19,357,21],[357,22,357,27],[357,28,357,33],[354,1,354,4],[354,5,354,7],[356,1,356,2],[356,3,356,5],[357,1,357,2],[357,3,357,5],[357,6,357,7],[352,1,352,33],[353,1,353,4],[353,5,353,7],[353,9,353,11],[343,1,343,2],[344,1,344,2],[345,1,345,2],[336,24,336,26],[336,27,336,29],[336,30,338,30],[336,31,338,33],[337,22,337,23],[337,25,337,26],[337,28,337,29],[346,1,346,2],[348,1,348,33],[349,1,349,33],[339,1,339,2],[339,31,345,33],[340,1,340,2],[341,1,341,2],[342,1,342,2],[336,1,338,2],[336,3,336,5],[336,6,336,8],[336,9,336,11],[336,12,336,14],[336,15,336,17],[337,4,337,5],[337,7,337,8],[337,10,337,11],[337,13,337,14],[337,16,337,17],[337,19,337,20],[336,18,336,20],[336,21,336,23],[329,1,329,2],[331,1,331,33],[332,1,332,33],[334,1,334,2],[334,3,334,5],[335,1,335,2],[335,3,335,5],[335,6,335,7],[335,8,335,11],[335,12,335,13],[322,1,322,2],[322,31,328,33],[323,1,323,2],[324,1,324,2],[325,1,325,2],[326,1,326,2],[327,1,327,2],[328,1,328,2],[335,14,335,18],[335,19,335,21],[335,22,335,27],[335,28,335,33],[309,1,309,2],[310,1,310,2],[311,1,311,2],[320,4,320,5],[320,7,320,8],[320,10,320,11],[320,13,320,14],[320,16,320,17],[320,19,320,20],[319,18,319,20],[319,21,319,23],[319,24,319,26],[319,27,319,29],[319,30,321,30],[319,31,321,33],[320,22,320,23],[320,25,320,26],[320,28,320,29],[318,14,318,18],[318,19,318,21],[318,22,318,27],[318,28,318,33],[302,24,302,26],[302,27,302,29],[302,30,304,30],[302,31,304,33],[303,22,303,23],[303,25,303,26],[303,28,303,29],[301,14,301,18],[301,19,301,21],[301,22,301,27],[301,28,301,33],[319,1,321,2],[319,3,319,5],[319,6,319,8],[319,9,319,11],[319,12,319,14],[319,15,319,17],[312,1,312,2],[314,1,314,33],[315,1,315,33],[317,1,317,2],[317,3,317,5],[318,1,318,2],[318,3,318,5],[318,6,318,7],[318,8,318,11],[318,12,318,13],[305,1,305,2],[305,31,311,33],[306,1,306,2],[307,1,307,2],[308,1,308,2],[302,1,304,2],[302,3,302,5],[302,6,302,8],[302,9,302,11],[302,12,302,14],[302,15,302,17],[295,1,295,2],[297,1,297,33],[298,1,298,33],[300,1,300,2],[300,3,300,5],[301,1,301,2],[301,3,301,5],[301,6,301,7],[301,8,301,11],[301,12,301,13],[303,4,303,5],[303,7,303,8],[303,10,303,11],[303,13,303,14],[303,16,303,17],[303,19,303,20],[302,18,302,20],[302,21,302,23],[269,28,269,29],[271,1,271,2],[271,31,277,33],[272,1,272,2],[273,1,273,2],[274,1,274,2],[286,25,286,26],[286,28,286,29],[284,14,284,18],[284,19,284,21],[284,22,284,27],[284,28,284,33],[268,1,270,2],[268,3,268,5],[280,1,280,33],[281,1,281,33],[283,1,283,2],[283,3,283,5],[284,1,284,2],[284,3,284,5],[284,6,284,7],[284,8,284,11],[284,12,284,13],[275,1,275,2],[276,1,276,2],[277,1,277,2],[286,7,286,8],[286,10,286,11],[286,19,286,20],[285,18,285,20],[267,12,267,13],[254,1,254,2],[254,31,260,33],[255,1,255,2],[256,1,256,2],[257,1,257,2],[258,1,258,2],[259,1,259,2],[260,1,260,2],[267,14,267,18],[267,19,267,21],[267,22,267,27],[267,28,267,33],[278,1,278,2],[269,4,269,5],[269,7,269,8],[269,10,269,11],[269,13,269,14],[269,16,269,17],[269,19,269,20],[268,18,268,20],[268,21,268,23],[268,24,268,26],[268,27,268,29],[268,6,268,8],[268,9,268,11],[268,30,270,30],[268,31,270,33],[268,12,268,14],[268,15,268,17],[269,22,269,23],[269,25,269,26],[261,1,261,2],[263,1,263,33],[264,1,264,33],[266,1,266,2],[266,3,266,5],[267,1,267,2],[267,3,267,5],[267,6,267,7],[267,8,267,11],[288,1,288,2],[288,31,294,33],[289,1,289,2],[290,1,290,2],[291,1,291,2],[292,1,292,2],[293,1,293,2],[294,1,294,2],[285,24,285,26],[285,27,285,29],[285,30,287,30],[285,31,287,33],[285,1,287,2],[285,3,285,5],[285,6,285,8],[285,9,285,11],[285,12,285,14],[285,15,285,17],[286,4,286,5],[286,13,286,14],[286,16,286,17],[285,21,285,23],[286,22,286,23],[234,1,236,2],[234,3,234,5],[234,6,234,8],[234,9,234,11],[234,12,234,14],[234,15,234,17],[235,4,235,5],[251,24,251,26],[251,27,251,29],[251,30,253,30],[251,31,253,33],[252,22,252,23],[252,25,252,26],[252,28,252,29],[250,14,250,18],[250,19,250,21],[250,22,250,27],[250,28,250,33],[234,24,234,26],[234,27,234,29],[234,30,236,30],[234,31,236,33],[235,22,235,23],[235,25,235,26],[235,28,235,29],[235,7,235,8],[235,10,235,11],[235,13,235,14],[235,16,235,17],[235,19,235,20],[234,18,234,20],[234,21,234,23],[251,1,253,2],[251,3,251,5],[251,6,251,8],[251,9,251,11],[251,12,251,14],[251,15,251,17],[244,1,244,2],[246,1,246,33],[247,1,247,33],[249,1,249,2],[249,3,249,5],[250,1,250,2],[250,3,250,5],[250,6,250,7],[250,8,250,11],[250,12,250,13],[237,1,237,2],[237,31,243,33],[238,1,238,2],[239,1,239,2],[240,1,240,2],[241,1,241,2],[242,1,242,2],[243,1,243,2],[252,4,252,5],[252,7,252,8],[252,10,252,11],[252,13,252,14],[252,16,252,17],[252,19,252,20],[251,18,251,20],[251,21,251,23],[227,1,227,2],[229,1,229,33],[230,1,230,33],[232,1,232,2],[232,3,232,5],[233,1,233,2],[233,3,233,5],[233,6,233,7],[233,8,233,11],[233,12,233,13],[220,1,220,2],[220,31,226,33],[221,1,221,2],[222,1,222,2],[223,1,223,2],[224,1,224,2],[225,1,225,2],[226,1,226,2],[233,14,233,18],[233,19,233,21],[233,22,233,27],[233,28,233,33],[200,1,202,2],[200,3,200,5],[200,6,200,8],[200,9,200,11],[200,12,200,14],[200,15,200,17],[201,4,201,5],[217,24,217,26],[217,27,217,29],[217,30,219,30],[217,31,219,33],[218,22,218,23],[218,25,218,26],[218,28,218,29],[216,14,216,18],[216,19,216,21],[216,22,216,27],[216,28,216,33],[200,24,200,26],[200,27,200,29],[200,30,202,30],[200,31,202,33],[201,22,201,23],[201,25,201,26],[201,28,201,29],[201,7,201,8],[201,10,201,11],[201,13,201,14],[201,16,201,17],[201,19,201,20],[200,18,200,20],[200,21,200,23],[217,1,219,2],[217,3,217,5],[217,6,217,8],[217,9,217,11],[217,12,217,14],[217,15,217,17],[210,1,210,2],[212,1,212,33],[213,1,213,33],[215,1,215,2],[215,3,215,5],[216,1,216,2],[216,3,216,5],[216,6,216,7],[216,8,216,11],[216,12,216,13],[203,1,203,2],[203,31,209,33],[204,1,204,2],[205,1,205,2],[206,1,206,2],[207,1,207,2],[208,1,208,2],[209,1,209,2],[218,4,218,5],[218,7,218,8],[218,10,218,11],[218,13,218,14],[218,16,218,17],[218,19,218,20],[217,18,217,20],[217,21,217,23],[193,1,193,2],[195,1,195,33],[196,1,196,33],[198,1,198,2],[198,3,198,5],[199,1,199,2],[199,3,199,5],[199,6,199,7],[199,8,199,11],[199,12,199,13],[186,1,186,2],[186,31,192,33],[187,1,187,2],[188,1,188,2],[189,1,189,2],[190,1,190,2],[191,1,191,2],[192,1,192,2],[199,14,199,18],[199,19,199,21],[199,22,199,27],[199,28,199,33],[166,1,168,2],[166,3,166,5],[166,6,166,8],[166,9,166,11],[166,12,166,14],[166,15,166,17],[167,4,167,5],[183,24,183,26],[183,27,183,29],[183,30,185,30],[183,31,185,33],[184,22,184,23],[184,25,184,26],[184,28,184,29],[182,14,182,18],[182,19,182,21],[182,22,182,27],[182,28,182,33],[166,24,166,26],[166,27,166,29],[166,30,168,30],[166,31,168,33],[167,22,167,23],[167,25,167,26],[167,28,167,29],[167,7,167,8],[167,10,167,11],[167,13,167,14],[167,16,167,17],[167,19,167,20],[166,18,166,20],[166,21,166,23],[183,1,185,2],[183,3,183,5],[183,6,183,8],[183,9,183,11],[183,12,183,14],[183,15,183,17],[176,1,176,2],[178,1,178,33],[179,1,179,33],[181,1,181,2],[181,3,181,5],[182,1,182,2],[182,3,182,5],[182,6,182,7],[182,8,182,11],[182,12,182,13],[169,1,169,2],[169,31,175,33],[170,1,170,2],[171,1,171,2],[172,1,172,2],[173,1,173,2],[174,1,174,2],[175,1,175,2],[184,4,184,5],[184,7,184,8],[184,10,184,11],[184,13,184,14],[184,16,184,17],[184,19,184,20],[183,18,183,20],[183,21,183,23],[159,1,159,2],[161,1,161,33],[162,1,162,33],[164,1,164,2],[164,3,164,5],[165,1,165,2],[165,3,165,5],[165,6,165,7],[165,8,165,11],[165,12,165,13],[152,1,152,2],[152,31,158,33],[153,1,153,2],[154,1,154,2],[155,1,155,2],[156,1,156,2],[157,1,157,2],[158,1,158,2],[165,14,165,18],[165,19,165,21],[165,22,165,27],[165,28,165,33],[132,1,134,2],[132,3,132,5],[132,6,132,8],[132,9,132,11],[132,12,132,14],[132,15,132,17],[133,4,133,5],[149,24,149,26],[149,27,149,29],[149,30,151,30],[149,31,151,33],[150,22,150,23],[150,25,150,26],[150,28,150,29],[148,14,148,18],[148,19,148,21],[148,22,148,27],[148,28,148,33],[132,24,132,26],[132,27,132,29],[132,30,134,30],[132,31,134,33],[133,22,133,23],[133,25,133,26],[133,28,133,29],[133,7,133,8],[133,10,133,11],[133,13,133,14],[133,16,133,17],[133,19,133,20],[132,18,132,20],[132,21,132,23],[149,1,151,2],[149,3,149,5],[149,6,149,8],[149,9,149,11],[149,12,149,14],[149,15,149,17],[142,1,142,2],[144,1,144,33],[145,1,145,33],[147,1,147,2],[147,3,147,5],[148,1,148,2],[148,3,148,5],[148,6,148,7],[148,8,148,11],[148,12,148,13],[135,1,135,2],[135,31,141,33],[136,1,136,2],[137,1,137,2],[138,1,138,2],[139,1,139,2],[140,1,140,2],[141,1,141,2],[150,4,150,5],[150,7,150,8],[150,10,150,11],[150,13,150,14],[150,16,150,17],[150,19,150,20],[149,18,149,20],[149,21,149,23],[125,1,125,2],[127,1,127,33],[128,1,128,33],[130,1,130,2],[130,3,130,5],[131,1,131,2],[131,3,131,5],[131,6,131,7],[131,8,131,11],[131,12,131,13],[118,1,118,2],[118,31,124,33],[119,1,119,2],[120,1,120,2],[121,1,121,2],[122,1,122,2],[123,1,123,2],[124,1,124,2],[131,14,131,18],[131,19,131,21],[131,22,131,27],[131,28,131,33],[98,1,100,2],[98,3,98,5],[98,6,98,8],[98,9,98,11],[98,12,98,14],[98,15,98,17],[99,4,99,5],[115,24,115,26],[115,27,115,29],[115,30,117,30],[115,31,117,33],[116,22,116,23],[116,25,116,26],[116,28,116,29],[114,14,114,18],[114,19,114,21],[114,22,114,27],[114,28,114,33],[98,24,98,26],[98,27,98,29],[98,30,100,30],[98,31,100,33],[99,22,99,23],[99,25,99,26],[99,28,99,29],[99,7,99,8],[99,10,99,11],[99,13,99,14],[99,16,99,17],[99,19,99,20],[98,18,98,20],[98,21,98,23],[115,1,117,2],[115,3,115,5],[115,6,115,8],[115,9,115,11],[115,12,115,14],[115,15,115,17],[108,1,108,2],[110,1,110,33],[111,1,111,33],[113,1,113,2],[113,3,113,5],[114,1,114,2],[114,3,114,5],[114,6,114,7],[114,8,114,11],[114,12,114,13],[101,1,101,2],[101,31,107,33],[102,1,102,2],[103,1,103,2],[104,1,104,2],[105,1,105,2],[106,1,106,2],[107,1,107,2],[116,4,116,5],[116,7,116,8],[116,10,116,11],[116,13,116,14],[116,16,116,17],[116,19,116,20],[115,18,115,20],[115,21,115,23],[91,1,91,2],[93,1,93,33],[94,1,94,33],[96,1,96,2],[96,3,96,5],[97,1,97,2],[97,3,97,5],[97,6,97,7],[97,8,97,11],[97,12,97,13],[84,1,84,2],[84,31,90,33],[85,1,85,2],[86,1,86,2],[87,1,87,2],[88,1,88,2],[89,1,89,2],[90,1,90,2],[97,14,97,18],[97,19,97,21],[97,22,97,27],[97,28,97,33],[64,1,66,2],[64,3,64,5],[64,6,64,8],[64,9,64,11],[64,12,64,14],[64,15,64,17],[65,4,65,5],[81,24,81,26],[81,27,81,29],[81,30,83,30],[81,31,83,33],[82,22,82,23],[82,25,82,26],[82,28,82,29],[80,14,80,18],[80,19,80,21],[80,22,80,27],[80,28,80,33],[64,24,64,26],[64,27,64,29],[64,30,66,30],[64,31,66,33],[65,22,65,23],[65,25,65,26],[65,28,65,29],[65,7,65,8],[65,10,65,11],[65,13,65,14],[65,16,65,17],[65,19,65,20],[64,18,64,20],[64,21,64,23],[81,1,83,2],[81,3,81,5],[81,6,81,8],[81,9,81,11],[81,12,81,14],[81,15,81,17],[74,1,74,2],[76,1,76,33],[77,1,77,33],[79,1,79,2],[79,3,79,5],[80,1,80,2],[80,3,80,5],[80,6,80,7],[80,8,80,11],[80,12,80,13],[67,1,67,2],[67,31,73,33],[68,1,68,2],[69,1,69,2],[70,1,70,2],[71,1,71,2],[72,1,72,2],[73,1,73,2],[82,4,82,5],[82,7,82,8],[82,10,82,11],[82,13,82,14],[82,16,82,17],[82,19,82,20],[81,18,81,20],[81,21,81,23],[38,1,38,2],[39,1,39,2],[48,4,48,5],[48,7,48,8],[48,10,48,11],[48,13,48,14],[48,16,48,17],[48,19,48,20],[47,18,47,20],[47,21,47,23],[57,1,57,2],[59,1,59,33],[60,1,60,33],[62,1,62,2],[62,3,62,5],[63,1,63,2],[63,3,63,5],[63,6,63,7],[63,8,63,11],[63,12,63,13],[50,1,50,2],[50,31,56,33],[51,1,51,2],[52,1,52,2],[53,1,53,2],[54,1,54,2],[55,1,55,2],[56,1,56,2],[63,14,63,18],[63,19,63,21],[63,22,63,27],[63,28,63,33],[30,6,30,8],[30,9,30,11],[30,12,30,14],[30,15,30,17],[47,24,47,26],[47,27,47,29],[47,30,49,30],[47,31,49,33],[48,22,48,23],[48,25,48,26],[48,28,48,29],[46,14,46,18],[46,19,46,21],[46,22,46,27],[46,28,46,33],[30,27,30,29],[30,30,32,30],[30,31,32,33],[31,22,31,23],[31,25,31,26],[31,28,31,29],[19,1,19,2],[20,1,20,2],[21,1,21,2],[22,1,22,2],[29,14,29,18],[29,19,29,21],[29,22,29,27],[29,28,29,33],[47,1,49,2],[47,3,47,5],[47,6,47,8]],"merged_total":1085,"flags":["merged_cut"]}
[null,"Subsecretaría de Educación Básica\nDirección General de Desarrollo Curricular\nDirección de Fortalecimiento Curricular para la \nFormación Personal y Social en la Educación Básica\nEducación Especial"]
[]
[]
[]
[]
[null,"Componente: 1. Acciones académicas para Agentes educativos en temas de discapacidad"]
[null,"Para garantizar el cumplimiento de los objetivos del PFSEE las AEL podrán  destinar hasta  un 50% del recurso, de acuerdo con lo estipulado en las reglas de operación 2025."]
[null,"1.1 Desarrollo de acciones de actualización y fortalecimiento académico de Agentes educativos en temas de discapacidad"]
[null,"Recurso programado:",null,null,null,{"$f":"'Distribución presupuestal 2025'!H51","v":2110531},null,null,null,"SEE focalizados:",null,null,"USAER",{"$f":"'SEE 2025'!B16","v":81},"CAM básico",{"$f":"'SEE 2025'!C16","v":0},"Básico FpT",{"$f":"'SEE 2025'!C18","v":28},"CAM laboral",{"$f":"'SEE 2025'!D16","v":2},"CAPEP",{"$f":"'SEE 2025'!E16","v":0},"CRIE",{"$f":"'SEE 2025'!F16","v":0},"UOP",{"$f":"'SEE 2025'!G16","v":0},"UAEBH",{"$f":"'SEE 2025'!H16","v":0},"Otro",{"$f":"'SEE 2025'!I16","v":0}]
[null,"Remanente:",null,null,null,{"$f":"F9-SUM(A13:A352)","v":0}]
[]
[null,"Numero de actividad",null,"1.1.1"]
[{"$f":"T13","v":510000},"Tipo de actividad",null,"Trimestre de inicio",null,null,"3ro",null,"Trimestre de término",null,null,null,"4to",null,"Presupuesto de la actividad",null,null,null,null,510000,null,null,"Título de la actividad",null,null,null,null,null,"DIPLOMADO EN NEUROEDUCACIÓN"]
[null,"Diplomado",null,"USAER",null,null,"CAM básico",null,null,"CAM básico con FpT",null,null,"CAM laboral",null,null,"CAPEP",null,null,"CRIE",null,null,"UOP",null,null,"UAEBH",null,null,"Otro",null,null,"Especifique producto o servicio en lo que se planea ejercer","Propósito de la actividad"]
[null,null,null,"SEE:",81,null,"SEE:",0,null,"SEE:",28,null,"SEE:",2,null,"SEE:",0,null,"SEE:",0,null,"SEE:",0,null,"SEE:",0,null,"SEE:",0]
[null,null,null,"M","H","T","M","H","T","M","H","T","M","H","T","M","H","T","M","H","T","M","H","T","M","H","T","M","H","T"]
[null,"Supervisores",null,0,0,{"$f":"SUM(D17,E17)","v":0},0,0,{"$f":"SUM(G17,H17)","v":0},0,0,{"$f":"SUM(J17,K17)","v":0},0,0,{"$f":"SUM(M17,N17)","v":0},0,0,{"$f":"SUM(P17,Q17)","v":0},0,0,{"$f":"SUM(S17,T17)","v":0},0,0,{"$f":"SUM(V17,W17)","v":0},0,0,{"$f":"SUM(Y17,Z17)","v":0},0,0,{"$f":"SUM(AB17,AC17)","v":0},"Pago a conferencistas o talleristas ","Transformar la labor del personal de educación especial, mediante la integración de principios neurocientíficos y estrategias innovadoras que maximicen el desarrollo cognitivo, socioemocional y adaptativo de la población objetivo."]
[null,"Directivas/os",null,5,5,{"$f":"SUM(D18,E18)","v":10},0,0,0,4,4,8,0,0,0,0,0,0,0,0,0,0,0,0,0,0,0,0,0,0,"N/A"]
[null,"Docentes",null,60,21,{"$f":"SUM(D19,E19)","v":81},0,0,{"$f":"SUM(G19,H19)","v":0},20,8,28,2,0,2,0,0,0,0,0,0,0,0,0,0,0,0,0,0,0,"N/A"]
[null,"Equipo de apoyo",null,5,5,10,0,0,0,6,3,9,1,1,2,0,0,0,0,0,0,0,0,0,0,0,0,0,0,0,"N/A"]
[null,"Familias",null,0,0,0,0,0,0,0,0,0,0,0,0,0,0,0,0,0,0,0,0,0,0,0,0,0,0,0,"N/A"]
[null,"Docentes de EB",null,0,0,0,0,0,0,0,0,0,0,0,0,0,0,0,0,0,0,0,0,0,0,0,0,0,0,0,"N/A"]
[null,"Otros",null,0,0,0,0,0,0,0,0,0,0,0,0,0,0,0,0,0,0,0,0,0,0,0,0,0,0,0,"N/A"]
[null,"TOTAL",null,{"$f":"SUM(D16:D23)","v":70},31,101,0,0,0,30,15,45,3,1,4,0,0,0,0,0,0,0,0,0,0,0,0,0,0,0,"N/A"]
[]
[null,"En caso de requerir alguna precisión o aclaración, describa brevemente: "]
[null,"Equipo de apoyo, se consideran docente de comunicación y psicólogos, 120 h, modalidad mixta, 40 horas presenciales (8 sesiones) y 80 horas autogestivas. 4 grupos Durango, 1 grupos Laguna."]
[]
[null,"Numero de actividad",null,"1.1.2"]
[{"$f":"T30","v":704531},"Tipo de actividad",null,"Trimestre de inicio",null,null,"3ro",null,"Trimestre de término",null,null,null,"4to",null,"Presupuesto de la actividad",null,null,null,null,704531,null,null,"Título de la actividad",null,null,null,null,null,"DIPLOMADO EN ATENCIÓN A ALUMNOS CON TRASTORNOS DEL NEURODESARROLLO"]
[null,"Diplomado",null,"USAER",null,null,"CAM básico",null,null,"CAM básico con FpT",null,null,"CAM laboral",null,null,"CAPEP",null,null,"CRIE",null,null,"UOP",null,null,"UAEBH",null,null,"Otro",null,null,"Especifique producto o servicio en lo que se planea ejercer","Propósito de la actividad"]
[null,null,null,"SEE:",81,null,"SEE:",0,null,"SEE:",28,null,"SEE:",2,null,"SEE:",0,null,"SEE:",0,null,"SEE:",0,null,"SEE:",0,null,"SEE:",0]
[null,null,null,"M","H","T","M","H","T","M","H","T","M","H","T","M","H","T","M","H","T","M","H","T","M","H","T","M","H","T"]
[null,"Supervisores",null,2,1,{"$f":"SUM(D34,E34)","v":3},0,0,{"$f":"SUM(G34,H34)","v":0},0,0,{"$f":"SUM(J34,K34)","v":0},0,0,{"$f":"SUM(M34,N34)","v":0},0,0,{"$f":"SUM(P34,Q34)","v":0},0,0,{"$f":"SUM(S34,T34)","v":0},0,0,{"$f":"SUM(V34,W34)","v":0},0,0,{"$f":"SUM(Y34,Z34)","v":0},0,0,{"$f":"SUM(AB34,AC34)","v":0},"Pago a conferencistas o talleristas ","Desarrollar competencias profesionales en los participantes para identificar, comprender y atender de manera efectiva las necesidades educativas de alumnos con trastornos del neurodesarrollo, fomentando un ambiente inclusivo que promueva su desarrollo integral y un aprendizaje significativo."]
[null,"Directivas/os",null,5,5,{"$f":"SUM(D35,E35)","v":10},0,0,0,4,4,8,0,0,0,0,0,0,0,0,0,0,0,0,0,0,0,0,0,0,"Reproducción de materiales"]
[null,"Docentes",null,60,21,{"$f":"SUM(D36,E36)","v":81},0,0,{"$f":"SUM(G36,H36)","v":0},20,8,28,2,0,2,0,0,0,0,0,0,0,0,0,0,0,0,0,0,0,"N/A"]
[null,"Equipo de apoyo",null,20,10,{"$f":"SUM(D37,E37)","v":30},0,0,{"$f":"SUM(G37,H37)","v":0},8,3,11,1,1,2,0,0,0,0,0,0,0,0,0,0,0,0,0,0,0,"N/A"]
[null,"Familias",null,0,0,0,0,0,0,0,0,0,0,0,0,0,0,0,0,0,0,0,0,0,0,0,0,0,0,0,"N/A"]
[null,"Docentes de EB",null,0,0,0,0,0,0,0,0,0,0,0,0,0,0,0,0,0,0,0,0,0,0,0,0,0,0,0,"N/A"]
[null,"Otros",null,4,1,5,0,0,0,0,0,0,0,0,0,0,0,0,0,0,0,0,0,0,0,0,0,0,0,0,"N/A"]
[null,"TOTAL",null,{"$f":"SUM(D33:D40)","v":91},38,129,0,0,0,32,15,47,3,1,4,0,0,0,0,0,0,0,0,0,0,0,0,0,0,0,"N/A"]
[]
[null,"En caso de requerir alguna precisión o aclaración, describa brevemente: "]
[null,"Equipo de apoyo, se consideran docente de comunicación y psicólogos, 120 h, modalidad mixta, 40 horas presenciales (8 sesiones) y 80 horas autogestivas. 4 grupos Durango, 2 grupos Laguna."]
[]
[null,"Numero de actividad",null,"1.1.3"]
[{"$f":"T47","v":375000},"Tipo de actividad",null,"Trimestre de inicio",null,null,"4to",null,"Trimestre de término",null,null,null,"4to",null,"Presupuesto de la actividad",null,null,null,null,375000,null,null,"Título de la actividad",null,null,null,null,null,"ESTRATEGIAS INNOVADORASPARA LA ATENCIÓN DEL TEA Y TDAH"]
[null,"Conferencia",null,"USAER",null,null,"CAM básico",null,null,"CAM básico con FpT",null,null,"CAM laboral",null,null,"CAPEP",null,null,"CRIE",null,null,"UOP",null,null,"UAEBH",null,null,"Otro",null,null,"Especifique producto o servicio en lo que se planea ejercer","Propósito de la actividad"]
[null,null,null,"SEE:",81,null,"SEE:",0,null,"SEE:",28,null,"SEE:",2,null,"SEE:",0,null,"SEE:",0,null,"SEE:",0,null,"SEE:",0,null,"SEE:",1]
[null,null,null,"M","H","T","M","H","T","M","H","T","M","H","T","M","H","T","M","H","T","M","H","T","M","H","T","M","H","T"]
[null,"Supervisores",null,12,3,{"$f":"SUM(D51,E51)","v":15},0,0,{"$f":"SUM(G51,H51)","v":0},0,0,{"$f":"SUM(J51,K51)","v":0},0,0,{"$f":"SUM(M51,N51)","v":0},0,0,{"$f":"SUM(P51,Q51)","v":0},0,0,{"$f":"SUM(S51,T51)","v":0},0,0,{"$f":"SUM(V51,W51)","v":0},0,0,{"$f":"SUM(Y51,Z51)","v":0},0,0,{"$f":"SUM(AB51,AC51)","v":0},"Arrendamiento de salas / salones ","favorecer la atención de los alumnos, a través de la actualización, reflexión y el empleo de herramientas innovadoras respecto a los trastornos del neurodesarrollo."]
[null,"Directivas/os",null,58,23,{"$f":"SUM(D52,E52)","v":81},0,0,0,24,4,28,2,0,2,0,0,0,0,0,0,0,0,0,0,0,0,0,1,1,"Pago a conferencistas o talleristas "]
[null,"Docentes",null,349,55,{"$f":"SUM(D53,E53)","v":404},0,0,{"$f":"SUM(G53,H53)","v":0},100,20,120,14,7,21,0,0,0,0,0,0,0,0,0,0,0,0,1,"O",1,"Reproducción de materiales"]
[null,"Equipo de apoyo",null,110,25,{"$f":"SUM(D54,E54)","v":135},0,0,{"$f":"SUM(G54,H54)","v":0},68,5,73,5,1,6,0,0,0,0,0,0,0,0,0,0,0,0,0,0,0,"Pago de traslados para asistentes"]
[null,"Familias",null,0,0,0,0,0,0,0,0,0,0,0,0,0,0,0,0,0,0,0,0,0,0,0,0,0,0,0,"Coffee break"]
[null,"Docentes de EB",null,50,50,100,0,0,0,0,0,0,0,0,0,0,0,0,0,0,0,0,0,0,0,0,0,0,0,0,"Renta de equipo de audio y/o video"]
[null,"Otros",null,10,3,13,0,0,0,0,0,0,0,0,0,0,0,0,0,0,0,0,0,0,0,0,0,0,0,0,"Renta de mobiliario"]
[null,"TOTAL",null,{"$f":"SUM(D50:D57)","v":589},159,748,0,0,0,192,29,221,21,8,29,0,0,0,0,0,0,0,0,0,0,0,0,1,1,2,"N/A"]
[]
[null,"En caso de requerir alguna precisión o aclaración, describa brevemente: "]
[null,"Jornada académica con duración de un día (8 horas), tres conferencias impartidas con temas por confirmar, por ponentes internacionales."]
[]
[null,"Numero de actividad",null,"1.1.4"]
[{"$f":"T64","v":375000},"Tipo de actividad",null,"Trimestre de inicio",null,null,"4to",null,"Trimestre de término",null,null,null,"4to",null,"Presupuesto de la actividad",null,null,null,null,375000,null,null,"Título de la actividad",null,null,null,null,null,"HERRAMIENTAS PARA LA ATENCIÓN INCLUSIVA DE LOS TRANSTORNOS DEL NEURODESARROLLO"]
[null,"Taller",null,"USAER",null,null,"CAM básico",null,null,"CAM básico con FpT",null,null,"CAM laboral",null,null,"CAPEP",null,null,"CRIE",null,null,"UOP",null,null,"UAEBH",null,null,"Otro",null,null,"Especifique producto o servicio en lo que se planea ejercer","Propósito de la actividad"]
[null,null,null,"SEE:",81,null,"SEE:",0,null,"SEE:",28,null,"SEE:",2,null,"SEE:",0,null,"SEE:",0,null,"SEE:",0,null,"SEE:",0,null,"SEE:",1]
[null,null,null,"M","H","T","M","H","T","M","H","T","M","H","T","M","H","T","M","H","T","M","H","T","M","H","T","M","H","T"]
[null,"Supervisores",null,12,3,{"$f":"SUM(D68,E68)","v":15},0,0,{"$f":"SUM(G68,H68)","v":0},0,0,{"$f":"SUM(J68,K68)","v":0},0,0,{"$f":"SUM(M68,N68)","v":0},0,0,{"$f":"SUM(P68,Q68)","v":0},0,0,{"$f":"SUM(S68,T68)","v":0},0,0,{"$f":"SUM(V68,W68)","v":0},0,0,{"$f":"SUM(Y68,Z68)","v":0},0,0,{"$f":"SUM(AB68,AC68)","v":0},"Arrendamiento de salas / salones ","Documentar a los participantes, en estrategias específicas y prácticas para la intervención con alumnos con TEA y TDAH."]
[null,"Directivas/os",null,58,23,{"$f":"SUM(D69,E69)","v":81},0,0,0,24,4,28,2,0,2,0,0,0,0,0,0,0,0,0,0,0,0,0,1,1,"Pago a conferencistas o talleristas "]
[null,"Docentes",null,349,55,{"$f":"SUM(D70,E70)","v":404},0,0,{"$f":"SUM(G70,H70)","v":0},100,20,120,14,7,21,0,0,0,0,0,0,0,0,0,0,0,0,1,0,1,"Reproducción de materiales"]
[null,"Equipo de apoyo",null,110,25,{"$f":"SUM(D71,E71)","v":135},0,0,{"$f":"SUM(G71,H71)","v":0},68,5,73,5,1,6,0,0,0,0,0,0,0,0,0,0,0,0,0,0,0,"Pago de traslados para asistentes"]
[null,"Familias",null,0,0,0,0,0,0,0,0,0,0,0,0,0,0,0,0,0,0,0,0,0,0,0,0,0,0,0,"Coffee break"]
[null,"Docentes de EB",null,50,50,100,0,0,0,0,0,0,0,0,0,0,0,0,0,0,0,0,0,0,0,0,0,0,0,0,"Renta de equipo de audio y/o video"]
[null,"Otros",null,10,3,13,0,0,0,0,0,0,0,0,0,0,0,0,0,0,0,0,0,0,0,0,0,0,0,0,"Renta de mobiliario"]
[null,"TOTAL",null,{"$f":"SUM(D67:D74)","v":589},159,748,0,0,0,192,29,221,21,8,29,0,0,0,0,0,0,0,0,0,0,0,0,1,1,2,"N/A"]
[]
[null,"En caso de requerir alguna precisión o aclaración, describa brevemente: "]
[null,"Talleres específicos para la atención de alumnos con trastornos del Neurodesarrollo, tres talleres a desarrollarse en dos jornadas, 5 horas cada uno."]
[]
[null,"Numero de actividad",null,"1.1.5"]
[{"$f":"T81","v":20000},"Tipo de actividad",null,"Trimestre de inicio",null,null,"3ro",null,"Trimestre de término",null,null,null,"4to",null,"Presupuesto de la actividad",null,null,null,null,20000,null,null,"Título de la actividad",null,null,null,null,null,"ESTRATEGIAS LÚDICAS PARA LA ENSEÑANZA DE LAS MATEMÁTICAS"]
[null,"Taller",null,"USAER",null,null,"CAM básico",null,null,"CAM básico con FpT",null,null,"CAM laboral",null,null,"CAPEP",null,null,"CRIE",null,null,"UOP",null,null,"UAEBH",null,null,"Otro",null,null,"Especifique producto o servicio en lo que se planea ejercer","Propósito de la actividad"]
[null,null,null,"SEE:",81,null,"SEE:",0,null,"SEE:",24,null,"SEE:",1,null,"SEE:",0,null,"SEE:",0,null,"SEE:",0,null,"SEE:",0,null,"SEE:",0]
[null,null,null,"M","H","T","M","H","T","M","H","T","M","H","T","M","H","T","M","H","T","M","H","T","M","H","T","M","H","T"]
[null,"Supervisores",null,0,0,{"$f":"SUM(D85,E85)","v":0},0,0,{"$f":"SUM(G85,H85)","v":0},0,0,{"$f":"SUM(J85,K85)","v":0},0,0,{"$f":"SUM(M85,N85)","v":0},0,0,{"$f":"SUM(P85,Q85)","v":0},0,0,{"$f":"SUM(S85,T85)","v":0},0,0,{"$f":"SUM(V85,W85)","v":0},0,0,{"$f":"SUM(Y85,Z85)","v":0},0,0,{"$f":"SUM(AB85,AC85)","v":0},"Reproducción de materiales","Transformar la práctica pedagógica de las matemáticas a través de actividades académicas lúdicas, innovadoras, llamativas y con el uso de materiales pertinentes que potencialicen  habilidades y aptitudes para la enseñanza."]
[null,"Directivas/os",null,0,0,{"$f":"SUM(D86,E86)","v":0},0,0,0,0,0,0,0,0,0,0,0,0,0,0,0,0,0,0,0,0,0,0,0,0,"Coffee break"]
[null,"Docentes",null,85,40,{"$f":"SUM(D87,E87)","v":125},0,0,{"$f":"SUM(G87,H87)","v":0},14,10,24,1,0,1,0,0,0,0,0,0,0,0,0,0,0,0,0,0,0,"Compra de papelería"]
[null,"Equipo de apoyo",null,0,0,{"$f":"SUM(D88,E88)","v":0},0,0,{"$f":"SUM(G88,H88)","v":0},0,0,0,0,0,0,0,0,0,0,0,0,0,0,0,0,0,0,0,0,0,"N/A"]
[null,"Familias",null,0,0,0,0,0,0,0,0,0,0,0,0,0,0,0,0,0,0,0,0,0,0,0,0,0,0,0,"N/A"]
[null,"Docentes de EB",null,0,0,0,0,0,0,0,0,0,0,0,0,0,0,0,0,0,0,0,0,0,0,0,0,0,0,0,"N/A"]
[null,"Otros",null,0,0,0,0,0,0,0,0,0,0,0,0,0,0,0,0,0,0,0,0,0,0,0,0,0,0,0,"N/A"]
[null,"TOTAL",null,{"$f":"SUM(D84:D91)","v":85},40,125,0,0,0,14,10,24,1,0,1,0,0,0,0,0,0,0,0,0,0,0,0,0,0,0,"N/A"]
[]
[null,"En caso de requerir alguna precisión o aclaración, describa brevemente: "]
[null,"Programa intensivo de 15 horas de capacitación especializada, para 150 docentes de apoyo, modalidad presencial. Sedes centros de atención múltiple, región Durango."]
[]
[null,"Numero de actividad",null,"1.1.6"]
[{"$f":"T98","v":126000},"Tipo de actividad",null,"Trimestre de inicio",null,null,"3ro",null,"Trimestre de término",null,null,null,"4to",null,"Presupuesto de la actividad",null,null,null,null,126000,null,null,"Título de la actividad",null,null,null,null,null,"MEDIACIÓN FAMILIAR Y RESOLUCIÓN DE CONFLICTOS"]
[null,"Curso",null,"USAER",null,null,"CAM básico",null,null,"CAM básico con FpT",null,null,"CAM laboral",null,null,"CAPEP",null,null,"CRIE",null,null,"UOP",null,null,"UAEBH",null,null,"Otro",null,null,"Especifique producto o servicio en lo que se planea ejercer","Propósito de la actividad"]
[null,null,null,"SEE:",81,null,"SEE:",0,null,"SEE:",24,null,"SEE:",2,null,"SEE:",0,null,"SEE:",0,null,"SEE:",0,null,"SEE:",0,null,"SEE:",0]
[null,null,null,"M","H","T","M","H","T","M","H","T","M","H","T","M","H","T","M","H","T","M","H","T","M","H","T","M","H","T"]
[null,"Supervisores",null,0,0,{"$f":"SUM(D102,E102)","v":0},0,0,{"$f":"SUM(G102,H102)","v":0},0,0,{"$f":"SUM(J102,K102)","v":0},0,0,{"$f":"SUM(M102,N102)","v":0},0,0,{"$f":"SUM(P102,Q102)","v":0},0,0,{"$f":"SUM(S102,T102)","v":0},0,0,{"$f":"SUM(V102,W102)","v":0},0,0,{"$f":"SUM(Y102,Z102)","v":0},0,0,{"$f":"SUM(AB102,AC102)","v":0},"Pago a conferencistas o talleristas ","Desarrolar habilidades prácticas en mediación y resolucion de conflictos para fortalecer a los trabajadores sociales, favoreciendo su capacidad para intervenir de manera efectiva en situaciones familiares complejas, promoviendo la comunicación asertiva y la búsqueda de soluciones colaborativas."]
[null,"Directivas/os",null,0,0,{"$f":"SUM(D103,E103)","v":0},0,0,0,0,0,0,0,0,0,0,0,0,0,0,0,0,0,0,0,0,0,0,0,0,"Coffee break"]
[null,"Docentes",null,0,0,{"$f":"SUM(D104,E104)","v":0},0,0,{"$f":"SUM(G104,H104)","v":0},0,0,0,0,0,0,0,0,0,0,0,0,0,0,0,0,0,0,0,0,0,"Reproducción de materiales"]
[null,"Equipo de apoyo",null,73,4,{"$f":"SUM(D105,E105)","v":77},0,0,{"$f":"SUM(G105,H105)","v":0},20,4,24,2,0,2,0,0,0,0,0,0,0,0,0,0,0,0,0,0,0,"N/A"]
[null,"Familias",null,0,0,0,0,0,0,0,0,0,0,0,0,0,0,0,0,0,0,0,0,0,0,0,0,0,0,0,"N/A"]
[null,"Docentes de EB",null,0,0,0,0,0,0,0,0,0,0,0,0,0,0,0,0,0,0,0,0,0,0,0,0,0,0,0,"N/A"]
[null,"Otros",null,0,0,0,0,0,0,0,0,0,0,0,0,0,0,0,0,0,0,0,0,0,0,0,0,0,0,0,"N/A"]
[null,"TOTAL",null,{"$f":"SUM(D101:D108)","v":73},4,77,0,0,0,20,4,24,2,0,2,0,0,0,0,0,0,0,0,0,0,0,0,0,0,0,"N/A"]
[]
[null,"En caso de requerir alguna precisión o aclaración, describa brevemente: "]
[null,"Acción académica para personal con funcion de trabajo social. 4 grupos: 3 Durango, 1 región Laguna. Modalidad presencial, total de 20 horas."]
[]
[null,"Numero de actividad",null,"1.1.7"]
[{"$f":"T115","v":0},"Tipo de actividad",null,"Trimestre de inicio",null,null,null,null,"Trimestre de término",null,null,null,null,null,"Presupuesto de la actividad",null,null,null,null,0,null,null,"Título de la actividad"]
[null,null,null,"USAER",null,null,"CAM básico",null,null,"CAM básico con FpT",null,null,"CAM laboral",null,null,"CAPEP",null,null,"CRIE",null,null,"UOP",null,null,"UAEBH",null,null,"Otro",null,null,"Especifique producto o servicio en lo que se planea ejercer","Propósito de la actividad"]
[null,null,null,"SEE:",null,null,"SEE:",null,null,"SEE:",null,null,"SEE:",null,null,"SEE:",null,null,"SEE:",null,null,"SEE:",null,null,"SEE:",null,null,"SEE:"]
[null,null,null,"M","H","T","M","H","T","M","H","T","M","H","T","M","H","T","M","H","T","M","H","T","M","H","T","M","H","T"]
[null,"Supervisores",null,null,null,{"$f":"SUM(D119,E119)","v":0},null,null,{"$f":"SUM(G119,H119)","v":0},null,null,{"$f":"SUM(J119,K119)","v":0},null,null,{"$f":"SUM(M119,N119)","v":0},null,null,{"$f":"SUM(P119,Q119)","v":0},null,null,{"$f":"SUM(S119,T119)","v":0},null,null,{"$f":"SUM(V119,W119)","v":0},null,null,{"$f":"SUM(Y119,Z119)","v":0},null,null,{"$f":"SUM(AB119,AC119)","v":0}]
[null,"Directivas/os",null,null,null,{"$f":"SUM(D120,E120)","v":0},null,null,0,null,null,0,null,null,0,null,null,0,null,null,0,null,null,0,null,null,0,null,null,0]
[null,"Docentes",null,null,null,{"$f":"SUM(D121,E121)","v":0}," ",null,{"$f":"SUM(G121,H121)","v":0}," ",null,0," ",null,0," ",null,0," ",null,0," ",null,0," ",null,0," ",null,0]
[null,"Equipo de apoyo",null,null,null,{"$f":"SUM(D122,E122)","v":0},null,null,{"$f":"SUM(G122,H122)","v":0},null,null,0,null,null,0,null,null,0,null,null,0,null,null,0,null,null,0,null,null,0]
[null,"Familias",null,null,null,0,null,null,0,null,null,0,null,null,0,null,null,0,null,null,0,null,null,0,null,null,0,null,null,0]
[null,"Docentes de EB",null,null,null,0,null,null,0,null,null,0,null,null,0,null,null,0,null,null,0,null,null,0,null,null,0,null,null,0]
[null,"Otros",null,null,null,0,null,null,0,null,null,0,null,null,0,null,null,0,null,null,0,null,null,0,null,null,0,null,null,0]
[null,"TOTAL",null,{"$f":"SUM(D118:D125)","v":0},0,0,0,0,0,0,0,0,0,0,0,0,0,0,0,0,0,0,0,0,0,0,0,0,0,0]
[]
[null,"En caso de requerir alguna precisión o aclaración, describa brevemente: "]
[]
[]
[null,"Numero de actividad",null,"1.1.8"]
[{"$f":"T132","v":0},"Tipo de actividad",null,"Trimestre de inicio",null,null,null,null,"Trimestre de término",null,null,null,null,null,"Presupuesto de la actividad",null,null,null,null,0,null,null,"Título de la actividad"]
[null,null,null,"USAER",null,null,"CAM básico",null,null,"CAM básico con FpT",null,null,"CAM laboral",null,null,"CAPEP",null,null,"CRIE",null,null,"UOP",null,null,"UAEBH",null,null,"Otro",null,null,"Especifique producto o servicio en lo que se planea ejercer","Propósito de la actividad"]
[null,null,null,"SEE:",null,null,"SEE:",null,null,"SEE:",null,null,"SEE:",null,null,"SEE:",null,null,"SEE:",null,null,"SEE:",null,null,"SEE:",null,null,"SEE:"]
[null,null,null,"M","H","T","M","H","T","M","H","T","M","H","T","M","H","T","M","H","T","M","H","T","M","H","T","M","H","T"]
[null,"Supervisores",null,null,null,{"$f":"SUM(D136,E136)","v":0},null,null,{"$f":"SUM(G136,H136)","v":0},null,null,{"$f":"SUM(J136,K136)","v":0},null,null,{"$f":"SUM(M136,N136)","v":0},null,null,{"$f":"SUM(P136,Q136)","v":0},null,null,{"$f":"SUM(S136,T136)","v":0},null,null,{"$f":"SUM(V136,W136)","v":0},null,null,{"$f":"SUM(Y136,Z136)","v":0},null,null,{"$f":"SUM(AB136,AC136)","v":0}]
[null,"Directivas/os",null,null,null,{"$f":"SUM(D137,E137)","v":0},null,null,0,null,null,0,null,null,0,null,null,0,null,null,0,null,null,0,null,null,0,null,null,0]
[null,"Docentes",null,null,null,{"$f":"SUM(D138,E138)","v":0}," ",null,{"$f":"SUM(G138,H138)","v":0}," ",null,0," ",null,0," ",null,0," ",null,0," ",null,0," ",null,0," ",null,0]
[null,"Equipo de apoyo",null,null,null,{"$f":"SUM(D139,E139)","v":0},null,null,{"$f":"SUM(G139,H139)","v":0},null,null,0,null,null,0,null,null,0,null,null,0,null,null,0,null,null,0,null,null,0]
[null,"Familias",null,null,null,0,null,null,0,null,null,0,null,null,0,null,null,0,null,null,0,null,null,0,null,null,0,null,null,0]
[null,"Docentes de EB",null,null,null,0,null,null,0,null,null,0,null,null,0,null,null,0,null,null,0,null,null,0,null,null,0,null,null,0]
[null,"Otros",null,null,null,0,null,null,0,null,null,0,null,null,0,null,null,0,null,null,0,null,null,0,null,null,0,null,null,0]
[null,"TOTAL",null,{"$f":"SUM(D135:D142)","v":0},0,0,0,0,0,0,0,0,0,0,0,0,0,0,0,0,0,0,0,0,0,0,0,0,0,0]
[]
[null,"En caso de requerir alguna precisión o aclaración, describa brevemente: "]
[]
[]
[null,"Numero de actividad",null,"1.1.9"]
[{"$f":"T149","v":0},"Tipo de actividad",null,"Trimestre de inicio",null,null,null,null,"Trimestre de término",null,null,null,null,null,"Presupuesto de la actividad",null,null,null,null,0,null,null,"Título de la actividad"]
[null,null,null,"USAER",null,null,"CAM básico",null,null,"CAM básico con FpT",null,null,"CAM laboral",null,null,"CAPEP",null,null,"CRIE",null,null,"UOP",null,null,"UAEBH",null,null,"Otro",null,null,"Especifique producto o servicio en lo que se planea ejercer","Propósito de la actividad"]
[null,null,null,"SEE:",null,null,"SEE:",null,null,"SEE:",null,null,"SEE:",null,null,"SEE:",null,null,"SEE:",null,null,"SEE:",null,null,"SEE:",null,null,"SEE:"]
[null,null,null,"M","H","T","M","H","T","M","H","T","M","H","T","M","H","T","M","H","T","M","H","T","M","H","T","M","H","T"]
[null,"Supervisores",null,null,null,{"$f":"SUM(D153,E153)","v":0},null,null,{"$f":"SUM(G153,H153)","v":0},null,null,{"$f":"SUM(J153,K153)","v":0},null,null,{"$f":"SUM(M153,N153)","v":0},null,null,{"$f":"SUM(P153,Q153)","v":0},null,null,{"$f":"SUM(S153,T153)","v":0},null,null,{"$f":"SUM(V153,W153)","v":0},null,null,{"$f":"SUM(Y153,Z153)","v":0},null,null,{"$f":"SUM(AB153,AC153)","v":0}]
[null,"Directivas/os",null,null,null,{"$f":"SUM(D154,E154)","v":0},null,null,0,null,null,0,null,null,0,null,null,0,null,null,0,null,null,0,null,null,0,null,null,0]
[null,"Docentes",null,null,null,{"$f":"SUM(D155,E155)","v":0}," ",null,{"$f":"SUM(G155,H155)","v":0}," ",null,0," ",null,0," ",null,0," ",null,0," ",null,0," ",null,0," ",null,0]
[null,"Equipo de apoyo",null,null,null,{"$f":"SUM(D156,E156)","v":0},null,null,{"$f":"SUM(G156,H156)","v":0},null,null,0,null,null,0,null,null,0,null,null,0,null,null,0,null,null,0,null,null,0]
[null,"Familias",null,null,null,0,null,null,0,null,null,0,null,null,0,null,null,0,null,null,0,null,null,0,null,null,0,null,null,0]
[null,"Docentes de EB",null,null,null,0,null,null,0,null,null,0,null,null,0,null,null,0,null,null,0,null,null,0,null,null,0,null,null,0]
[null,"Otros",null,null,null,0,null,null,0,null,null,0,null,null,0,null,null,0,null,null,0,null,null,0,null,null,0,null,null,0]
[null,"TOTAL",null,{"$f":"SUM(D152:D159)","v":0},0,0,0,0,0,0,0,0,0,0,0,0,0,0,0,0,0,0,0,0,0,0,0,0,0,0]
[]
[null,"En caso de requerir alguna precisión o aclaración, describa brevemente: "]
[]
[]
[null,"Numero de actividad",null,"1.1.10"]
[{"$f":"T166","v":0},"Tipo de actividad",null,"Trimestre de inicio",null,null,null,null,"Trimestre de término",null,null,null,null,null,"Presupuesto de la actividad",null,null,null,null,0,null,null,"Título de la actividad"]
[null,null,null,"USAER",null,null,"CAM básico",null,null,"CAM básico con FpT",null,null,"CAM laboral",null,null,"CAPEP",null,null,"CRIE",null,null,"UOP",null,null,"UAEBH",null,null,"Otro",null,null,"Especifique producto o servicio en lo que se planea ejercer","Propósito de la actividad"]
[null,null,null,"SEE:",null,null,"SEE:",null,null,"SEE:",null,null,"SEE:",null,null,"SEE:",null,null,"SEE:",null,null,"SEE:",null,null,"SEE:",null,null,"SEE:"]
[null,null,null,"M","H","T","M","H","T","M","H","T","M","H","T","M","H","T","M","H","T","M","H","T","M","H","T","M","H","T"]
[null,"Supervisores",null,null,null,{"$f":"SUM(D170,E170)","v":0},null,null,{"$f":"SUM(G170,H170)","v":0},null,null,{"$f":"SUM(J170,K170)","v":0},null,null,{"$f":"SUM(M170,N170)","v":0},null,null,{"$f":"SUM(P170,Q170)","v":0},null,null,{"$f":"SUM(S170,T170)","v":0},null,null,{"$f":"SUM(V170,W170)","v":0},null,null,{"$f":"SUM(Y170,Z170)","v":0},null,null,{"$f":"SUM(AB170,AC170)","v":0}]
[null,"Directivas/os",null,null,null,{"$f":"SUM(D171,E171)","v":0},null,null,0,null,null,0,null,null,0,null,null,0,null,null,0,null,null,0,null,null,0,null,null,0]
[null,"Docentes",null,null,null,{"$f":"SUM(D172,E172)","v":0}," ",null,{"$f":"SUM(G172,H172)","v":0}," ",null,0," ",null,0," ",null,0," ",null,0," ",null,0," ",null,0," ",null,0]
[null,"Equipo de apoyo",null,null,null,{"$f":"SUM(D173,E173)","v":0},null,null,{"$f":"SUM(G173,H173)","v":0},null,null,0,null,null,0,null,null,0,null,null,0,null,null,0,null,null,0,null,null,0]
[null,"Familias",null,null,null,0,null,null,0,null,null,0,null,null,0,null,null,0,null,null,0,null,null,0,null,null,0,null,null,0]
[null,"Docentes de EB",null,null,null,0,null,null,0,null,null,0,null,null,0,null,null,0,null,null,0,null,null,0,null,null,0,null,null,0]
[null,"Otros",null,null,null,0,null,null,0,null,null,0,null,null,0,null,null,0,null,null,0,null,null,0,null,null,0,null,null,0]
[null,"TOTAL",null,{"$f":"SUM(D169:D176)","v":0},0,0,0,0,0,0,0,0,0,0,0,0,0,0,0,0,0,0,0,0,0,0,0,0,0,0]
[]
[null,"En caso de requerir alguna precisión o aclaración, describa brevemente: "]
[]
[]
[null,"Numero de actividad",null,"1.1.11"]
[{"$f":"T183","v":0},"Tipo de actividad",null,"Trimestre de inicio",null,null,null,null,"Trimestre de término",null,null,null,null,null,"Presupuesto de la actividad",null,null,null,null,0,null,null,"Título de la actividad"]
[null,null,null,"USAER",null,null,"CAM básico",null,null,"CAM básico con FpT",null,null,"CAM laboral",null,null,"CAPEP",null,null,"CRIE",null,null,"UOP",null,null,"UAEBH",null,null,"Otro",null,null,"Especifique producto o servicio en lo que se planea ejercer","Propósito de la actividad"]
[null,null,null,"SEE:",null,null,"SEE:",null,null,"SEE:",null,null,"SEE:",null,null,"SEE:",null,null,"SEE:",null,null,"SEE:",null,null,"SEE:",null,null,"SEE:"]
[null,null,null,"M","H","T","M","H","T","M","H","T","M","H","T","M","H","T","M","H","T","M","H","T","M","H","T","M","H","T"]
[null,"Supervisores",null,null,null,{"$f":"SUM(D187,E187)","v":0},null,null,{"$f":"SUM(G187,H187)","v":0},null,null,{"$f":"SUM(J187,K187)","v":0},null,null,{"$f":"SUM(M187,N187)","v":0},null,null,{"$f":"SUM(P187,Q187)","v":0},null,null,{"$f":"SUM(S187,T187)","v":0},null,null,{"$f":"SUM(V187,W187)","v":0},null,null,{"$f":"SUM(Y187,Z187)","v":0},null,null,{"$f":"SUM(AB187,AC187)","v":0}]
[null,"Directivas/os",null,null,null,{"$f":"SUM(D188,E188)","v":0},null,null,0,null,null,0,null,null,0,null,null,0,null,null,0,null,null,0,null,null,0,null,null,0]
[null,"Docentes",null,null,null,{"$f":"SUM(D189,E189)","v":0}," ",null,{"$f":"SUM(G189,H189)","v":0}," ",null,0," ",null,0," ",null,0," ",null,0," ",null,0," ",null,0," ",null,0]
[null,"Equipo de apoyo",null,null,null,{"$f":"SUM(D190,E190)","v":0},null,null,{"$f":"SUM(G190,H190)","v":0},null,null,0,null,null,0,null,null,0,null,null,0,null,null,0,null,null,0,null,null,0]
[null,"Familias",null,null,null,0,null,null,0,null,null,0,null,null,0,null,null,0,null,null,0,null,null,0,null,null,0,null,null,0]
[null,"Docentes de EB",null,null,null,0,null,null,0,null,null,0,null,null,0,null,null,0,null,null,0,null,null,0,null,null,0,null,null,0]
[null,"Otros",null,null,null,0,null,null,0,null,null,0,null,null,0,null,null,0,null,null,0,null,null,0,null,null,0,null,null,0]
[null,"TOTAL",null,{"$f":"SUM(D186:D193)","v":0},0,0,0,0,0,0,0,0,0,0,0,0,0,0,0,0,0,0,0,0,0,0,0,0,0,0]
[]
[null,"En caso de requerir alguna precisión o aclaración, describa brevemente: "]
[]
[]
[null,"Numero de actividad",null,"1.1.12"]
[{"$f":"T200","v":0},"Tipo de actividad",null,"Trimestre de inicio",null,null,null,null,"Trimestre de término",null,null,null,null,null,"Presupuesto de la actividad",null,null,null,null,0,null,null,"Título de la actividad"]
[null,null,null,"USAER",null,null,"CAM básico",null,null,"CAM básico con FpT",null,null,"CAM laboral",null,null,"CAPEP",null,null,"CRIE",null,null,"UOP",null,null,"UAEBH",null,null,"Otro",null,null,"Especifique producto o servicio en lo que se planea ejercer","Propósito de la actividad"]
[null,null,null,"SEE:",null,null,"SEE:",null,null,"SEE:",null,null,"SEE:",null,null,"SEE:",null,null,"SEE:",null,null,"SEE:",null,null,"SEE:",null,null,"SEE:"]
[null,null,null,"M","H","T","M","H","T","M","H","T","M","H","T","M","H","T","M","H","T","M","H","T","M","H","T","M","H","T"]
[null,"Supervisores",null,null,null,{"$f":"SUM(D204,E204)","v":0},null,null,{"$f":"SUM(G204,H204)","v":0},null,null,{"$f":"SUM(J204,K204)","v":0},null,null,{"$f":"SUM(M204,N204)","v":0},null,null,{"$f":"SUM(P204,Q204)","v":0},null,null,{"$f":"SUM(S204,T204)","v":0},null,null,{"$f":"SUM(V204,W204)","v":0},null,null,{"$f":"SUM(Y204,Z204)","v":0},null,null,{"$f":"SUM(AB204,AC204)","v":0}]
[null,"Directivas/os",null,null,null,{"$f":"SUM(D205,E205)","v":0},null,null,0,null,null,0,null,null,0,null,null,0,null,null,0,null,null,0,null,null,0,null,null,0]
[null,"Docentes",null,null,null,{"$f":"SUM(D206,E206)","v":0}," ",null,{"$f":"SUM(G206,H206)","v":0}," ",null,0," ",null,0," ",null,0," ",null,0," ",null,0," ",null,0," ",null,0]
[null,"Equipo de apoyo",null,null,null,{"$f":"SUM(D207,E207)","v":0},null,null,{"$f":"SUM(G207,H207)","v":0},null,null,0,null,null,0,null,null,0,null,null,0,null,null,0,null,null,0,null,null,0]
[null,"Familias",null,null,null,0,null,null,0,null,null,0,null,null,0,null,null,0,null,null,0,null,null,0,null,null,0,null,null,0]
[null,"Docentes de EB",null,null,null,0,null,null,0,null,null,0,null,null,0,null,null,0,null,null,0,null,null,0,null,null,0,null,null,0]
[null,"Otros",null,null,null,0,null,null,0,null,null,0,null,null,0,null,null,0,null,null,0,null,null,0,null,null,0,null,null,0]
[null,"TOTAL",null,{"$f":"SUM(D203:D210)","v":0},0,0,0,0,0,0,0,0,0,0,0,0,0,0,0,0,0,0,0,0,0,0,0,0,0,0]
[]
[null,"En caso de requerir alguna precisión o aclaración, describa brevemente: "]
[]
[]
[null,"Numero de actividad",null,"1.1.13"]
[{"$f":"T217","v":0},"Tipo de actividad",null,"Trimestre de inicio",null,null,null,null,"Trimestre de término",null,null,null,null,null,"Presupuesto de la actividad",null,null,null,null,0,null,null,"Título de la actividad"]
[null,null,null,"USAER",null,null,"CAM básico",null,null,"CAM básico con FpT",null,null,"CAM laboral",null,null,"CAPEP",null,null,"CRIE",null,null,"UOP",null,null,"UAEBH",null,null,"Otro",null,null,"Especifique producto o servicio en lo que se planea ejercer","Propósito de la actividad"]
[null,null,null,"SEE:",null,null,"SEE:",null,null,"SEE:",null,null,"SEE:",null,null,"SEE:",null,null,"SEE:",null,null,"SEE:",null,null,"SEE:",null,null,"SEE:"]
[null,null,null,"M","H","T","M","H","T","M","H","T","M","H","T","M","H","T","M","H","T","M","H","T","M","H","T","M","H","T"]
[null,"Supervisores",null,null,null,{"$f":"SUM(D221,E221)","v":0},null,null,{"$f":"SUM(G221,H221)","v":0},null,null,{"$f":"SUM(J221,K221)","v":0},null,null,{"$f":"SUM(M221,N221)","v":0},null,null,{"$f":"SUM(P221,Q221)","v":0},null,null,{"$f":"SUM(S221,T221)","v":0},null,null,{"$f":"SUM(V221,W221)","v":0},null,null,{"$f":"SUM(Y221,Z221)","v":0},null,null,{"$f":"SUM(AB221,AC221)","v":0}]
[null,"Directivas/os",null,null,null,{"$f":"SUM(D222,E222)","v":0},null,null,0,null,null,0,null,null,0,null,null,0,null,null,0,null,null,0,null,null,0,null,null,0]
[null,"Docentes",null,null,null,{"$f":"SUM(D223,E223)","v":0}," ",null,{"$f":"SUM(G223,H223)","v":0}," ",null,0," ",null,0," ",null,0," ",null,0," ",null,0," ",null,0," ",null,0]
[null,"Equipo de apoyo",null,null,null,{"$f":"SUM(D224,E224)","v":0},null,null,{"$f":"SUM(G224,H224)","v":0},null,null,0,null,null,0,null,null,0,null,null,0,null,null,0,null,null,0,null,null,0]
[null,"Familias",null,null,null,0,null,null,0,null,null,0,null,null,0,null,null,0,null,null,0,null,null,0,null,null,0,null,null,0]
[null,"Docentes de EB",null,null,null,0,null,null,0,null,null,0,null,null,0,null,null,0,null,null,0,null,null,0,null,null,0,null,null,0]
[null,"Otros",null,null,null,0,null,null,0,null,null,0,null,null,0,null,null,0,null,null,0,null,null,0,null,null,0,null,null,0]
[null,"TOTAL",null,{"$f":"SUM(D220:D227)","v":0},0,0,0,0,0,0,0,0,0,0,0,0,0,0,0,0,0,0,0,0,0,0,0,0,0,0]
[]
[null,"En caso de requerir alguna precisión o aclaración, describa brevemente: "]
[]
[]
[null,"Numero de actividad",null,"1.1.14"]
[{"$f":"T234","v":0},"Tipo de actividad",null,"Trimestre de inicio",null,null,null,null,"Trimestre de término",null,null,null,null,null,"Presupuesto de la actividad",null,null,null,null,0,null,null,"Título de la actividad"]
[null,null,null,"USAER",null,null,"CAM básico",null,null,"CAM básico con FpT",null,null,"CAM laboral",null,null,"CAPEP",null,null,"CRIE",null,null,"UOP",null,null,"UAEBH",null,null,"Otro",null,null,"Especifique producto o servicio en lo que se planea ejercer","Propósito de la actividad"]
[null,null,null,"SEE:",null,null,"SEE:",null,null,"SEE:",null,null,"SEE:",null,null,"SEE:",null,null,"SEE:",null,null,"SEE:",null,null,"SEE:",null,null,"SEE:"]
[null,null,null,"M","H","T","M","H","T","M","H","T","M","H","T","M","H","T","M","H","T","M","H","T","M","H","T","M","H","T"]
[null,"Supervisores",null,null,null,{"$f":"SUM(D238,E238)","v":0},null,null,{"$f":"SUM(G238,H238)","v":0},null,null,{"$f":"SUM(J238,K238)","v":0},null,null,{"$f":"SUM(M238,N238)","v":0},null,null,{"$f":"SUM(P238,Q238)","v":0},null,null,{"$f":"SUM(S238,T238)","v":0},null,null,{"$f":"SUM(V238,W238)","v":0},null,null,{"$f":"SUM(Y238,Z238)","v":0},null,null,{"$f":"SUM(AB238,AC238)","v":0}]
[null,"Directivas/os",null,null,null,{"$f":"SUM(D239,E239)","v":0},null,null,0,null,null,0,null,null,0,null,null,0,null,null,0,null,null,0,null,null,0,null,null,0]
[null,"Docentes",null,null,null,{"$f":"SUM(D240,E240)","v":0}," ",null,{"$f":"SUM(G240,H240)","v":0}," ",null,0," ",null,0," ",null,0," ",null,0," ",null,0," ",null,0," ",null,0]
[null,"Equipo de apoyo",null,null,null,{"$f":"SUM(D241,E241)","v":0},null,null,{"$f":"SUM(G241,H241)","v":0},null,null,0,null,null,0,null,null,0,null,null,0,null,null,0,null,null,0,null,null,0]
[null,"Familias",null,null,null,0,null,null,0,null,null,0,null,null,0,null,null,0,null,null,0,null,null,0,null,null,0,null,null,0]
[null,"Docentes de EB",null,null,null,0,null,null,0,null,null,0,null,null,0,null,null,0,null,null,0,null,null,0,null,null,0,null,null,0]
[null,"Otros",null,null,null,0,null,null,0,null,null,0,null,null,0,null,null,0,null,null,0,null,null,0,null,null,0,null,null,0]
[null,"TOTAL",null,{"$f":"SUM(D237:D244)","v":0},0,0,0,0,0,0,0,0,0,0,0,0,0,0,0,0,0,0,0,0,0,0,0,0,0,0]
[]
[null,"En caso de requerir alguna precisión o aclaración, describa brevemente: "]
[]
[]
[null,"Numero de actividad",null,"1.1.15"]
[{"$f":"T251","v":0},"Tipo de actividad",null,"Trimestre de inicio",null,null,null,null,"Trimestre de término",null,null,null,null,null,"Presupuesto de la actividad",null,null,null,null,0,null,null,"Título de la actividad"]
[null,null,null,"USAER",null,null,"CAM básico",null,null,"CAM básico con FpT",null,null,"CAM laboral",null,null,"CAPEP",null,null,"CRIE",null,null,"UOP",null,null,"UAEBH",null,null,"Otro",null,null,"Especifique producto o servicio en lo que se planea ejercer","Propósito de la actividad"]
[null,null,null,"SEE:",null,null,"SEE:",null,null,"SEE:",null,null,"SEE:",null,null,"SEE:",null,null,"SEE:",null,null,"SEE:",null,null,"SEE:",null,null,"SEE:"]
[null,null,null,"M","H","T","M","H","T","M","H","T","M","H","T","M","H","T","M","H","T","M","H","T","M","H","T","M","H","T"]
[null,"Supervisores",null,null,null,{"$f":"SUM(D255,E255)","v":0},null,null,{"$f":"SUM(G255,H255)","v":0},null,null,{"$f":"SUM(J255,K255)","v":0},null,null,{"$f":"SUM(M255,N255)","v":0},null,null,{"$f":"SUM(P255,Q255)","v":0},null,null,{"$f":"SUM(S255,T255)","v":0},null,null,{"$f":"SUM(V255,W255)","v":0},null,null,{"$f":"SUM(Y255,Z255)","v":0},null,null,{"$f":"SUM(AB255,AC255)","v":0}]
[null,"Directivas/os",null,null,null,{"$f":"SUM(D256,E256)","v":0},null,null,0,null,null,0,null,null,0,null,null,0,null,null,0,null,null,0,null,null,0,null,null,0]
[null,"Docentes",null,null,null,{"$f":"SUM(D257,E257)","v":0}," ",null,{"$f":"SUM(G257,H257)","v":0}," ",null,0," ",null,0," ",null,0," ",null,0," ",null,0," ",null,0," ",null,0]
[null,"Equipo de apoyo",null,null,null,{"$f":"SUM(D258,E258)","v":0},null,null,{"$f":"SUM(G258,H258)","v":0},null,null,0,null,null,0,null,null,0,null,null,0,null,null,0,null,null,0,null,null,0]
[null,"Familias",null,null,null,0,null,null,0,null,null,0,null,null,0,null,null,0,null,null,0,null,null,0,null,null,0,null,null,0]
[null,"Docentes de EB",null,null,null,0,null,null,0,null,null,0,null,null,0,null,null,0,null,null,0,null,null,0,null,null,0,null,null,0]
[null,"Otros",null,null,null,0,null,null,0,null,null,0,null,null,0,null,null,0,null,null,0,null,null,0,null,null,0,null,null,0]
[null,"TOTAL",null,{"$f":"SUM(D254:D261)","v":0},0,0,0,0,0,0,0,0,0,0,0,0,0,0,0,0,0,0,0,0,0,0,0,0,0,0]
[]
[null,"En caso de requerir alguna precisión o aclaración, describa brevemente: "]
[]
[]
[null,"Numero de actividad",null,"1.1.16"]
[{"$f":"T268","v":0},"Tipo de actividad",null,"Trimestre de inicio",null,null,null,null,"Trimestre de término",null,null,null,null,null,"Presupuesto de la actividad",null,null,null,null,0,null,null,"Título de la actividad"]
[null,null,null,"USAER",null,null,"CAM básico",null,null,"CAM básico con FpT",null,null,"CAM laboral",null,null,"CAPEP",null,null,"CRIE",null,null,"UOP",null,null,"UAEBH",null,null,"Otro",null,null,"Especifique producto o servicio en lo que se planea ejercer","Propósito de la actividad"]
[null,null,null,"SEE:",null,null,"SEE:",null,null,"SEE:",null,null,"SEE:",null,null,"SEE:",null,null,"SEE:",null,null,"SEE:",null,null,"SEE:",null,null,"SEE:"]
[null,null,null,"M","H","T","M","H","T","M","H","T","M","H","T","M","H","T","M","H","T","M","H","T","M","H","T","M","H","T"]
[null,"Supervisores",null,null,null,{"$f":"SUM(D272,E272)","v":0},null,null,{"$f":"SUM(G272,H272)","v":0},null,null,{"$f":"SUM(J272,K272)","v":0},null,null,{"$f":"SUM(M272,N272)","v":0},null,null,{"$f":"SUM(P272,Q272)","v":0},null,null,{"$f":"SUM(S272,T272)","v":0},null,null,{"$f":"SUM(V272,W272)","v":0},null,null,{"$f":"SUM(Y272,Z272)","v":0},null,null,{"$f":"SUM(AB272,AC272)","v":0}]
[null,"Directivas/os",null,null,null,{"$f":"SUM(D273,E273)","v":0},null,null,0,null,null,0,null,null,0,null,null,0,null,null,0,null,null,0,null,null,0,null,null,0]
[null,"Docentes",null,null,null,{"$f":"SUM(D274,E274)","v":0}," ",null,{"$f":"SUM(G274,H274)","v":0}," ",null,0," ",null,0," ",null,0," ",null,0," ",null,0," ",null,0," ",null,0]
[null,"Equipo de apoyo",null,null,null,{"$f":"SUM(D275,E275)","v":0},null,null,{"$f":"SUM(G275,H275)","v":0},null,null,0,null,null,0,null,null,0,null,null,0,null,null,0,null,null,0,null,null,0]
[null,"Familias",null,null,null,0,null,null,0,null,null,0,null,null,0,null,null,0,null,null,0,null,null,0,null,null,0,null,null,0]
[null,"Docentes de EB",null,null,null,0,null,null,0,null,null,0,null,null,0,null,null,0,null,null,0,null,null,0,null,null,0,null,null,0]
[null,"Otros",null,null,null,0,null,null,0,null,null,0,null,null,0,null,null,0,null,null,0,null,null,0,null,null,0,null,null,0]
[null,"TOTAL",null,{"$f":"SUM(D271:D278)","v":0},0,0,0,0,0,0,0,0,0,0,0,0,0,0,0,0,0,0,0,0,0,0,0,0,0,0]
[]
[null,"En caso de requerir alguna precisión o aclaración, describa brevemente: "]
[]
[]
[null,"Numero de actividad",null,"1.1.17"]
[{"$f":"T285","v":0},"Tipo de actividad",null,"Trimestre de inicio",null,null,null,null,"Trimestre de término",null,null,null,null,null,"Presupuesto de la actividad",null,null,null,null,0,null,null,"Título de la actividad"]
[null,null,null,"USAER",null,null,"CAM básico",null,null,"CAM básico con FpT",null,null,"CAM laboral",null,null,"CAPEP",null,null,"CRIE",null,null,"UOP",null,null,"UAEBH",null,null,"Otro",null,null,"Especifique producto o servicio en lo que se planea ejercer","Propósito de la actividad"]
[null,null,null,"SEE:",null,null,"SEE:",null,null,"SEE:",null,null,"SEE:",null,null,"SEE:",null,null,"SEE:",null,null,"SEE:",null,null,"SEE:",null,null,"SEE:"]
[null,null,null,"M","H","T","M","H","T","M","H","T","M","H","T","M","H","T","M","H","T","M","H","T","M","H","T","M","H","T"]
[null,"Supervisores",null,null,null,{"$f":"SUM(D289,E289)","v":0},null,null,{"$f":"SUM(G289,H289)","v":0},null,null,{"$f":"SUM(J289,K289)","v":0},null,null,{"$f":"SUM(M289,N289)","v":0},null,null,{"$f":"SUM(P289,Q289)","v":0},null,null,{"$f":"SUM(S289,T289)","v":0},null,null,{"$f":"SUM(V289,W289)","v":0},null,null,{"$f":"SUM(Y289,Z289)","v":0},null,null,{"$f":"SUM(AB289,AC289)","v":0}]
[null,"Directivas/os",null,null,null,{"$f":"SUM(D290,E290)","v":0},null,null,0,null,null,0,null,null,0,null,null,0,null,null,0,null,null,0,null,null,0,null,null,0]
[null,"Docentes",null,null,null,{"$f":"SUM(D291,E291)","v":0}," ",null,{"$f":"SUM(G291,H291)","v":0}," ",null,0," ",null,0," ",null,0," ",null,0," ",null,0," ",null,0," ",null,0]
[null,"Equipo de apoyo",null,null,null,{"$f":"SUM(D292,E292)","v":0},null,null,{"$f":"SUM(G292,H292)","v":0},null,null,0,null,null,0,null,null,0,null,null,0,null,null,0,null,null,0,null,null,0]
[null,"Familias",null,null,null,0,null,null,0,null,null,0,null,null,0,null,null,0,null,null,0,null,null,0,null,null,0,null,null,0]
[null,"Docentes de EB",null,null,null,0,null,null,0,null,null,0,null,null,0,null,null,0,null,null,0,null,null,0,null,null,0,null,null,0]
[null,"Otros",null,null,null,0,null,null,0,null,null,0,null,null,0,null,null,0,null,null,0,null,null,0,null,null,0,null,null,0]
[null,"TOTAL",null,{"$f":"SUM(D288:D295)","v":0},0,0,0,0,0,0,0,0,0,0,0,0,0,0,0,0,0,0,0,0,0,0,0,0,0,0]
[]
[null,"En caso de requerir alguna precisión o aclaración, describa brevemente: "]
[]
[]
[null,"Numero de actividad",null,"1.1.18"]
[{"$f":"T302","v":0},"Tipo de actividad",null,"Trimestre de inicio",null,null,null,null,"Trimestre de término",null,null,null,null,null,"Presupuesto de la actividad",null,null,null,null,0,null,null,"Título de la actividad"]
[null,null,null,"USAER",null,null,"CAM básico",null,null,"CAM básico con FpT",null,null,"CAM laboral",null,null,"CAPEP",null,null,"CRIE",null,null,"UOP",null,null,"UAEBH",null,null,"Otro",null,null,"Especifique producto o servicio en lo que se planea ejercer","Propósito de la actividad"]
[null,null,null,"SEE:",null,null,"SEE:",null,null,"SEE:",null,null,"SEE:",null,null,"SEE:",null,null,"SEE:",null,null,"SEE:",null,null,"SEE:",null,null,"SEE:"]
[null,null,null,"M","H","T","M","H","T","M","H","T","M","H","T","M","H","T","M","H","T","M","H","T","M","H","T","M","H","T"]
[null,"Supervisores",null,null,null,{"$f":"SUM(D306,E306)","v":0},null,null,{"$f":"SUM(G306,H306)","v":0},null,null,{"$f":"SUM(J306,K306)","v":0},null,null,{"$f":"SUM(M306,N306)","v":0},null,null,{"$f":"SUM(P306,Q306)","v":0},null,null,{"$f":"SUM(S306,T306)","v":0},null,null,{"$f":"SUM(V306,W306)","v":0},null,null,{"$f":"SUM(Y306,Z306)","v":0},null,null,{"$f":"SUM(AB306,AC306)","v":0}]
[null,"Directivas/os",null,null,null,{"$f":"SUM(D307,E307)","v":0},null,null,0,null,null,0,null,null,0,null,null,0,null,null,0,null,null,0,null,null,0,null,null,0]
[null,"Docentes",null,null,null,{"$f":"SUM(D308,E308)","v":0}," ",null,{"$f":"SUM(G308,H308)","v":0}," ",null,0," ",null,0," ",null,0," ",null,0," ",null,0," ",null,0," ",null,0]
[null,"Equipo de apoyo",null,null,null,{"$f":"SUM(D309,E309)","v":0},null,null,{"$f":"SUM(G309,H309)","v":0},null,null,0,null,null,0,null,null,0,null,null,0,null,null,0,null,null,0,null,null,0]
[null,"Familias",null,null,null,0,null,null,0,null,null,0,null,null,0,null,null,0,null,null,0,null,null,0,null,null,0,null,null,0]
[null,"Docentes de EB",null,null,null,0,null,null,0,null,null,0,null,null,0,null,null,0,null,null,0,null,null,0,null,null,0,null,null,0]
[null,"Otros",null,null,null,0,null,null,0,null,null,0,null,null,0,null,null,0,null,null,0,null,null,0,null,null,0,null,null,0]
[null,"TOTAL",null,{"$f":"SUM(D305:D312)","v":0},0,0,0,0,0,0,0,0,0,0,0,0,0,0,0,0,0,0,0,0,0,0,0,0,0,0]
[]
[null,"En caso de requerir alguna precisión o aclaración, describa brevemente: "]
[]
[]
[null,"Numero de actividad",null,"1.1.19"]
[{"$f":"T319","v":0},"Tipo de actividad",null,"Trimestre de inicio",null,null,null,null,"Trimestre de término",null,null,null,null,null,"Presupuesto de la actividad",null,null,null,null,0,null,null,"Título de la actividad"]
[null,null,null,"USAER",null,null,"CAM básico",null,null,"CAM básico con FpT",null,null,"CAM laboral",null,null,"CAPEP",null,null,"CRIE",null,null,"UOP",null,null,"UAEBH",null,null,"Otro",null,null,"Especifique producto o servicio en lo que se planea ejercer","Propósito de la actividad"]
[null,null,null,"SEE:",null,null,"SEE:",null,null,"SEE:",null,null,"SEE:",null,null,"SEE:",null,null,"SEE:",null,null,"SEE:",null,null,"SEE:",null,null,"SEE:"]
[null,null,null,"M","H","T","M","H","T","M","H","T","M","H","T","M","H","T","M","H","T","M","H","T","M","H","T","M","H","T"]
[null,"Supervisores",null,null,null,{"$f":"SUM(D323,E323)","v":0},null,null,{"$f":"SUM(G323,H323)","v":0},null,null,{"$f":"SUM(J323,K323)","v":0},null,null,{"$f":"SUM(M323,N323)","v":0},null,null,{"$f":"SUM(P323,Q323)","v":0},null,null,{"$f":"SUM(S323,T323)","v":0},null,null,{"$f":"SUM(V323,W323)","v":0},null,null,{"$f":"SUM(Y323,Z323)","v":0},null,null,{"$f":"SUM(AB323,AC323)","v":0}]
[null,"Directivas/os",null,null,null,{"$f":"SUM(D324,E324)","v":0},null,null,0,null,null,0,null,null,0,null,null,0,null,null,0,null,null,0,null,null,0,null,null,0]
[null,"Docentes",null,null,null,{"$f":"SUM(D325,E325)","v":0}," ",null,{"$f":"SUM(G325,H325)","v":0}," ",null,0," ",null,0," ",null,0," ",null,0," ",null,0," ",null,0," ",null,0]
[null,"Equipo de apoyo",null,null,null,{"$f":"SUM(D326,E326)","v":0},null,null,{"$f":"SUM(G326,H326)","v":0},null,null,0,null,null,0,null,null,0,null,null,0,null,null,0,null,null,0,null,null,0]
[null,"Familias",null,null,null,0,null,null,0,null,null,0,null,null,0,null,null,0,null,null,0,null,null,0,null,null,0,null,null,0]
[null,"Docentes de EB",null,null,null,0,null,null,0,null,null,0,null,null,0,null,null,0,null,null,0,null,null,0,null,null,0,null,null,0]
[null,"Otros",null,null,null,0,null,null,0,null,null,0,null,null,0,null,null,0,null,null,0,null,null,0,null,null,0,null,null,0]
[null,"TOTAL",null,{"$f":"SUM(D322:D329)","v":0},0,0,0,0,0,0,0,0,0,0,0,0,0,0,0,0,0,0,0,0,0,0,0,0,0,0]
[]
[null,"En caso de requerir alguna precisión o aclaración, describa brevemente: "]
[]
[]
[null,"Numero de actividad",null,"1.1.20"]
[{"$f":"T336","v":0},"Tipo de actividad",null,"Trimestre de inicio",null,null,null,null,"Trimestre de término",null,null,null,null,null,"Presupuesto de la actividad",null,null,null,null,0,null,null,"Título de la actividad"]
[null,null,null,"USAER",null,null,"CAM básico",null,null,"CAM básico con FpT",null,null,"CAM laboral",null,null,"CAPEP",null,null,"CRIE",null,null,"UOP",null,null,"UAEBH",null,null,"Otro",null,null,"Especifique producto o servicio en lo que se planea ejercer","Propósito de la actividad"]
[null,null,null,"SEE:",null,null,"SEE:",null,null,"SEE:",null,null,"SEE:",null,null,"SEE:",null,null,"SEE:",null,null,"SEE:",null,null,"SEE:",null,null,"SEE:"]
[null,null,null,"M","H","T","M","H","T","M","H","T","M","H","T","M","H","T","M","H","T","M","H","T","M","H","T","M","H","T"]
[null,"Supervisores",null,null,null,{"$f":"SUM(D340,E340)","v":0},null,null,{"$f":"SUM(G340,H340)","v":0},null,null,{"$f":"SUM(J340,K340)","v":0},null,null,{"$f":"SUM(M340,N340)","v":0},null,null,{"$f":"SUM(P340,Q340)","v":0},null,null,{"$f":"SUM(S340,T340)","v":0},null,null,{"$f":"SUM(V340,W340)","v":0},null,null,{"$f":"SUM(Y340,Z340)","v":0},null,null,{"$f":"SUM(AB340,AC340)","v":0}]
[null,"Directivas/os",null,null,null,{"$f":"SUM(D341,E341)","v":0},null,null,0,null,null,0,null,null,0,null,null,0,null,null,0,null,null,0,null,null,0,null,null,0]
[null,"Docentes",null,null,null,{"$f":"SUM(D342,E342)","v":0}," ",null,{"$f":"SUM(G342,H342)","v":0}," ",null,0," ",null,0," ",null,0," ",null,0," ",null,0," ",null,0," ",null,0]
[null,"Equipo de apoyo",null,null,null,{"$f":"SUM(D343,E343)","v":0},null,null,{"$f":"SUM(G343,H343)","v":0},null,null,0,null,null,0,null,null,0,null,null,0,null,null,0,null,null,0,null,null,0]
[null,"Familias",null,null,null,0,null,null,0,null,null,0,null,null,0,null,null,0,null,null,0,null,null,0,null,null,0,null,null,0]
[null,"Docentes de EB",null,null,null,0,null,null,0,null,null,0,null,null,0,null,null,0,null,null,0,null,null,0,null,null,0,null,null,0]
[null,"Otros",null,null,null,0,null,null,0,null,null,0,null,null,0,null,null,0,null,null,0,null,null,0,null,null,0,null,null,0]
[null,"TOTAL",null,{"$f":"SUM(D339:D346)","v":0},0,0,0,0,0,0,0,0,0,0,0,0,0,0,0,0,0,0,0,0,0,0,0,0,0,0]
[]
[null,"En caso de requerir alguna precisión o aclaración, describa brevemente: "]
[]
[]
[]
[null,"1.2 Realización de encuentros, cursos, talleres y/o reuniones entre madres y padres de familia y/o tutores de estudiantes con discapacidad para la conformación y la operación de sus redes de apoyo"]
[null,"Recurso programado:",null,null,null,{"$f":"'Distribución presupuestal 2025'!H52","v":0},null,null,null,"SEE focalizados:",null,null,"USAER",{"$f":"'SEE 2025'!B16","v":81},"CAM básico",{"$f":"'SEE 2025'!C16","v":0},"Básico FpT",{"$f":"'SEE 2025'!C18","v":28},"CAM laboral",{"$f":"'SEE 2025'!D16","v":2},"CAPEP",{"$f":"'SEE 2025'!E16","v":0},"CRIE",{"$f":"'SEE 2025'!F16","v":0},"UOP",{"$f":"'SEE 2025'!G16","v":0},"UAEBH",{"$f":"'SEE 2025'!H16","v":0},"Otro",{"$f":"'SEE 2025'!I16","v":0}]
[null,"Remanente:",null,null,null,{"$f":"F354-SUM(A356:A440)","v":0}]
[]
[{"$f":"T358","v":0},"Numero de actividad",null,"1.2.1"]
[null,"Tipo de actividad",null,"Trimestre de inicio",null,null,null,null,"Trimestre de término",null,null,null,null,null,"Presupuesto de la actividad",null,null,null,null,null,null,null,"Título de la actividad"]
[null,null,null,"USAER",null,null,"CAM básico",null,null,"CAM básico con FpT",null,null,"CAM laboral",null,null,"CAPEP",null,null,"CRIE",null,null,"UOP",null,null,"UAEBH",null,null,"Otro",null,null,"Producto o servicio en lo que se planea ejercer","Propósito de la actividad"]
[null,null,null,"SEE:",null,null,"SEE:",null,null,"SEE:",null,null,"SEE:",null,null,"SEE:",null,null,"SEE:",null,null,"SEE:",null,null,"SEE:",null,null,"SEE:"]
[null,null,null,"M","H","T","M","H","T","M","H","T","M","H","T","M","H","T","M","H","T","M","H","T","M","H","T","M","H","T"]
[null,"Familias",null,null,null,{"$f":"SUM(D362,E362)","v":0},null,null,{"$f":"SUM(G362,H362)","v":0},null,null,{"$f":"SUM(J362,K362)","v":0},null,null,{"$f":"SUM(M362,N362)","v":0},null,null,{"$f":"SUM(P362,Q362)","v":0},null,null,{"$f":"SUM(S362,T362)","v":0},null,null,{"$f":"SUM(V362,W362)","v":0},null,null,{"$f":"SUM(Y362,Z362)","v":0},null,null,{"$f":"SUM(AB362,AC362)","v":0}]
[]
[null,"En caso de requerir alguna precisión o aclaración, describa brevemente: "]
[]
[]
[]
[]
[]
[]
[{"$f":"T372","v":0},"Numero de actividad",null,"1.2.2"]
[null,"Tipo de actividad",null,"Trimestre de inicio",null,null,null,null,"Trimestre de término",null,null,null,null,null,"Presupuesto de la actividad",null,null,null,null,null,null,null,"Título de la actividad"]
[null,null,null,"USAER",null,null,"CAM básico",null,null,"CAM básico con FpT",null,null,"CAM laboral",null,null,"CAPEP",null,null,"CRIE",null,null,"UOP",null,null,"UAEBH",null,null,"Otro",null,null,"Producto o servicio en lo que se planea ejercer","Propósito de la actividad"]
[null,null,null,"SEE:",null,null,"SEE:",null,null,"SEE:",null,null,"SEE:",null,null,"SEE:",null,null,"SEE:",null,null,"SEE:",null,null,"SEE:",null,null,"SEE:"]
[null,null,null,"M","H","T","M","H","T","M","H","T","M","H","T","M","H","T","M","H","T","M","H","T","M","H","T","M","H","T"]
[null,"Familias",null,null,null,{"$f":"SUM(D376,E376)","v":0},null,null,{"$f":"SUM(G376,H376)","v":0},null,null,{"$f":"SUM(J376,K376)","v":0},null,null,{"$f":"SUM(M376,N376)","v":0},null,null,{"$f":"SUM(P376,Q376)","v":0},null,null,{"$f":"SUM(S376,T376)","v":0},null,null,{"$f":"SUM(V376,W376)","v":0},null,null,{"$f":"SUM(Y376,Z376)","v":0},null,null,{"$f":"SUM(AB376,AC376)","v":0}]
[]
[null,"En caso de requerir alguna precisión o aclaración, describa brevemente: "]
[]
[]
[]
[]
[]
[]
[{"$f":"T386","v":0},"Numero de actividad",null,"1.2.3"]
[null,"Tipo de actividad",null,"Trimestre de inicio",null,null,null,null,"Trimestre de término",null,null,null,null,null,"Presupuesto de la actividad",null,null,null,null,null,null,null,"Título de la actividad"]
[null,null,null,"USAER",null,null,"CAM básico",null,null,"CAM básico con FpT",null,null,"CAM laboral",null,null,"CAPEP",null,null,"CRIE",null,null,"UOP",null,null,"UAEBH",null,null,"Otro",null,null,"Producto o servicio en lo que se planea ejercer","Propósito de la actividad"]
[null,null,null,"SEE:",null,null,"SEE:",null,null,"SEE:",null,null,"SEE:",null,null,"SEE:",null,null,"SEE:",null,null,"SEE:",null,null,"SEE:",null,null,"SEE:"]
[null,null,null,"M","H","T","M","H","T","M","H","T","M","H","T","M","H","T","M","H","T","M","H","T","M","H","T","M","H","T"]
[null,"Familias",null,null,null,{"$f":"SUM(D390,E390)","v":0},null,null,{"$f":"SUM(G390,H390)","v":0},null,null,{"$f":"SUM(J390,K390)","v":0},null,null,{"$f":"SUM(M390,N390)","v":0},null,null,{"$f":"SUM(P390,Q390)","v":0},null,null,{"$f":"SUM(S390,T390)","v":0},null,null,{"$f":"SUM(V390,W390)","v":0},null,null,{"$f":"SUM(Y390,Z390)","v":0},null,null,{"$f":"SUM(AB390,AC390)","v":0}]
[]
[null,"En caso de requerir alguna precisión o aclaración, describa brevemente: "]
[]
[]
[]
[]
[]
[]
[{"$f":"T400","v":0},"Numero de actividad",null,"1.2.4"]
[null,"Tipo de actividad",null,"Trimestre de inicio",null,null,null,null,"Trimestre de término",null,null,null,null,null,"Presupuesto de la actividad",null,null,null,null,null,null,null,"Título de la actividad"]
[null,null,null,"USAER",null,null,"CAM básico",null,null,"CAM básico con FpT",null,null,"CAM laboral",null,null,"CAPEP",null,null,"CRIE",null,null,"UOP",null,null,"UAEBH",null,null,"Otro",null,null,"Producto o servicio en lo que se planea ejercer","Propósito de la actividad"]
[null,null,null,"SEE:",null,null,"SEE:",null,null,"SEE:",null,null,"SEE:",null,null,"SEE:",null,null,"SEE:",null,null,"SEE:",null,null,"SEE:",null,null,"SEE:"]
[null,null,null,"M","H","T","M","H","T","M","H","T","M","H","T","M","H","T","M","H","T","M","H","T","M","H","T","M","H","T"]
[null,"Familias",null,null,null,{"$f":"SUM(D404,E404)","v":0},null,null,{"$f":"SUM(G404,H404)","v":0},null,null,{"$f":"SUM(J404,K404)","v":0},null,null,{"$f":"SUM(M404,N404)","v":0},null,null,{"$f":"SUM(P404,Q404)","v":0},null,null,{"$f":"SUM(S404,T404)","v":0},null,null,{"$f":"SUM(V404,W404)","v":0},null,null,{"$f":"SUM(Y404,Z404)","v":0},null,null,{"$f":"SUM(AB404,AC404)","v":0}]
[]
[null,"En caso de requerir alguna precisión o aclaración, describa brevemente: "]
[]
[]
[]
[]
[]
[]
[{"$f":"T414","v":0},"Numero de actividad",null,"1.2.5"]
[null,"Tipo de actividad",null,"Trimestre de inicio",null,null,null,null,"Trimestre de término",null,null,null,null,null,"Presupuesto de la actividad",null,null,null,null,null,null,null,"Título de la actividad"]
[null,null,null,"USAER",null,null,"CAM básico",null,null,"CAM básico con FpT",null,null,"CAM laboral",null,null,"CAPEP",null,null,"CRIE",null,null,"UOP",null,null,"UAEBH",null,null,"Otro",null,null,"Producto o servicio en lo que se planea ejercer","Propósito de la actividad"]
[null,null,null,"SEE:",null,null,"SEE:",null,null,"SEE:",null,null,"SEE:",null,null,"SEE:",null,null,"SEE:",null,null,"SEE:",null,null,"SEE:",null,null,"SEE:"]
[null,null,null,"M","H","T","M","H","T","M","H","T","M","H","T","M","H","T","M","H","T","M","H","T","M","H","T","M","H","T"]
[null,"Familias",null,null,null,{"$f":"SUM(D418,E418)","v":0},null,null,{"$f":"SUM(G418,H418)","v":0},null,null,{"$f":"SUM(J418,K418)","v":0},null,null,{"$f":"SUM(M418,N418)","v":0},null,null,{"$f":"SUM(P418,Q418)","v":0},null,null,{"$f":"SUM(S418,T418)","v":0},null,null,{"$f":"SUM(V418,W418)","v":0},null,null,{"$f":"SUM(Y418,Z418)","v":0},null,null,{"$f":"SUM(AB418,AC418)","v":0}]
[]
[null,"En caso de requerir alguna precisión o aclaración, describa brevemente: "]
[]
[]
[]
[]
[]
[]
[{"$f":"T428","v":0},"Numero de actividad",null,"1.2.6"]
[null,"Tipo de actividad",null,"Trimestre de inicio",null,null,null,null,"Trimestre de término",null,null,null,null,null,"Presupuesto de la actividad",null,null,null,null,null,null,null,"Título de la actividad"]
[null,null,null,"USAER",null,null,"CAM básico",null,null,"CAM básico con FpT",null,null,"CAM laboral",null,null,"CAPEP",null,null,"CRIE",null,null,"UOP",null,null,"UAEBH",null,null,"Otro",null,null,"Producto o servicio en lo que se planea ejercer","Propósito de la actividad"]
[null,null,null,"SEE:",null,null,"SEE:",null,null,"SEE:",null,null,"SEE:",null,null,"SEE:",null,null,"SEE:",null,null,"SEE:",null,null,"SEE:",null,null,"SEE:"]
[null,null,null,"M","H","T","M","H","T","M","H","T","M","H","T","M","H","T","M","H","T","M","H","T","M","H","T","M","H","T"]
[null,"Familias",null,null,null,{"$f":"SUM(D432,E432)","v":0},null,null,{"$f":"SUM(G432,H432)","v":0},null,null,{"$f":"SUM(J432,K432)","v":0},null,null,{"$f":"SUM(M432,N432)","v":0},null,null,{"$f":"SUM(P432,Q432)","v":0},null,null,{"$f":"SUM(S432,T432)","v":0},null,null,{"$f":"SUM(V432,W432)","v":0},null,null,{"$f":"SUM(Y432,Z432)","v":0},null,null,{"$f":"SUM(AB432,AC432)","v":0}]
[]
[null,"En caso de requerir alguna precisión o aclaración, describa brevemente: "]

{"sheet":"Acciones académicas AS 2025","index":9,"n_rows":420,"n_cols":29,"rows_kept":420,"cut":false,"hidden":false,"merged":[[422,21,422,27],[423,21,423,27],[424,21,424,27],[415,28,423,31],[416,21,416,27],[417,1,417,2],[417,21,417,27],[418,21,418,27],[419,1,419,20],[419,21,419,27],[420,1,424,20],[420,21,420,27],[421,21,421,27],[414,18,414,20],[414,21,414,27],[414,28,414,31],[415,4,415,5],[415,7,415,8],[415,10,415,11],[415,13,415,14],[415,16,415,17],[415,19,415,20],[415,21,415,27],[413,14,413,18],[413,19,413,21],[413,22,413,25],[413,26,413,31],[414,1,416,2],[414,3,414,5],[414,6,414,8],[414,9,414,11],[414,12,414,14],[414,15,414,17],[408,21,408,27],[409,21,409,27],[410,21,410,27],[412,1,412,2],[412,3,412,5],[413,1,413,2],[413,3,413,5],[413,6,413,7],[413,8,413,11],[413,12,413,13],[401,28,409,31],[402,21,402,27],[403,1,403,2],[403,21,403,27],[404,21,404,27],[405,1,405,20],[405,21,405,27],[406,1,410,20],[406,21,406,27],[407,21,407,27],[400,18,400,20],[400,21,400,27],[400,28,400,31],[401,4,401,5],[401,7,401,8],[401,10,401,11],[401,13,401,14],[401,16,401,17],[401,19,401,20],[401,21,401,27],[399,14,399,18],[399,19,399,21],[399,22,399,25],[399,26,399,31],[400,1,402,2],[400,3,400,5],[400,6,400,8],[400,9,400,11],[400,12,400,14],[400,15,400,17],[394,21,394,27],[395,21,395,27],[396,21,396,27],[398,1,398,2],[398,3,398,5],[399,1,399,2],[399,3,399,5],[399,6,399,7],[399,8,399,11],[399,12,399,13],[387,28,395,31],[388,21,388,27],[389,1,389,2],[389,21,389,27],[390,21,390,27],[391,1,391,20],[391,21,391,27],[392,1,396,20],[392,21,392,27],[393,21,393,27],[386,18,386,20],[386,21,386,27],[386,28,386,31],[387,4,387,5],[387,7,387,8],[387,10,387,11],[387,13,387,14],[387,16,387,17],[387,19,387,20],[387,21,387,27],[385,14,385,18],[385,19,385,21],[385,22,385,25],[385,26,385,31],[386,1,388,2],[386,3,386,5],[386,6,386,8],[386,9,386,11],[386,12,386,14],[386,15,386,17],[380,21,380,27],[381,21,381,27],[382,21,382,27],[384,1,384,2],[384,3,384,5],[385,1,385,2],[385,3,385,5],[385,6,385,7],[385,8,385,11],[385,12,385,13],[373,28,381,31],[374,21,374,27],[375,1,375,2],[375,21,375,27],[376,21,376,27],[377,1,377,20],[377,21,377,27],[378,1,382,20],[378,21,378,27],[379,21,379,27],[372,18,372,20],[372,21,372,27],[372,28,372,31],[373,4,373,5],[373,7,373,8],[373,10,373,11],[373,13,373,14],[373,16,373,17],[373,19,373,20],[373,21,373,27],[371,14,371,18],[371,19,371,21],[371,22,371,25],[371,26,371,31],[372,1,374,2],[372,3,372,5],[372,6,372,8],[372,9,372,11],[372,12,372,14],[372,15,372,17],[366,21,366,27],[367,21,367,27],[368,21,368,27],[370,1,370,2],[370,3,370,5],[371,1,371,2],[371,3,371,5],[371,6,371,7],[371,8,371,11],[371,12,371,13],[359,28,367,31],[360,21,360,27],[361,1,361,2],[361,21,361,27],[362,21,362,27],[363,1,363,20],[363,21,363,27],[364,1,368,20],[364,21,364,27],[365,21,365,27],[358,18,358,20],[358,21,358,27],[358,28,358,31],[359,4,359,5],[359,7,359,8],[359,10,359,11],[359,13,359,14],[359,16,359,17],[359,19,359,20],[359,21,359,27],[358,1,360,2],[358,3,358,5],[358,6,358,8],[358,9,358,11],[358,12,358,14],[358,15,358,17],[357,8,357,11],[357,12,357,13],[357,14,357,18],[357,19,357,21],[357,22,357,25],[357,26,357,31],[354,1,354,4],[354,5,354,7],[356,1,356,2],[356,3,356,5],[357,1,357,2],[357,3,357,5],[357,6,357,7],[352,1,352,33],[353,1,353,4],[353,5,353,7],[353,9,353,11],[348,1,348,33],[349,1,349,33],[343,21,343,24],[344,1,344,2],[344,21,344,24],[345,1,345,2],[345,21,345,24],[346,1,346,2],[346,21,346,24],[339,1,339,2],[339,21,339,24],[339,25,345,31],[340,1,340,2],[340,21,340,24],[341,1,341,2],[341,21,341,24],[342,1,342,2],[342,21,342,24],[343,1,343,2],[336,21,338,24],[336,25,338,31],[337,4,337,5],[337,7,337,8],[337,10,337,11],[337,13,337,14],[337,16,337,17],[337,19,337,20],[335,19,335,21],[335,22,335,25],[335,26,335,31],[336,1,338,2],[336,3,336,5],[336,6,336,8],[336,9,336,11],[336,12,336,14],[336,15,336,17],[336,18,336,20],[331,1,331,33],[332,1,332,33],[334,1,334,2],[334,3,334,5],[335,1,335,2],[335,3,335,5],[335,6,335,7],[335,8,335,11],[335,12,335,13],[335,14,335,18],[326,21,326,24],[327,1,327,2],[327,21,327,24],[328,1,328,2],[328,21,328,24],[329,1,329,2],[329,21,329,24],[322,1,322,2],[322,21,322,24],[322,25,328,31],[323,1,323,2],[323,21,323,24],[324,1,324,2],[324,21,324,24],[325,1,325,2],[325,21,325,24],[326,1,326,2],[319,21,321,24],[319,25,321,31],[320,4,320,5],[320,7,320,8],[320,10,320,11],[320,13,320,14],[320,16,320,17],[320,19,320,20],[318,19,318,21],[318,22,318,25],[318,26,318,31],[319,1,321,2],[319,3,319,5],[319,6,319,8],[319,9,319,11],[319,12,319,14],[319,15,319,17],[319,18,319,20],[314,1,314,33],[315,1,315,33],[317,1,317,2],[317,3,317,5],[318,1,318,2],[318,3,318,5],[318,6,318,7],[318,8,318,11],[318,12,318,13],[318,14,318,18],[309,21,309,24],[310,1,310,2],[310,21,310,24],[311,1,311,2],[311,21,311,24],[312,1,312,2],[312,21,312,24],[305,1,305,2],[305,21,305,24],[305,25,311,31],[306,1,306,2],[306,21,306,24],[307,1,307,2],[307,21,307,24],[308,1,308,2],[308,21,308,24],[309,1,309,2],[302,21,304,24],[302,25,304,31],[303,4,303,5],[303,7,303,8],[303,10,303,11],[303,13,303,14],[303,16,303,17],[303,19,303,20],[301,19,301,21],[301,22,301,25],[301,26,301,31],[302,1,304,2],[302,3,302,5],[302,6,302,8],[302,9,302,11],[302,12,302,14],[302,15,302,17],[302,18,302,20],[297,1,297,33],[298,1,298,33],[300,1,300,2],[300,3,300,5],[301,1,301,2],[301,3,301,5],[301,6,301,7],[301,8,301,11],[301,12,301,13],[301,14,301,18],[292,21,292,24],[293,1,293,2],[293,21,293,24],[294,1,294,2],[294,21,294,24],[295,1,295,2],[295,21,295,24],[288,1,288,2],[288,21,288,24],[288,25,294,31],[289,1,289,2],[289,21,289,24],[290,1,290,2],[290,21,290,24],[291,1,291,2],[291,21,291,24],[292,1,292,2],[285,21,287,24],[285,25,287,31],[286,4,286,5],[286,7,286,8],[286,10,286,11],[286,13,286,14],[286,16,286,17],[286,19,286,20],[284,19,284,21],[284,22,284,25],[284,26,284,31],[285,1,287,2],[285,3,285,5],[285,6,285,8],[285,9,285,11],[285,12,285,14],[285,15,285,17],[285,18,285,20],[280,1,280,33],[281,1,281,33],[283,1,283,2],[283,3,283,5],[284,1,284,2],[284,3,284,5],[284,6,284,7],[284,8,284,11],[284,12,284,13],[284,14,284,18],[275,21,275,24],[276,1,276,2],[276,21,276,24],[277,1,277,2],[277,21,277,24],[278,1,278,2],[278,21,278,24],[271,1,271,2],[271,21,271,24],[271,25,277,31],[272,1,272,2],[272,21,272,24],[273,1,273,2],[273,21,273,24],[274,1,274,2],[274,21,274,24],[275,1,275,2],[268,21,270,24],[268,25,270,31],[269,4,269,5],[269,7,269,8],[269,10,269,11],[269,13,269,14],[269,16,269,17],[269,19,269,20],[267,19,267,21],[267,22,267,25],[267,26,267,31],[268,1,270,2],[268,3,268,5],[268,6,268,8],[268,9,268,11],[268,12,268,14],[268,15,268,17],[268,18,268,20],[263,1,263,33],[264,1,264,33],[266,1,266,2],[266,3,266,5],[267,1,267,2],[267,3,267,5],[267,6,267,7],[267,8,267,11],[267,12,267,13],[267,14,267,18],[258,21,258,24],[259,1,259,2],[259,21,259,24],[260,1,260,2],[260,21,260,24],[261,1,261,2],[261,21,261,24],[254,1,254,2],[254,21,254,24],[254,25,260,31],[255,1,255,2],[255,21,255,24],[256,1,256,2],[256,21,256,24],[257,1,257,2],[257,21,257,24],[258,1,258,2],[251,21,253,24],[251,25,253,31],[252,4,252,5],[252,7,252,8],[252,10,252,11],[252,13,252,14],[252,16,252,17],[252,19,252,20],[250,19,250,21],[250,22,250,25],[250,26,250,31],[251,1,253,2],[251,3,251,5],[251,6,251,8],[251,9,251,11],[251,12,251,14],[251,15,251,17],[251,18,251,20],[246,1,246,33],[247,1,247,33],[249,1,249,2],[249,3,249,5],[250,1,250,2],[250,3,250,5],[250,6,250,7],[250,8,250,11],[250,12,250,13],[250,14,250,18],[241,21,241,24],[242,1,242,2],[242,21,242,24],[243,1,243,2],[243,21,243,24],[244,1,244,2],[244,21,244,24],[237,1,237,2],[237,21,237,24],[237,25,243,31],[238,1,238,2],[238,21,238,24],[239,1,239,2],[239,21,239,24],[240,1,240,2],[240,21,240,24],[241,1,241,2],[234,21,236,24],[234,25,236,31],[235,4,235,5],[235,7,235,8],[235,10,235,11],[235,13,235,14],[235,16,235,17],[235,19,235,20],[233,19,233,21],[233,22,233,25],[233,26,233,31],[234,1,236,2],[234,3,234,5],[234,6,234,8],[234,9,234,11],[234,12,234,14],[234,15,234,17],[234,18,234,20],[229,1,229,33],[230,1,230,33],[232,1,232,2],[232,3,232,5],[233,1,233,2],[233,3,233,5],[233,6,233,7],[233,8,233,11],[233,12,233,13],[233,14,233,18],[224,21,224,24],[225,1,225,2],[225,21,225,24],[226,1,226,2],[226,21,226,24],[227,1,227,2],[227,21,227,24],[220,1,220,2],[220,21,220,24],[220,25,226,31],[221,1,221,2],[221,21,221,24],[222,1,222,2],[222,21,222,24],[223,1,223,2],[223,21,223,24],[224,1,224,2],[217,21,219,24],[217,25,219,31],[218,4,218,5],[218,7,218,8],[218,10,218,11],[218,13,218,14],[218,16,218,17],[218,19,218,20],[216,19,216,21],[216,22,216,25],[216,26,216,31],[217,1,219,2],[217,3,217,5],[217,6,217,8],[217,9,217,11],[217,12,217,14],[217,15,217,17],[217,18,217,20],[212,1,212,33],[213,1,213,33],[215,1,215,2],[215,3,215,5],[216,1,216,2],[216,3,216,5],[216,6,216,7],[216,8,216,11],[216,12,216,13],[216,14,216,18],[207,21,207,24],[208,1,208,2],[208,21,208,24],[209,1,209,2],[209,21,209,24],[210,1,210,2],[210,21,210,24],[203,1,203,2],[203,21,203,24],[203,25,209,31],[204,1,204,2],[204,21,204,24],[205,1,205,2],[205,21,205,24],[206,1,206,2],[206,21,206,24],[207,1,207,2],[200,21,202,24],[200,25,202,31],[201,4,201,5],[201,7,201,8],[201,10,201,11],[201,13,201,14],[201,16,201,17],[201,19,201,20],[199,19,199,21],[199,22,199,25],[199,26,199,31],[200,1,202,2],[200,3,200,5],[200,6,200,8],[200,9,200,11],[200,12,200,14],[200,15,200,17],[200,18,200,20],[195,1,195,33],[196,1,196,33],[198,1,198,2],[198,3,198,5],[199,1,199,2],[199,3,199,5],[199,6,199,7],[199,8,199,11],[199,12,199,13],[199,14,199,18],[190,21,190,24],[191,1,191,2],[191,21,191,24],[192,1,192,2],[192,21,192,24],[193,1,193,2],[193,21,193,24],[186,1,186,2],[186,21,186,24],[186,25,192,31],[187,1,187,2],[187,21,187,24],[188,1,188,2],[188,21,188,24],[189,1,189,2],[189,21,189,24],[190,1,190,2],[183,21,185,24],[183,25,185,31],[184,4,184,5],[184,7,184,8],[184,10,184,11],[184,13,184,14],[184,16,184,17],[184,19,184,20],[182,19,182,21],[182,22,182,25],[182,26,182,31],[183,1,185,2],[183,3,183,5],[183,6,183,8],[183,9,183,11],[183,12,183,14],[183,15,183,17],[183,18,183,20],[178,1,178,33],[179,1,179,33],[181,1,181,2],[181,3,181,5],[182,1,182,2],[182,3,182,5],[182,6,182,7],[182,8,182,11],[182,12,182,13],[182,14,182,18],[173,21,173,24],[174,1,174,2],[174,21,174,24],[175,1,175,2],[175,21,175,24],[176,1,176,2],[176,21,176,24],[169,1,169,2],[169,21,169,24],[169,25,175,31],[170,1,170,2],[170,21,170,24],[171,1,171,2],[171,21,171,24],[172,1,172,2],[172,21,172,24],[173,1,173,2],[166,21,168,24],[166,25,168,31],[167,4,167,5],[167,7,167,8],[167,10,167,11],[167,13,167,14],[167,16,167,17],[167,19,167,20],[165,19,165,21],[165,22,165,25],[165,26,165,31],[166,1,168,2],[166,3,166,5],[166,6,166,8],[166,9,166,11],[166,12,166,14],[166,15,166,17],[166,18,166,20],[161,1,161,33],[162,1,162,33],[164,1,164,2],[164,3,164,5],[165,1,165,2],[165,3,165,5],[165,6,165,7],[165,8,165,11],[165,12,165,13],[165,14,165,18],[156,21,156,24],[157,1,157,2],[157,21,157,24],[158,1,158,2],[158,21,158,24],[159,1,159,2],[159,21,159,24],[152,1,152,2],[152,21,152,24],[152,25,158,31],[153,1,153,2],[153,21,153,24],[154,1,154,2],[154,21,154,24],[155,1,155,2],[155,21,155,24],[156,1,156,2],[149,21,151,24],[149,25,151,31],[150,4,150,5],[150,7,150,8],[150,10,150,11],[150,13,150,14],[150,16,150,17],[150,19,150,20],[148,19,148,21],[148,22,148,25],[148,26,148,31],[149,1,151,2],[149,3,149,5],[149,6,149,8],[149,9,149,11],[149,12,149,14],[149,15,149,17],[149,18,149,20],[144,1,144,33],[145,1,145,33],[147,1,147,2],[147,3,147,5],[148,1,148,2],[148,3,148,5],[148,6,148,7],[148,8,148,11],[148,12,148,13],[148,14,148,18],[139,21,139,24],[140,1,140,2],[140,21,140,24],[141,1,141,2],[141,21,141,24],[142,1,142,2],[142,21,142,24],[135,1,135,2],[135,21,135,24],[135,25,141,31],[136,1,136,2],[136,21,136,24],[137,1,137,2],[137,21,137,24],[138,1,138,2],[138,21,138,24],[139,1,139,2],[132,21,134,24],[132,25,134,31],[133,4,133,5],[133,7,133,8],[133,10,133,11],[133,13,133,14],[133,16,133,17],[133,19,133,20],[131,19,131,21],[131,22,131,25],[131,26,131,31],[132,1,134,2],[132,3,132,5],[132,6,132,8],[132,9,132,11],[132,12,132,14],[132,15,132,17],[132,18,132,20],[127,1,127,33],[128,1,128,33],[130,1,130,2],[130,3,130,5],[131,1,131,2],[131,3,131,5],[131,6,131,7],[131,8,131,11],[131,12,131,13],[131,14,131,18],[122,21,122,24],[123,1,123,2],[123,21,123,24],[124,1,124,2],[124,21,124,24],[125,1,125,2],[125,21,125,24],[118,1,118,2],[118,21,118,24],[118,25,124,31],[119,1,119,2],[119,21,119,24],[120,1,120,2],[120,21,120,24],[121,1,121,2],[121,21,121,24],[122,1,122,2],[115,21,117,24],[115,25,117,31],[116,4,116,5],[116,7,116,8],[116,10,116,11],[116,13,116,14],[116,16,116,17],[116,19,116,20],[114,19,114,21],[114,22,114,25],[114,26,114,31],[115,1,117,2],[115,3,115,5],[115,6,115,8],[115,9,115,11],[115,12,115,14],[115,15,115,17],[115,18,115,20],[110,1,110,33],[111,1,111,33],[113,1,113,2],[113,3,113,5],[114,1,114,2],[114,3,114,5],[114,6,114,7],[114,8,114,11],[114,12,114,13],[114,14,114,18],[105,21,105,24],[106,1,106,2],[106,21,106,24],[107,1,107,2],[107,21,107,24],[108,1,108,2],[108,21,108,24],[101,1,101,2],[101,21,101,24],[101,25,107,31],[102,1,102,2],[102,21,102,24],[103,1,103,2],[103,21,103,24],[104,1,104,2],[104,21,104,24],[105,1,105,2],[98,21,100,24],[98,25,100,31],[99,4,99,5],[99,7,99,8],[99,10,99,11],[99,13,99,14],[99,16,99,17],[99,19,99,20],[97,19,97,21],[97,22,97,25],[97,26,97,31],[98,1,100,2],[98,3,98,5],[98,6,98,8],[98,9,98,11],[98,12,98,14],[98,15,98,17],[98,18,98,20],[93,1,93,33],[94,1,94,33],[96,1,96,2],[96,3,96,5],[97,1,97,2],[97,3,97,5],[97,6,97,7],[97,8,97,11],[97,12,97,13],[97,14,97,18],[88,21,88,24],[89,1,89,2],[89,21,89,24],[90,1,90,2],[90,21,90,24],[91,1,91,2],[91,21,91,24],[84,1,84,2],[84,21,84,24],[84,25,90,31],[85,1,85,2],[85,21,85,24],[86,1,86,2],[86,21,86,24],[87,1,87,2],[87,21,87,24],[88,1,88,2],[81,21,83,24],[81,25,83,31],[82,4,82,5],[82,7,82,8],[82,10,82,11],[82,13,82,14],[82,16,82,17],[82,19,82,20],[80,19,80,21],[80,22,80,25],[80,26,80,31],[81,1,83,2],[81,3,81,5],[81,6,81,8],[81,9,81,11],[81,12,81,14],[81,15,81,17],[81,18,81,20],[76,1,76,33],[77,1,77,33],[79,1,79,2],[79,3,79,5],[80,1,80,2],[80,3,80,5],[80,6,80,7],[80,8,80,11],[80,12,80,13],[80,14,80,18],[71,21,71,24],[72,1,72,2],[72,21,72,24],[73,1,73,2],[73,21,73,24],[74,1,74,2],[74,21,74,24],[67,1,67,2],[67,21,67,24],[67,25,73,31],[68,1,68,2],[68,21,68,24],[69,1,69,2],[69,21,69,24],[70,1,70,2],[70,21,70,24],[71,1,71,2],[64,21,66,24],[64,25,66,31],[65,4,65,5],[65,7,65,8],[65,10,65,11],[65,13,65,14],[65,16,65,17],[65,19,65,20],[63,19,63,21],[63,22,63,25],[63,26,63,31],[64,1,66,2],[64,3,64,5],[64,6,64,8],[64,9,64,11],[64,12,64,14],[64,15,64,17],[64,18,64,20],[59,1,59,33],[60,1,60,33],[62,1,62,2],[62,3,62,5],[63,1,63,2],[63,3,63,5],[63,6,63,7],[63,8,63,11],[63,12,63,13],[63,14,63,18],[54,21,54,24],[55,1,55,2],[55,21,55,24],[56,1,56,2],[56,21,56,24],[57,1,57,2],[57,21,57,24],[50,1,50,2],[50,21,50,24],[50,25,56,31],[51,1,51,2],[51,21,51,24],[52,1,52,2],[52,21,52,24],[53,1,53,2],[53,21,53,24],[54,1,54,2],[47,21,49,24],[47,25,49,31],[48,4,48,5],[48,7,48,8],[48,10,48,11],[48,13,48,14],[48,16,48,17],[48,19,48,20],[46,19,46,21],[46,22,46,25]],"merged_total":1115,"flags":["merged_cut"]}
[null,"Subsecretaría de Educación Básica\nDirección General de Desarrollo Curricular\nDirección de Fortalecimiento Curricular para la \nFormación Personal y Social en la Educación Básica\nEducación Especial"]
[]
[]
[]
[]
[null,"Componente: 1. Acciones académicas para Agentes educativos en temas de aptitudes sobresalientes"]
[null,"Para garantizar el cumplimiento de los objetivos del PFSEE las AEL podrán  destinar hasta  un 50% del recurso, de acuerdo con lo estipulado en las reglas de operación 2025."]
[null,"1.1 Desarrollo de acciones de actualización y fortalecimiento académico de Agentes educativos en temas de aptitudes sobresalientes"]
[null,"Recurso programado:",null,null,null,{"$f":"'Distribución presupuestal 2025'!W51","v":539756},null,null,null,"SEE focalizados:",null,null,"USAER",{"$f":"'SEE 2025'!N16","v":76},"CAPEP",{"$f":"'SEE 2025'!O16","v":0},"CRIE",{"$f":"'SEE 2025'!P16","v":0},"UOP",{"$f":"'SEE 2025'!Q16","v":0},"UAEBH",{"$f":"'SEE 2025'!R16","v":0},"Otro",{"$f":"'SEE 2025'!S16","v":1}]
[null,"Remanente:",null,null,null,{"$f":"F9-SUM(A13:A351)","v":0}]
[]
[null,"Numero de actividad",null,"1.1.1"]
[{"$f":"T13","v":336292},"Tipo de actividad",null,"Trimestre de inicio",null,null,"3ro",null,"Trimestre de término",null,null,null,"4to",null,"Presupuesto de la actividad",null,null,null,null,336292,null,null,"Título de la actividad",null,null,null,"METODOLOGÍAS INNOVADORAS CON ENFOQUE STEAM"]
[null,"Taller",null,"USAER",null,null,"CAPEP",null,null,"CRIE",null,null,"UOP",null,null,"UAEBH",null,null,"Otro",null,null,"Especifique producto o servicio en lo que se planea ejercer",null,null,null,"Propósito de la actividad"]
[null,null,null,"SEE:",76,null,"SEE:",0,null,"SEE:",0,null,"SEE:",0,null,"SEE:",0,null,"SEE:",1]
[null,null,null,"M","H","T","M","H","T","M","H","T","M","H","T","M","H","T","M","H","T"]
[null,"Supervisores",null,2,1,{"$f":"SUM(D17,E17)","v":3},0,0,{"$f":"SUM(G17,H17)","v":0},0,0,{"$f":"SUM(J17,K17)","v":0},0,0,{"$f":"SUM(M17,N17)","v":0},0,0,{"$f":"SUM(P17,Q17)","v":0},0,0,{"$f":"SUM(S17,T17)","v":0},"Pago a conferencistas o talleristas ",null,null,null,"Capacitar a los docentes en la implementación de metodologías innovadoras dentro del enfoque STEAM, proporcionando herramientas y estrategias prácticas que fomenten el aprendizaje colaborativo, la creatividad y el pensamiento crítico en sus estudiantes, al mismo tiempo que integran las disciplinas de Ciencia, Tecnología, Ingeniería, Artes y Matemáticas de manera interdisciplinaria."]
[null,"Directivas/os",null,0,0,{"$f":"SUM(D18,E18)","v":0},0,0,0,0,0,0,0,0,0,0,0,0,0,0,0,"Reproducción de materiales"]
[null,"Docentes",null,96,46,{"$f":"SUM(D19,E19)","v":142},0,0,0,0,0,0,0,0,0,0,0,0,1,0,1,"N/A"]
[null,"Equipo de apoyo",null,0,0,0,0,0,0,0,0,0,0,0,0,0,0,0,0,0,0,"N/A"]
[null,"Familias",null,0,0,0,0,0,0,0,0,0,0,0,0,0,0,0,0,0,0,"N/A"]
[null,"Docentes de EB",null,0,0,0,0,0,0,0,0,0,0,0,0,0,0,0,0,0,0,"N/A"]
[null,"Otros",null,3,1,4,0,0,0,0,0,0,0,0,0,0,0,0,0,0,0,"N/A"]
[null,"TOTAL",null,{"$f":"SUM(D16:D23)","v":101},48,149,0,0,0,0,0,0,0,0,0,0,0,0,1,0,1,"N/A"]
[]
[null,"En caso de requerir alguna precisión o aclaración, describa brevemente: "]
[null,"40 horas modalidad mixta, 30 horas presenciales, 10 horas a distancia. Durango 3 grupos y Laguna 2 grupos. Otro:1 docente de Centro de Iniciación a la Ciencia y la Tecnología."]
[]
[null,"Numero de actividad",null,"1.1.2"]
[{"$f":"T30","v":203464},"Tipo de actividad",null,"Trimestre de inicio",null,null,"3ro",null,"Trimestre de término",null,null,null,"4to",null,"Presupuesto de la actividad",null,null,null,null,203464,null,null,"Título de la actividad",null,null,null,"HABILIDADES DIGITALES CENTRADO EN INTELIGENCIA ARTIFICIAL "]
[null,"Taller",null,"USAER",null,null,"CAPEP",null,null,"CRIE",null,null,"UOP",null,null,"UAEBH",null,null,"Otro",null,null,"Especifique producto o servicio en lo que se planea ejercer",null,null,null,"Propósito de la actividad"]
[null,null,null,"SEE:",76,null,"SEE:",0,null,"SEE:",0,null,"SEE:",0,null,"SEE:",0,null,"SEE:",0]
[null,null,null,"M","H","T","M","H","T","M","H","T","M","H","T","M","H","T","M","H","T"]
[null,"Supervisores",null,2,1,{"$f":"SUM(D34,E34)","v":3},0,0,{"$f":"SUM(G34,H34)","v":0},0,0,{"$f":"SUM(J34,K34)","v":0},0,0,{"$f":"SUM(M34,N34)","v":0},0,0,{"$f":"SUM(P34,Q34)","v":0},0,0,{"$f":"SUM(S34,T34)","v":0},"Pago a conferencistas o talleristas ",null,null,null,"Proveer a los docentes con conocimientos y habilidades en el uso de herramientas de inteligencia artificial para personalizar y enriquecer la educación de alumnos con aptitudes sobresalientes, facilitando estrategias que potencien su aprendizaje autónomo, creatividad y pensamiento crítico."]
[null,"Directivas/os",null,0,0,{"$f":"SUM(D35,E35)","v":0},0,0,0,0,0,0,0,0,0,0,0,0,0,0,0,"Reproducción de materiales"]
[null,"Docentes",null,97,46,{"$f":"SUM(D36,E36)","v":143},0,0,0,0,0,0,0,0,0,0,0,0,0,0,0,"N/A"]
[null,"Equipo de apoyo",null,0,0,{"$f":"SUM(D37,E37)","v":0},0,0,0,0,0,0,0,0,0,0,0,0,0,0,0,"N/A"]
[null,"Familias",null,0,0,0,0,0,0,0,0,0,0,0,0,0,0,0,0,0,0,"N/A"]
[null,"Docentes de EB",null,0,0,0,0,0,0,0,0,0,0,0,0,0,0,0,0,0,0,"N/A"]
[null,"Otros",null,3,1,4,0,0,0,0,0,0,0,0,0,0,0,0,0,0,0,"N/A"]
[null,"TOTAL",null,{"$f":"SUM(D33:D40)","v":102},48,150,0,0,0,0,0,0,0,0,0,0,0,0,0,0,0,"N/A"]
[]
[null,"En caso de requerir alguna precisión o aclaración, describa brevemente: "]
[null,"Capacitación  a 150 agentes de educación especial, 40 horas modalidad mixta, 30 horas presenciales y 10 horas a distancia. Durango y región laguna. 3 grupos Durango, 2 región laguna."]
[]
[null,"Numero de actividad",null,"1.1.3"]
[{"$f":"T47","v":0},"Tipo de actividad",null,"Trimestre de inicio",null,null,null,null,"Trimestre de término",null,null,null,null,null,"Presupuesto de la actividad",null,null,null,null,0,null,null,"Título de la actividad"]
[null,null,null,"USAER",null,null,"CAPEP",null,null,"CRIE",null,null,"UOP",null,null,"UAEBH",null,null,"Otro",null,null,"Especifique producto o servicio en lo que se planea ejercer",null,null,null,"Propósito de la actividad"]
[null,null,null,"SEE:",0,null,"SEE:",0,null,"SEE:",0,null,"SEE:",0,null,"SEE:",0,null,"SEE:",0]
[null,null,null,"M","H","T","M","H","T","M","H","T","M","H","T","M","H","T","M","H","T"]
[null,"Supervisores",null,0,0,{"$f":"SUM(D51,E51)","v":0},0,0,{"$f":"SUM(G51,H51)","v":0},0,0,{"$f":"SUM(J51,K51)","v":0},0,0,{"$f":"SUM(M51,N51)","v":0},0,0,{"$f":"SUM(P51,Q51)","v":0},0,0,{"$f":"SUM(S51,T51)","v":0}]
[null,"Directivas/os",null,0,0,{"$f":"SUM(D52,E52)","v":0},0,0,0,0,0,0,0,0,0,0,0,0,0,0,0]
[null,"Docentes",null,0,0,{"$f":"SUM(D53,E53)","v":0},0,0,0,0,0,0,0,0,0,0,0,0,0,0,0]
[null,"Equipo de apoyo",null,0,0,{"$f":"SUM(D54,E54)","v":0},0,0,0,0,0,0,0,0,0,0,0,0,0,0,0]
[null,"Familias",null,0,0,0,0,0,0,0,0,0,0,0,0,0,0,0,0,0,0]
[null,"Docentes de EB",null,0,0,0,0,0,0,0,0,0,0,0,0,0,0,0,0,0,0]
[null,"Otros",null,0,0,0,0,0,0,0,0,0,0,0,0,0,0,0,0,0,0]
[null,"TOTAL",null,{"$f":"SUM(D50:D57)","v":0},0,0,0,0,0,0,0,0,0,0,0,0,0,0,0,0,0]
[]
[null,"En caso de requerir alguna precisión o aclaración, describa brevemente: "]
[]
[]
[null,"Numero de actividad",null,"1.1.4"]
[{"$f":"T64","v":0},"Tipo de actividad",null,"Trimestre de inicio",null,null,null,null,"Trimestre de término",null,null,null,null,null,"Presupuesto de la actividad",null,null,null,null,0,null,null,"Título de la actividad"]
[null,null,null,"USAER",null,null,"CAPEP",null,null,"CRIE",null,null,"UOP",null,null,"UAEBH",null,null,"Otro",null,null,"Especifique producto o servicio en lo que se planea ejercer",null,null,null,"Propósito de la actividad"]
[null,null,null,"SEE:",null,null,"SEE:",null,null,"SEE:",null,null,"SEE:",null,null,"SEE:",null,null,"SEE:"]
[null,null,null,"M","H","T","M","H","T","M","H","T","M","H","T","M","H","T","M","H","T"]
[null,"Supervisores",null,null,null,{"$f":"SUM(D68,E68)","v":0},null,null,{"$f":"SUM(G68,H68)","v":0},null,null,{"$f":"SUM(J68,K68)","v":0},null,null,{"$f":"SUM(M68,N68)","v":0},null,null,{"$f":"SUM(P68,Q68)","v":0},null,null,{"$f":"SUM(S68,T68)","v":0}]
[null,"Directivas/os",null,null,null,{"$f":"SUM(D69,E69)","v":0},null,null,0,null,null,0,null,null,0,null,null,0,null,null,0]
[null,"Docentes",null,null,null,{"$f":"SUM(D70,E70)","v":0}," ",null,0," ",null,0," ",null,0," ",null,0," ",null,0]
[null,"Equipo de apoyo",null,null,null,{"$f":"SUM(D71,E71)","v":0},null,null,0,null,null,0,null,null,0,null,null,0,null,null,0]
[null,"Familias",null,null,null,0,null,null,0,null,null,0,null,null,0,null,null,0,null,null,0]
[null,"Docentes de EB",null,null,null,0,null,null,0,null,null,0,null,null,0,null,null,0,null,null,0]
[null,"Otros",null,null,null,0," ",null,0," ",null,0," ",null,0," ",null,0," ",null,0]
[null,"TOTAL",null,{"$f":"SUM(D67:D74)","v":0},0,0,0,0,0,0,0,0,0,0,0,0,0,0,0,0,0]
[]
[null,"En caso de requerir alguna precisión o aclaración, describa brevemente: "]
[]
[]
[null,"Numero de actividad",null,"1.1.5"]
[{"$f":"T81","v":0},"Tipo de actividad",null,"Trimestre de inicio",null,null,null,null,"Trimestre de término",null,null,null,null,null,"Presupuesto de la actividad",null,null,null,null,0,null,null,"Título de la actividad"]
[null,null,null,"USAER",null,null,"CAPEP",null,null,"CRIE",null,null,"UOP",null,null,"UAEBH",null,null,"Otro",null,null,"Especifique producto o servicio en lo que se planea ejercer",null,null,null,"Propósito de la actividad"]
[null,null,null,"SEE:",null,null,"SEE:",null,null,"SEE:",null,null,"SEE:",null,null,"SEE:",null,null,"SEE:"]
[null,null,null,"M","H","T","M","H","T","M","H","T","M","H","T","M","H","T","M","H","T"]
[null,"Supervisores",null,null,null,{"$f":"SUM(D85,E85)","v":0},null,null,{"$f":"SUM(G85,H85)","v":0},null,null,{"$f":"SUM(J85,K85)","v":0},null,null,{"$f":"SUM(M85,N85)","v":0},null,null,{"$f":"SUM(P85,Q85)","v":0},null,null,{"$f":"SUM(S85,T85)","v":0}]
[null,"Directivas/os",null,null,null,{"$f":"SUM(D86,E86)","v":0},null,null,0,null,null,0,null,null,0,null,null,0,null,null,0]
[null,"Docentes",null,null,null,{"$f":"SUM(D87,E87)","v":0}," ",null,0," ",null,0," ",null,0," ",null,0," ",null,0]
[null,"Equipo de apoyo",null,null,null,{"$f":"SUM(D88,E88)","v":0},null,null,0,null,null,0,null,null,0,null,null,0,null,null,0]
[null,"Familias",null,null,null,0,null,null,0,null,null,0,null,null,0,null,null,0,null,null,0]
[null,"Docentes de EB",null,null,null,0,null,null,0,null,null,0,null,null,0,null,null,0,null,null,0]
[null,"Otros",null,null,null,0," ",null,0," ",null,0," ",null,0," ",null,0," ",null,0]
[null,"TOTAL",null,{"$f":"SUM(D84:D91)","v":0},0,0,0,0,0,0,0,0,0,0,0,0,0,0,0,0,0]
[]
[null,"En caso de requerir alguna precisión o aclaración, describa brevemente: "]
[]
[]
[null,"Numero de actividad",null,"1.1.6"]
[{"$f":"T98","v":0},"Tipo de actividad",null,"Trimestre de inicio",null,null,null,null,"Trimestre de término",null,null,null,null,null,"Presupuesto de la actividad",null,null,null,null,0,null,null,"Título de la actividad"]
[null,null,null,"USAER",null,null,"CAPEP",null,null,"CRIE",null,null,"UOP",null,null,"UAEBH",null,null,"Otro",null,null,"Especifique producto o servicio en lo que se planea ejercer",null,null,null,"Propósito de la actividad"]
[null,null,null,"SEE:",null,null,"SEE:",null,null,"SEE:",null,null,"SEE:",null,null,"SEE:",null,null,"SEE:"]
[null,null,null,"M","H","T","M","H","T","M","H","T","M","H","T","M","H","T","M","H","T"]
[null,"Supervisores",null,null,null,{"$f":"SUM(D102,E102)","v":0},null,null,{"$f":"SUM(G102,H102)","v":0},null,null,{"$f":"SUM(J102,K102)","v":0},null,null,{"$f":"SUM(M102,N102)","v":0},null,null,{"$f":"SUM(P102,Q102)","v":0},null,null,{"$f":"SUM(S102,T102)","v":0}]
[null,"Directivas/os",null,null,null,{"$f":"SUM(D103,E103)","v":0},null,null,0,null,null,0,null,null,0,null,null,0,null,null,0]
[null,"Docentes",null,null,null,{"$f":"SUM(D104,E104)","v":0}," ",null,0," ",null,0," ",null,0," ",null,0," ",null,0]
[null,"Equipo de apoyo",null,null,null,{"$f":"SUM(D105,E105)","v":0},null,null,0,null,null,0,null,null,0,null,null,0,null,null,0]
[null,"Familias",null,null,null,0,null,null,0,null,null,0,null,null,0,null,null,0,null,null,0]
[null,"Docentes de EB",null,null,null,0,null,null,0,null,null,0,null,null,0,null,null,0,null,null,0]
[null,"Otros",null,null,null,0," ",null,0," ",null,0," ",null,0," ",null,0," ",null,0]
[null,"TOTAL",null,{"$f":"SUM(D101:D108)","v":0},0,0,0,0,0,0,0,0,0,0,0,0,0,0,0,0,0]
[]
[null,"En caso de requerir alguna precisión o aclaración, describa brevemente: "]
[]
[]
[null,"Numero de actividad",null,"1.1.7"]
[{"$f":"T115","v":0},"Tipo de actividad",null,"Trimestre de inicio",null,null,null,null,"Trimestre de término",null,null,null,null,null,"Presupuesto de la actividad",null,null,null,null,0,null,null,"Título de la actividad"]
[null,null,null,"USAER",null,null,"CAPEP",null,null,"CRIE",null,null,"UOP",null,null,"UAEBH",null,null,"Otro",null,null,"Especifique producto o servicio en lo que se planea ejercer",null,null,null,"Propósito de la actividad"]
[null,null,null,"SEE:",null,null,"SEE:",null,null,"SEE:",null,null,"SEE:",null,null,"SEE:",null,null,"SEE:"]
[null,null,null,"M","H","T","M","H","T","M","H","T","M","H","T","M","H","T","M","H","T"]
[null,"Supervisores",null,null,null,{"$f":"SUM(D119,E119)","v":0},null,null,{"$f":"SUM(G119,H119)","v":0},null,null,{"$f":"SUM(J119,K119)","v":0},null,null,{"$f":"SUM(M119,N119)","v":0},null,null,{"$f":"SUM(P119,Q119)","v":0},null,null,{"$f":"SUM(S119,T119)","v":0}]
[null,"Directivas/os",null,null,null,{"$f":"SUM(D120,E120)","v":0},null,null,0,null,null,0,null,null,0,null,null,0,null,null,0]
[null,"Docentes",null,null,null,{"$f":"SUM(D121,E121)","v":0}," ",null,0," ",null,0," ",null,0," ",null,0," ",null,0]
[null,"Equipo de apoyo",null,null,null,{"$f":"SUM(D122,E122)","v":0},null,null,0,null,null,0,null,null,0,null,null,0,null,null,0]
[null,"Familias",null,null,null,0,null,null,0,null,null,0,null,null,0,null,null,0,null,null,0]
[null,"Docentes de EB",null,null,null,0,null,null,0,null,null,0,null,null,0,null,null,0,null,null,0]
[null,"Otros",null,null,null,0," ",null,0," ",null,0," ",null,0," ",null,0," ",null,0]
[null,"TOTAL",null,{"$f":"SUM(D118:D125)","v":0},0,0,0,0,0,0,0,0,0,0,0,0,0,0,0,0,0]
[]
[null,"En caso de requerir alguna precisión o aclaración, describa brevemente: "]
[]
[]
[null,"Numero de actividad",null,"1.1.8"]
[{"$f":"T132","v":0},"Tipo de actividad",null,"Trimestre de inicio",null,null,null,null,"Trimestre de término",null,null,null,null,null,"Presupuesto de la actividad",null,null,null,null,0,null,null,"Título de la actividad"]
[null,null,null,"USAER",null,null,"CAPEP",null,null,"CRIE",null,null,"UOP",null,null,"UAEBH",null,null,"Otro",null,null,"Especifique producto o servicio en lo que se planea ejercer",null,null,null,"Propósito de la actividad"]
[null,null,null,"SEE:",null,null,"SEE:",null,null,"SEE:",null,null,"SEE:",null,null,"SEE:",null,null,"SEE:"]
[null,null,null,"M","H","T","M","H","T","M","H","T","M","H","T","M","H","T","M","H","T"]
[null,"Supervisores",null,null,null,{"$f":"SUM(D136,E136)","v":0},null,null,{"$f":"SUM(G136,H136)","v":0},null,null,{"$f":"SUM(J136,K136)","v":0},null,null,{"$f":"SUM(M136,N136)","v":0},null,null,{"$f":"SUM(P136,Q136)","v":0},null,null,{"$f":"SUM(S136,T136)","v":0}]
[null,"Directivas/os",null,null,null,{"$f":"SUM(D137,E137)","v":0},null,null,0,null,null,0,null,null,0,null,null,0,null,null,0]
[null,"Docentes",null,null,null,{"$f":"SUM(D138,E138)","v":0}," ",null,0," ",null,0," ",null,0," ",null,0," ",null,0]
[null,"Equipo de apoyo",null,null,null,{"$f":"SUM(D139,E139)","v":0},null,null,0,null,null,0,null,null,0,null,null,0,null,null,0]
[null,"Familias",null,null,null,0,null,null,0,null,null,0,null,null,0,null,null,0,null,null,0]
[null,"Docentes de EB",null,null,null,0,null,null,0,null,null,0,null,null,0,null,null,0,null,null,0]
[null,"Otros",null,null,null,0," ",null,0," ",null,0," ",null,0," ",null,0," ",null,0]
[null,"TOTAL",null,{"$f":"SUM(D135:D142)","v":0},0,0,0,0,0,0,0,0,0,0,0,0,0,0,0,0,0]
[]
[null,"En caso de requerir alguna precisión o aclaración, describa brevemente: "]
[]
[]
[null,"Numero de actividad",null,"1.1.9"]
[{"$f":"T149","v":0},"Tipo de actividad",null,"Trimestre de inicio",null,null,null,null,"Trimestre de término",null,null,null,null,null,"Presupuesto de la actividad",null,null,null,null,0,null,null,"Título de la actividad"]
[null,null,null,"USAER",null,null,"CAPEP",null,null,"CRIE",null,null,"UOP",null,null,"UAEBH",null,null,"Otro",null,null,"Especifique producto o servicio en lo que se planea ejercer",null,null,null,"Propósito de la actividad"]
[null,null,null,"SEE:",null,null,"SEE:",null,null,"SEE:",null,null,"SEE:",null,null,"SEE:",null,null,"SEE:"]
[null,null,null,"M","H","T","M","H","T","M","H","T","M","H","T","M","H","T","M","H","T"]
[null,"Supervisores",null,null,null,{"$f":"SUM(D153,E153)","v":0},null,null,{"$f":"SUM(G153,H153)","v":0},null,null,{"$f":"SUM(J153,K153)","v":0},null,null,{"$f":"SUM(M153,N153)","v":0},null,null,{"$f":"SUM(P153,Q153)","v":0},null,null,{"$f":"SUM(S153,T153)","v":0}]
[null,"Directivas/os",null,null,null,{"$f":"SUM(D154,E154)","v":0},null,null,0,null,null,0,null,null,0,null,null,0,null,null,0]
[null,"Docentes",null,null,null,{"$f":"SUM(D155,E155)","v":0}," ",null,0," ",null,0," ",null,0," ",null,0," ",null,0]
[null,"Equipo de apoyo",null,null,null,{"$f":"SUM(D156,E156)","v":0},null,null,0,null,null,0,null,null,0,null,null,0,null,null,0]
[null,"Familias",null,null,null,0,null,null,0,null,null,0,null,null,0,null,null,0,null,null,0]
[null,"Docentes de EB",null,null,null,0,null,null,0,null,null,0,null,null,0,null,null,0,null,null,0]
[null,"Otros",null,null,null,0," ",null,0," ",null,0," ",null,0," ",null,0," ",null,0]
[null,"TOTAL",null,{"$f":"SUM(D152:D159)","v":0},0,0,0,0,0,0,0,0,0,0,0,0,0,0,0,0,0]
[]
[null,"En caso de requerir alguna precisión o aclaración, describa brevemente: "]
[]
[]
[null,"Numero de actividad",null,"1.1.10"]
[{"$f":"T166","v":0},"Tipo de actividad",null,"Trimestre de inicio",null,null,null,null,"Trimestre de término",null,null,null,null,null,"Presupuesto de la actividad",null,null,null,null,0,null,null,"Título de la actividad"]
[null,null,null,"USAER",null,null,"CAPEP",null,null,"CRIE",null,null,"UOP",null,null,"UAEBH",null,null,"Otro",null,null,"Especifique producto o servicio en lo que se planea ejercer",null,null,null,"Propósito de la actividad"]
[null,null,null,"SEE:",null,null,"SEE:",null,null,"SEE:",null,null,"SEE:",null,null,"SEE:",null,null,"SEE:"]
[null,null,null,"M","H","T","M","H","T","M","H","T","M","H","T","M","H","T","M","H","T"]
[null,"Supervisores",null,null,null,{"$f":"SUM(D170,E170)","v":0},null,null,{"$f":"SUM(G170,H170)","v":0},null,null,{"$f":"SUM(J170,K170)","v":0},null,null,{"$f":"SUM(M170,N170)","v":0},null,null,{"$f":"SUM(P170,Q170)","v":0},null,null,{"$f":"SUM(S170,T170)","v":0}]
[null,"Directivas/os",null,null,null,{"$f":"SUM(D171,E171)","v":0},null,null,0,null,null,0,null,null,0,null,null,0,null,null,0]
[null,"Docentes",null,null,null,{"$f":"SUM(D172,E172)","v":0}," ",null,0," ",null,0," ",null,0," ",null,0," ",null,0]
[null,"Equipo de apoyo",null,null,null,{"$f":"SUM(D173,E173)","v":0},null,null,0,null,null,0,null,null,0,null,null,0,null,null,0]
[null,"Familias",null,null,null,0,null,null,0,null,null,0,null,null,0,null,null,0,null,null,0]
[null,"Docentes de EB",null,null,null,0,null,null,0,null,null,0,null,null,0,null,null,0,null,null,0]
[null,"Otros",null,null,null,0," ",null,0," ",null,0," ",null,0," ",null,0," ",null,0]
[null,"TOTAL",null,{"$f":"SUM(D169:D176)","v":0},0,0,0,0,0,0,0,0,0,0,0,0,0,0,0,0,0]
[]
[null,"En caso de requerir alguna precisión o aclaración, describa brevemente: "]
[]
[]
[null,"Numero de actividad",null,"1.1.11"]
[{"$f":"T183","v":0},"Tipo de actividad",null,"Trimestre de inicio",null,null,null,null,"Trimestre de término",null,null,null,null,null,"Presupuesto de la actividad",null,null,null,null,0,null,null,"Título de la actividad"]
[null,null,null,"USAER",null,null,"CAPEP",null,null,"CRIE",null,null,"UOP",null,null,"UAEBH",null,null,"Otro",null,null,"Especifique producto o servicio en lo que se planea ejercer",null,null,null,"Propósito de la actividad"]
[null,null,null,"SEE:",null,null,"SEE:",null,null,"SEE:",null,null,"SEE:",null,null,"SEE:",null,null,"SEE:"]
[null,null,null,"M","H","T","M","H","T","M","H","T","M","H","T","M","H","T","M","H","T"]
[null,"Supervisores",null,null,null,{"$f":"SUM(D187,E187)","v":0},null,null,{"$f":"SUM(G187,H187)","v":0},null,null,{"$f":"SUM(J187,K187)","v":0},null,null,{"$f":"SUM(M187,N187)","v":0},null,null,{"$f":"SUM(P187,Q187)","v":0},null,null,{"$f":"SUM(S187,T187)","v":0}]
[null,"Directivas/os",null,null,null,{"$f":"SUM(D188,E188)","v":0},null,null,0,null,null,0,null,null,0,null,null,0,null,null,0]
[null,"Docentes",null,null,null,{"$f":"SUM(D189,E189)","v":0}," ",null,0," ",null,0," ",null,0," ",null,0," ",null,0]
[null,"Equipo de apoyo",null,null,null,{"$f":"SUM(D190,E190)","v":0},null,null,0,null,null,0,null,null,0,null,null,0,null,null,0]
[null,"Familias",null,null,null,0,null,null,0,null,null,0,null,null,0,null,null,0,null,null,0]
[null,"Docentes de EB",null,null,null,0,null,null,0,null,null,0,null,null,0,null,null,0,null,null,0]
[null,"Otros",null,null,null,0," ",null,0," ",null,0," ",null,0," ",null,0," ",null,0]
[null,"TOTAL",null,{"$f":"SUM(D186:D193)","v":0},0,0,0,0,0,0,0,0,0,0,0,0,0,0,0,0,0]
[]
[null,"En caso de requerir alguna precisión o aclaración, describa brevemente: "]
[]
[]
[null,"Numero de actividad",null,"1.1.12"]
[{"$f":"T200","v":0},"Tipo de actividad",null,"Trimestre de inicio",null,null,null,null,"Trimestre de término",null,null,null,null,null,"Presupuesto de la actividad",null,null,null,null,0,null,null,"Título de la actividad"]
[null,null,null,"USAER",null,null,"CAPEP",null,null,"CRIE",null,null,"UOP",null,null,"UAEBH",null,null,"Otro",null,null,"Especifique producto o servicio en lo que se planea ejercer",null,null,null,"Propósito de la actividad"]
[null,null,null,"SEE:",null,null,"SEE:",null,null,"SEE:",null,null,"SEE:",null,null,"SEE:",null,null,"SEE:"]
[null,null,null,"M","H","T","M","H","T","M","H","T","M","H","T","M","H","T","M","H","T"]
[null,"Supervisores",null,null,null,{"$f":"SUM(D204,E204)","v":0},null,null,{"$f":"SUM(G204,H204)","v":0},null,null,{"$f":"SUM(J204,K204)","v":0},null,null,{"$f":"SUM(M204,N204)","v":0},null,null,{"$f":"SUM(P204,Q204)","v":0},null,null,{"$f":"SUM(S204,T204)","v":0}]
[null,"Directivas/os",null,null,null,{"$f":"SUM(D205,E205)","v":0},null,null,0,null,null,0,null,null,0,null,null,0,null,null,0]
[null,"Docentes",null,null,null,{"$f":"SUM(D206,E206)","v":0}," ",null,0," ",null,0," ",null,0," ",null,0," ",null,0]
[null,"Equipo de apoyo",null,null,null,{"$f":"SUM(D207,E207)","v":0},null,null,0,null,null,0,null,null,0,null,null,0,null,null,0]
[null,"Familias",null,null,null,0,null,null,0,null,null,0,null,null,0,null,null,0,null,null,0]
[null,"Docentes de EB",null,null,null,0,null,null,0,null,null,0,null,null,0,null,null,0,null,null,0]
[null,"Otros",null,null,null,0," ",null,0," ",null,0," ",null,0," ",null,0," ",null,0]
[null,"TOTAL",null,{"$f":"SUM(D203:D210)","v":0},0,0,0,0,0,0,0,0,0,0,0,0,0,0,0,0,0]
[]
[null,"En caso de requerir alguna precisión o aclaración, describa brevemente: "]
[]
[]
[null,"Numero de actividad",null,"1.1.13"]
[{"$f":"T217","v":0},"Tipo de actividad",null,"Trimestre de inicio",null,null,null,null,"Trimestre de término",null,null,null,null,null,"Presupuesto de la actividad",null,null,null,null,0,null,null,"Título de la actividad"]
[null,null,null,"USAER",null,null,"CAPEP",null,null,"CRIE",null,null,"UOP",null,null,"UAEBH",null,null,"Otro",null,null,"Especifique producto o servicio en lo que se planea ejercer",null,null,null,"Propósito de la actividad"]
[null,null,null,"SEE:",null,null,"SEE:",null,null,"SEE:",null,null,"SEE:",null,null,"SEE:",null,null,"SEE:"]
[null,null,null,"M","H","T","M","H","T","M","H","T","M","H","T","M","H","T","M","H","T"]
[null,"Supervisores",null,null,null,{"$f":"SUM(D221,E221)","v":0},null,null,{"$f":"SUM(G221,H221)","v":0},null,null,{"$f":"SUM(J221,K221)","v":0},null,null,{"$f":"SUM(M221,N221)","v":0},null,null,{"$f":"SUM(P221,Q221)","v":0},null,null,{"$f":"SUM(S221,T221)","v":0}]
[null,"Directivas/os",null,null,null,{"$f":"SUM(D222,E222)","v":0},null,null,0,null,null,0,null,null,0,null,null,0,null,null,0]
[null,"Docentes",null,null,null,{"$f":"SUM(D223,E223)","v":0}," ",null,0," ",null,0," ",null,0," ",null,0," ",null,0]
[null,"Equipo de apoyo",null,null,null,{"$f":"SUM(D224,E224)","v":0},null,null,0,null,null,0,null,null,0,null,null,0,null,null,0]
[null,"Familias",null,null,null,0,null,null,0,null,null,0,null,null,0,null,null,0,null,null,0]
[null,"Docentes de EB",null,null,null,0,null,null,0,null,null,0,null,null,0,null,null,0,null,null,0]
[null,"Otros",null,null,null,0," ",null,0," ",null,0," ",null,0," ",null,0," ",null,0]
[null,"TOTAL",null,{"$f":"SUM(D220:D227)","v":0},0,0,0,0,0,0,0,0,0,0,0,0,0,0,0,0,0]
[]
[null,"En caso de requerir alguna precisión o aclaración, describa brevemente: "]
[]
[]
[null,"Numero de actividad",null,"1.1.14"]
[{"$f":"T234","v":0},"Tipo de actividad",null,"Trimestre de inicio",null,null,null,null,"Trimestre de término",null,null,null,null,null,"Presupuesto de la actividad",null,null,null,null,0,null,null,"Título de la actividad"]
[null,null,null,"USAER",null,null,"CAPEP",null,null,"CRIE",null,null,"UOP",null,null,"UAEBH",null,null,"Otro",null,null,"Especifique producto o servicio en lo que se planea ejercer",null,null,null,"Propósito de la actividad"]
[null,null,null,"SEE:",null,null,"SEE:",null,null,"SEE:",null,null,"SEE:",null,null,"SEE:",null,null,"SEE:"]
[null,null,null,"M","H","T","M","H","T","M","H","T","M","H","T","M","H","T","M","H","T"]
[null,"Supervisores",null,null,null,{"$f":"SUM(D238,E238)","v":0},null,null,{"$f":"SUM(G238,H238)","v":0},null,null,{"$f":"SUM(J238,K238)","v":0},null,null,{"$f":"SUM(M238,N238)","v":0},null,null,{"$f":"SUM(P238,Q238)","v":0},null,null,{"$f":"SUM(S238,T238)","v":0}]
[null,"Directivas/os",null,null,null,{"$f":"SUM(D239,E239)","v":0},null,null,0,null,null,0,null,null,0,null,null,0,null,null,0]
[null,"Docentes",null,null,null,{"$f":"SUM(D240,E240)","v":0}," ",null,0," ",null,0," ",null,0," ",null,0," ",null,0]
[null,"Equipo de apoyo",null,null,null,{"$f":"SUM(D241,E241)","v":0},null,null,0,null,null,0,null,null,0,null,null,0,null,null,0]
[null,"Familias",null,null,null,0,null,null,0,null,null,0,null,null,0,null,null,0,null,null,0]
[null,"Docentes de EB",null,null,null,0,null,null,0,null,null,0,null,null,0,null,null,0,null,null,0]
[null,"Otros",null,null,null,0," ",null,0," ",null,0," ",null,0," ",null,0," ",null,0]
[null,"TOTAL",null,{"$f":"SUM(D237:D244)","v":0},0,0,0,0,0,0,0,0,0,0,0,0,0,0,0,0,0]
[]
[null,"En caso de requerir alguna precisión o aclaración, describa brevemente: "]
[]
[]
[null,"Numero de actividad",null,"1.1.15"]
[{"$f":"T251","v":0},"Tipo de actividad",null,"Trimestre de inicio",null,null,null,null,"Trimestre de término",null,null,null,null,null,"Presupuesto de la actividad",null,null,null,null,0,null,null,"Título de la actividad"]
[null,null,null,"USAER",null,null,"CAPEP",null,null,"CRIE",null,null,"UOP",null,null,"UAEBH",null,null,"Otro",null,null,"Especifique producto o servicio en lo que se planea ejercer",null,null,null,"Propósito de la actividad"]
[null,null,null,"SEE:",null,null,"SEE:",null,null,"SEE:",null,null,"SEE:",null,null,"SEE:",null,null,"SEE:"]
[null,null,null,"M","H","T","M","H","T","M","H","T","M","H","T","M","H","T","M","H","T"]
[null,"Supervisores",null,null,null,{"$f":"SUM(D255,E255)","v":0},null,null,{"$f":"SUM(G255,H255)","v":0},null,null,{"$f":"SUM(J255,K255)","v":0},null,null,{"$f":"SUM(M255,N255)","v":0},null,null,{"$f":"SUM(P255,Q255)","v":0},null,null,{"$f":"SUM(S255,T255)","v":0}]
[null,"Directivas/os",null,null,null,{"$f":"SUM(D256,E256)","v":0},null,null,0,null,null,0,null,null,0,null,null,0,null,null,0]
[null,"Docentes",null,null,null,{"$f":"SUM(D257,E257)","v":0}," ",null,0," ",null,0," ",null,0," ",null,0," ",null,0]
[null,"Equipo de apoyo",null,null,null,{"$f":"SUM(D258,E258)","v":0},null,null,0,null,null,0,null,null,0,null,null,0,null,null,0]
[null,"Familias",null,null,null,0,null,null,0,null,null,0,null,null,0,null,null,0,null,null,0]
[null,"Docentes de EB",null,null,null,0,null,null,0,null,null,0,null,null,0,null,null,0,null,null,0]
[null,"Otros",null,null,null,0," ",null,0," ",null,0," ",null,0," ",null,0," ",null,0]
[null,"TOTAL",null,{"$f":"SUM(D254:D261)","v":0},0,0,0,0,0,0,0,0,0,0,0,0,0,0,0,0,0]
[]
[null,"En caso de requerir alguna precisión o aclaración, describa brevemente: "]
[]
[]
[null,"Numero de actividad",null,"1.1.16"]
[{"$f":"T268","v":0},"Tipo de actividad",null,"Trimestre de inicio",null,null,null,null,"Trimestre de término",null,null,null,null,null,"Presupuesto de la actividad",null,null,null,null,0,null,null,"Título de la actividad"]
[null,null,null,"USAER",null,null,"CAPEP",null,null,"CRIE",null,null,"UOP",null,null,"UAEBH",null,null,"Otro",null,null,"Especifique producto o servicio en lo que se planea ejercer",null,null,null,"Propósito de la actividad"]
[null,null,null,"SEE:",null,null,"SEE:",null,null,"SEE:",null,null,"SEE:",null,null,"SEE:",null,null,"SEE:"]
[null,null,null,"M","H","T","M","H","T","M","H","T","M","H","T","M","H","T","M","H","T"]
[null,"Supervisores",null,null,null,{"$f":"SUM(D272,E272)","v":0},null,null,{"$f":"SUM(G272,H272)","v":0},null,null,{"$f":"SUM(J272,K272)","v":0},null,null,{"$f":"SUM(M272,N272)","v":0},null,null,{"$f":"SUM(P272,Q272)","v":0},null,null,{"$f":"SUM(S272,T272)","v":0}]
[null,"Directivas/os",null,null,null,{"$f":"SUM(D273,E273)","v":0},null,null,0,null,null,0,null,null,0,null,null,0,null,null,0]
[null,"Docentes",null,null,null,{"$f":"SUM(D274,E274)","v":0}," ",null,0," ",null,0," ",null,0," ",null,0," ",null,0]
[null,"Equipo de apoyo",null,null,null,{"$f":"SUM(D275,E275)","v":0},null,null,0,null,null,0,null,null,0,null,null,0,null,null,0]
[null,"Familias",null,null,null,0,null,null,0,null,null,0,null,null,0,null,null,0,null,null,0]
[null,"Docentes de EB",null,null,null,0,null,null,0,null,null,0,null,null,0,null,null,0,null,null,0]
[null,"Otros",null,null,null,0," ",null,0," ",null,0," ",null,0," ",null,0," ",null,0]
[null,"TOTAL",null,{"$f":"SUM(D271:D278)","v":0},0,0,0,0,0,0,0,0,0,0,0,0,0,0,0,0,0]
[]
[null,"En caso de requerir alguna precisión o aclaración, describa brevemente: "]
[]
[]
[null,"Numero de actividad",null,"1.1.17"]
[{"$f":"T285","v":0},"Tipo de actividad",null,"Trimestre de inicio",null,null,null,null,"Trimestre de término",null,null,null,null,null,"Presupuesto de la actividad",null,null,null,null,0,null,null,"Título de la actividad"]
[null,null,null,"USAER",null,null,"CAPEP",null,null,"CRIE",null,null,"UOP",null,null,"UAEBH",null,null,"Otro",null,null,"Especifique producto o servicio en lo que se planea ejercer",null,null,null,"Propósito de la actividad"]
[null,null,null,"SEE:",null,null,"SEE:",null,null,"SEE:",null,null,"SEE:",null,null,"SEE:",null,null,"SEE:"]
[null,null,null,"M","H","T","M","H","T","M","H","T","M","H","T","M","H","T","M","H","T"]
[null,"Supervisores",null,null,null,{"$f":"SUM(D289,E289)","v":0},null,null,{"$f":"SUM(G289,H289)","v":0},null,null,{"$f":"SUM(J289,K289)","v":0},null,null,{"$f":"SUM(M289,N289)","v":0},null,null,{"$f":"SUM(P289,Q289)","v":0},null,null,{"$f":"SUM(S289,T289)","v":0}]
[null,"Directivas/os",null,null,null,{"$f":"SUM(D290,E290)","v":0},null,null,0,null,null,0,null,null,0,null,null,0,null,null,0]
[null,"Docentes",null,null,null,{"$f":"SUM(D291,E291)","v":0}," ",null,0," ",null,0," ",null,0," ",null,0," ",null,0]
[null,"Equipo de apoyo",null,null,null,{"$f":"SUM(D292,E292)","v":0},null,null,0,null,null,0,null,null,0,null,null,0,null,null,0]
[null,"Familias",null,null,null,0,null,null,0,null,null,0,null,null,0,null,null,0,null,null,0]
[null,"Docentes de EB",null,null,null,0,null,null,0,null,null,0,null,null,0,null,null,0,null,null,0]
[null,"Otros",null,null,null,0," ",null,0," ",null,0," ",null,0," ",null,0," ",null,0]
[null,"TOTAL",null,{"$f":"SUM(D288:D295)","v":0},0,0,0,0,0,0,0,0,0,0,0,0,0,0,0,0,0]
[]
[null,"En caso de requerir alguna precisión o aclaración, describa brevemente: "]
[]
[]
[null,"Numero de actividad",null,"1.1.18"]
[{"$f":"T302","v":0},"Tipo de actividad",null,"Trimestre de inicio",null,null,null,null,"Trimestre de término",null,null,null,null,null,"Presupuesto de la actividad",null,null,null,null,0,null,null,"Título de la actividad"]
[null,null,null,"USAER",null,null,"CAPEP",null,null,"CRIE",null,null,"UOP",null,null,"UAEBH",null,null,"Otro",null,null,"Especifique producto o servicio en lo que se planea ejercer",null,null,null,"Propósito de la actividad"]
[null,null,null,"SEE:",null,null,"SEE:",null,null,"SEE:",null,null,"SEE:",null,null,"SEE:",null,null,"SEE:"]
[null,null,null,"M","H","T","M","H","T","M","H","T","M","H","T","M","H","T","M","H","T"]
[null,"Supervisores",null,null,null,{"$f":"SUM(D306,E306)","v":0},null,null,{"$f":"SUM(G306,H306)","v":0},null,null,{"$f":"SUM(J306,K306)","v":0},null,null,{"$f":"SUM(M306,N306)","v":0},null,null,{"$f":"SUM(P306,Q306)","v":0},null,null,{"$f":"SUM(S306,T306)","v":0}]
[null,"Directivas/os",null,null,null,{"$f":"SUM(D307,E307)","v":0},null,null,0,null,null,0,null,null,0,null,null,0,null,null,0]
[null,"Docentes",null,null,null,{"$f":"SUM(D308,E308)","v":0}," ",null,0," ",null,0," ",null,0," ",null,0," ",null,0]
[null,"Equipo de apoyo",null,null,null,{"$f":"SUM(D309,E309)","v":0},null,null,0,null,null,0,null,null,0,null,null,0,null,null,0]
[null,"Familias",null,null,null,0,null,null,0,null,null,0,null,null,0,null,null,0,null,null,0]
[null,"Docentes de EB",null,null,null,0,null,null,0,null,null,0,null,null,0,null,null,0,null,null,0]
[null,"Otros",null,null,null,0," ",null,0," ",null,0," ",null,0," ",null,0," ",null,0]
[null,"TOTAL",null,{"$f":"SUM(D305:D312)","v":0},0,0,0,0,0,0,0,0,0,0,0,0,0,0,0,0,0]
[]
[null,"En caso de requerir alguna precisión o aclaración, describa brevemente: "]
[]
[]
[null,"Numero de actividad",null,"1.1.19"]
[{"$f":"T319","v":0},"Tipo de actividad",null,"Trimestre de inicio",null,null,null,null,"Trimestre de término",null,null,null,null,null,"Presupuesto de la actividad",null,null,null,null,0,null,null,"Título de la actividad"]
[null,null,null,"USAER",null,null,"CAPEP",null,null,"CRIE",null,null,"UOP",null,null,"UAEBH",null,null,"Otro",null,null,"Especifique producto o servicio en lo que se planea ejercer",null,null,null,"Propósito de la actividad"]
[null,null,null,"SEE:",null,null,"SEE:",null,null,"SEE:",null,null,"SEE:",null,null,"SEE:",null,null,"SEE:"]
[null,null,null,"M","H","T","M","H","T","M","H","T","M","H","T","M","H","T","M","H","T"]
[null,"Supervisores",null,null,null,{"$f":"SUM(D323,E323)","v":0},null,null,{"$f":"SUM(G323,H323)","v":0},null,null,{"$f":"SUM(J323,K323)","v":0},null,null,{"$f":"SUM(M323,N323)","v":0},null,null,{"$f":"SUM(P323,Q323)","v":0},null,null,{"$f":"SUM(S323,T323)","v":0}]
[null,"Directivas/os",null,null,null,{"$f":"SUM(D324,E324)","v":0},null,null,0,null,null,0,null,null,0,null,null,0,null,null,0]
[null,"Docentes",null,null,null,{"$f":"SUM(D325,E325)","v":0}," ",null,0," ",null,0," ",null,0," ",null,0," ",null,0]
[null,"Equipo de apoyo",null,null,null,{"$f":"SUM(D326,E326)","v":0},null,null,0,null,null,0,null,null,0,null,null,0,null,null,0]
[null,"Familias",null,null,null,0,null,null,0,null,null,0,null,null,0,null,null,0,null,null,0]
[null,"Docentes de EB",null,null,null,0,null,null,0,null,null,0,null,null,0,null,null,0,null,null,0]
[null,"Otros",null,null,null,0," ",null,0," ",null,0," ",null,0," ",null,0," ",null,0]
[null,"TOTAL",null,{"$f":"SUM(D322:D329)","v":0},0,0,0,0,0,0,0,0,0,0,0,0,0,0,0,0,0]
[]
[null,"En caso de requerir alguna precisión o aclaración, describa brevemente: "]
[]
[]
[null,"Numero de actividad",null,"1.1.20"]
[{"$f":"T336","v":0},"Tipo de actividad",null,"Trimestre de inicio",null,null,null,null,"Trimestre de término",null,null,null,null,null,"Presupuesto de la actividad",null,null,null,null,0,null,null,"Título de la actividad"]
[null,null,null,"USAER",null,null,"CAPEP",null,null,"CRIE",null,null,"UOP",null,null,"UAEBH",null,null,"Otro",null,null,"Especifique producto o servicio en lo que se planea ejercer",null,null,null,"Propósito de la actividad"]
[null,null,null,"SEE:",null,null,"SEE:",null,null,"SEE:",null,null,"SEE:",null,null,"SEE:",null,null,"SEE:"]
[null,null,null,"M","H","T","M","H","T","M","H","T","M","H","T","M","H","T","M","H","T"]
[null,"Supervisores",null,null,null,{"$f":"SUM(D340,E340)","v":0},null,null,{"$f":"SUM(G340,H340)","v":0},null,null,{"$f":"SUM(J340,K340)","v":0},null,null,{"$f":"SUM(M340,N340)","v":0},null,null,{"$f":"SUM(P340,Q340)","v":0},null,null,{"$f":"SUM(S340,T340)","v":0}]
[null,"Directivas/os",null,null,null,{"$f":"SUM(D341,E341)","v":0},null,null,0,null,null,0,null,null,0,null,null,0,null,null,0]
[null,"Docentes",null,null,null,{"$f":"SUM(D342,E342)","v":0}," ",null,0," ",null,0," ",null,0," ",null,0," ",null,0]
[null,"Equipo de apoyo",null,null,null,{"$f":"SUM(D343,E343)","v":0},null,null,0,null,null,0,null,null,0,null,null,0,null,null,0]
[null,"Familias",null,null,null,0,null,null,0,null,null,0,null,null,0,null,null,0,null,null,0]
[null,"Docentes de EB",null,null,null,0,null,null,0,null,null,0,null,null,0,null,null,0,null,null,0]
[null,"Otros",null,null,null,0," ",null,0," ",null,0," ",null,0," ",null,0," ",null,0]
[null,"TOTAL",null,{"$f":"SUM(D339:D346)","v":0},0,0,0,0,0,0,0,0,0,0,0,0,0,0,0,0,0]
[]
[null,"En caso de requerir alguna precisión o aclaración, describa brevemente: "]
[]
[]
[]
[null,"1.2 Encuentros, cursos, talleres y/o reuniones entre madres y padres de familia o tutores de estudiantes con aptitudes sobresalientes para la conformación y la operación de sus redes de apoyo"]
[null,"Recurso programado:",null,null,null,{"$f":"'Distribución presupuestal 2025'!W52","v":430000},null,null,null,"SEE focalizados:",null,null,"USAER",{"$f":"'SEE 2025'!N16","v":76},"CAPEP",{"$f":"'SEE 2025'!O16","v":0},"CRIE",{"$f":"'SEE 2025'!P16","v":0},"UOP",{"$f":"'SEE 2025'!Q16","v":0},"UAEBH",{"$f":"'SEE 2025'!R16","v":0},"Otro",{"$f":"'SEE 2025'!S16","v":1}]
[null,"Remanente:",null,null,null,{"$f":"F354-SUM(A356:A370)","v":430000}]
[]
[{"$f":"T358","v":0},"Numero de actividad",null,"1.2.1"]
[null,"Tipo de actividad",null,"Trimestre de inicio",null,null,null,null,"Trimestre de término",null,null,null,null,null,"Presupuesto de la actividad",null,null,null,null,null,null,null,"Título de la actividad"]
[null,null,null,"USAER",null,null,"CAPEP",null,null,"CRIE",null,null,"UOP",null,null,"UAEBH",null,null,"Otro",null,null,"Producto o servicio en lo que se planea ejercer",null,null,null,null,null,null,"Propósito de la actividad"]
[null,null,null,"SEE:",null,null,"SEE:",null,null,"SEE:",null,null,"SEE:",null,null,"SEE:",null,null,"SEE:"]
[null,null,null,"M","H","T","M","H","T","M","H","T","M","H","T","M","H","T","M","H","T"]
[null,"Familias",null,null,null,{"$f":"SUM(D362,E362)","v":0},null,null,{"$f":"SUM(G362,H362)","v":0},null,null,{"$f":"SUM(J362,K362)","v":0},null,null,{"$f":"SUM(M362,N362)","v":0},null,null,{"$f":"SUM(P362,Q362)","v":0},null,null,{"$f":"SUM(S362,T362)","v":0}]
[]
[null,"En caso de requerir alguna precisión o aclaración, describa brevemente: "]
[]
[]
[]
[]
[]
[]
[{"$f":"T372","v":0},"Numero de actividad",null,"1.2.2"]
[null,"Tipo de actividad",null,"Trimestre de inicio",null,null,null,null,"Trimestre de término",null,null,null,null,null,"Presupuesto de la actividad",null,null,null,null,null,null,null,"Título de la actividad"]
[null,null,null,"USAER",null,null,"CAPEP",null,null,"CRIE",null,null,"UOP",null,null,"UAEBH",null,null,"Otro",null,null,"Producto o servicio en lo que se planea ejercer",null,null,null,null,null,null,"Propósito de la actividad"]
[null,null,null,"SEE:",null,null,"SEE:",null,null,"SEE:",null,null,"SEE:",null,null,"SEE:",null,null,"SEE:"]
[null,null,null,"M","H","T","M","H","T","M","H","T","M","H","T","M","H","T","M","H","T"]
[null,"Familias",null,null,null,{"$f":"SUM(D376,E376)","v":0},null,null,{"$f":"SUM(G376,H376)","v":0},null,null,{"$f":"SUM(J376,K376)","v":0},null,null,{"$f":"SUM(M376,N376)","v":0},null,null,{"$f":"SUM(P376,Q376)","v":0},null,null,{"$f":"SUM(S376,T376)","v":0}]
[]
[null,"En caso de requerir alguna precisión o aclaración, describa brevemente: "]
[]
[]
[]
[]
[]
[]
[{"$f":"T386","v":0},"Numero de actividad",null,"1.2.3"]
[null,"Tipo de actividad",null,"Trimestre de inicio",null,null,null,null,"Trimestre de término",null,null,null,null,null,"Presupuesto de la actividad",null,null,null,null,null,null,null,"Título de la actividad"]
[null,null,null,"USAER",null,null,"CAPEP",null,null,"CRIE",null,null,"UOP",null,null,"UAEBH",null,null,"Otro",null,null,"Producto o servicio en lo que se planea ejercer",null,null,null,null,null,null,"Propósito de la actividad"]
[null,null,null,"SEE:",null,null,"SEE:",null,null,"SEE:",null,null,"SEE:",null,null,"SEE:",null,null,"SEE:"]
[null,null,null,"M","H","T","M","H","T","M","H","T","M","H","T","M","H","T","M","H","T"]
[null,"Familias",null,null,null,{"$f":"SUM(D390,E390)","v":0},null,null,{"$f":"SUM(G390,H390)","v":0},null,null,{"$f":"SUM(J390,K390)","v":0},null,null,{"$f":"SUM(M390,N390)","v":0},null,null,{"$f":"SUM(P390,Q390)","v":0},null,null,{"$f":"SUM(S390,T390)","v":0}]
[]
[null,"En caso de requerir alguna precisión o aclaración, describa brevemente: "]
[]
[]
[]
[]
[]
[]
[{"$f":"T400","v":0},"Numero de actividad",null,"1.2.4"]
[null,"Tipo de actividad",null,"Trimestre de inicio",null,null,null,null,"Trimestre de término",null,null,null,null,null,"Presupuesto de la actividad",null,null,null,null,null,null,null,"Título de la actividad"]
[null,null,null,"USAER",null,null,"CAPEP",null,null,"CRIE",null,null,"UOP",null,null,"UAEBH",null,null,"Otro",null,null,"Producto o servicio en lo que se planea ejercer",null,null,null,null,null,null,"Propósito de la actividad"]
[null,null,null,"SEE:",null,null,"SEE:",null,null,"SEE:",null,null,"SEE:",null,null,"SEE:",null,null,"SEE:"]
[null,null,null,"M","H","T","M","H","T","M","H","T","M","H","T","M","H","T","M","H","T"]
[null,"Familias",null,null,null,{"$f":"SUM(D404,E404)","v":0},null,null,{"$f":"SUM(G404,H404)","v":0},null,null,{"$f":"SUM(J404,K404)","v":0},null,null,{"$f":"SUM(M404,N404)","v":0},null,null,{"$f":"SUM(P404,Q404)","v":0},null,null,{"$f":"SUM(S404,T404)","v":0}]
[]
[null,"En caso de requerir alguna precisión o aclaración, describa brevemente: "]
[]
[]
[]
[]
[]
[]
[{"$f":"T414","v":0},"Numero de actividad",null,"1.2.5"]
[null,"Tipo de actividad",null,"Trimestre de inicio",null,null,null,null,"Trimestre de término",null,null,null,null,null,"Presupuesto de la actividad",null,null,null,null,null,null,null,"Título de la actividad"]
[null,null,null,"USAER",null,null,"CAPEP",null,null,"CRIE",null,null,"UOP",null,null,"UAEBH",null,null,"Otro",null,null,"Producto o servicio en lo que se planea ejercer",null,null,null,null,null,null,"Propósito de la actividad"]
[null,null,null,"SEE:",null,null,"SEE:",null,null,"SEE:",null,null,"SEE:",null,null,"SEE:",null,null,"SEE:"]
[null,null,null,"M","H","T","M","H","T","M","H","T","M","H","T","M","H","T","M","H","T"]
[null,"Familias",null,null,null,{"$f":"SUM(D418,E418)","v":0},null,null,{"$f":"SUM(G418,H418)","v":0},null,null,{"$f":"SUM(J418,K418)","v":0},null,null,{"$f":"SUM(M418,N418)","v":0},null,null,{"$f":"SUM(P418,Q418)","v":0},null,null,{"$f":"SUM(S418,T418)","v":0}]
[]
[null,"En caso de requerir alguna precisión o aclaración, describa brevemente: "]

{"sheet":"Atención complementaria DIS","index":10,"n_rows":149,"n_cols":39,"rows_kept":149,"cut":false,"hidden":false,"merged":[[9,1,9,2],[9,3,9,5],[11,1,11,2],[11,3,11,5],[12,1,12,2],[12,3,12,5],[0,1,4,39],[5,1,5,39],[6,1,6,39],[7,1,7,39],[8,1,8,2],[8,3,8,5],[8,7,8,9],[12,28,12,39],[12,6,12,7],[12,8,12,10],[12,11,12,12],[12,13,12,16],[12,17,12,20],[12,21,12,27],[13,1,15,2],[13,3,13,5],[13,6,13,8],[13,9,13,11],[13,12,13,14],[13,15,13,17],[13,18,13,20],[13,21,13,23],[13,24,13,26],[13,27,13,29],[13,30,15,37],[13,38,15,39],[14,4,14,5],[14,7,14,8],[14,10,14,11],[14,13,14,14],[14,16,14,17],[14,19,14,20],[14,22,14,23],[14,25,14,26],[14,28,14,29],[16,1,16,2],[16,30,16,33],[16,34,16,37],[16,38,22,39],[17,30,17,33],[17,34,17,37],[18,1,18,29],[18,30,18,33],[18,34,18,37],[19,1,23,29],[19,30,19,33],[19,34,19,37],[20,30,20,33],[20,34,20,37],[21,30,21,33],[21,34,21,37],[22,30,22,33],[22,34,22,37],[23,30,23,33],[23,34,23,37],[25,1,25,2],[25,3,25,5],[26,1,26,2],[26,3,26,5],[26,6,26,7],[26,8,26,10],[26,11,26,12],[26,13,26,16],[26,17,26,20],[26,21,26,27],[26,28,26,39],[27,1,29,2],[27,3,27,5],[27,6,27,8],[27,9,27,11],[27,12,27,14],[27,15,27,17],[27,18,27,20],[27,21,27,23],[27,24,27,26],[27,27,27,29],[27,30,29,37],[27,38,29,39],[28,4,28,5],[28,7,28,8],[28,10,28,11],[28,13,28,14],[28,16,28,17],[28,19,28,20],[28,22,28,23],[28,25,28,26],[28,28,28,29],[30,1,30,2],[30,30,30,33],[34,30,34,33],[34,34,34,37],[35,30,35,33],[35,34,35,37],[30,34,30,37],[30,38,36,39],[31,30,31,33],[31,34,31,37],[32,1,32,29],[32,30,32,33],[32,34,32,37],[37,30,37,33],[37,34,37,37],[39,1,39,2],[39,3,39,5],[40,1,40,2],[40,3,40,5],[40,6,40,7],[40,8,40,10],[40,11,40,12],[40,13,40,16],[40,17,40,20],[40,21,40,27],[40,28,40,39],[33,1,37,29],[33,30,33,33],[33,34,33,37],[36,30,36,33],[36,34,36,37],[41,27,41,29],[41,30,43,37],[41,38,43,39],[42,4,42,5],[42,7,42,8],[42,10,42,11],[42,13,42,14],[42,16,42,17],[46,1,46,29],[46,30,46,33],[46,34,46,37],[44,38,50,39],[41,1,43,2],[41,3,41,5],[41,6,41,8],[41,9,41,11],[41,12,41,14],[41,15,41,17],[41,18,41,20],[41,21,41,23],[41,24,41,26],[47,1,51,29],[47,30,47,33],[47,34,47,37],[42,19,42,20],[42,22,42,23],[42,25,42,26],[42,28,42,29],[44,1,44,2],[44,30,44,33],[48,30,48,33],[48,34,48,37],[49,30,49,33],[49,34,49,37],[50,30,50,33],[50,34,50,37],[44,34,44,37],[45,30,45,33],[45,34,45,37],[51,30,51,33],[51,34,51,37],[53,1,53,2],[53,3,53,5],[54,1,54,2],[54,3,54,5],[54,6,54,7],[54,8,54,10],[54,11,54,12],[54,13,54,16],[54,17,54,20],[54,21,54,27],[54,28,54,39],[55,1,57,2],[55,3,55,5],[55,6,55,8],[55,9,55,11],[55,12,55,14],[55,15,55,17],[55,18,55,20],[55,21,55,23],[55,24,55,26],[55,27,55,29],[55,30,57,37],[55,38,57,39],[56,4,56,5],[56,7,56,8],[56,10,56,11],[56,13,56,14],[56,16,56,17],[56,19,56,20],[56,22,56,23],[56,25,56,26],[56,28,56,29],[58,1,58,2],[58,30,58,33],[62,30,62,33],[62,34,62,37],[63,30,63,33],[63,34,63,37],[58,34,58,37],[58,38,64,39],[59,30,59,33],[59,34,59,37],[60,1,60,29],[60,30,60,33],[60,34,60,37],[65,30,65,33],[65,34,65,37],[67,1,67,2],[67,3,67,5],[68,1,68,2],[68,3,68,5],[68,6,68,7],[68,8,68,10],[68,11,68,12],[68,13,68,16],[68,17,68,20],[68,21,68,27],[68,28,68,39],[61,1,65,29],[61,30,61,33],[61,34,61,37],[64,30,64,33],[64,34,64,37],[69,27,69,29],[69,30,71,37],[69,38,71,39],[70,4,70,5],[70,7,70,8],[70,10,70,11],[70,13,70,14],[70,16,70,17],[74,1,74,29],[74,30,74,33],[74,34,74,37],[72,38,78,39],[69,1,71,2],[69,3,69,5],[69,6,69,8],[69,9,69,11],[69,12,69,14],[69,15,69,17],[69,18,69,20],[69,21,69,23],[69,24,69,26],[70,19,70,20],[70,22,70,23],[70,25,70,26],[70,28,70,29],[72,1,72,2],[72,30,72,33],[76,30,76,33],[76,34,76,37],[77,30,77,33],[77,34,77,37],[72,34,72,37],[73,30,73,33],[73,34,73,37],[83,1,83,2],[83,3,83,5],[85,1,85,2],[85,3,85,5],[86,1,86,2],[86,3,86,5],[79,30,79,33],[79,34,79,37],[81,1,81,39],[82,1,82,2],[82,3,82,5],[82,7,82,9],[86,28,86,39],[86,6,86,7],[86,8,86,10],[86,11,86,12],[86,13,86,16],[86,17,86,20],[86,21,86,27],[75,1,79,29],[75,30,75,33],[75,34,75,37],[78,30,78,33],[78,34,78,37],[87,1,89,2],[87,3,87,5],[87,6,87,8],[87,9,87,11],[87,12,87,14],[87,15,87,17],[87,18,87,20],[87,21,87,23],[87,24,87,26],[87,27,87,29],[87,30,89,37],[87,38,89,39],[88,4,88,5],[88,7,88,8],[88,10,88,11],[88,13,88,14],[88,16,88,17],[88,19,88,20],[88,22,88,23],[88,25,88,26],[88,28,88,29],[90,1,90,2],[90,30,90,33],[90,34,90,37],[90,38,96,39],[91,30,91,33],[91,34,91,37],[92,1,92,29],[92,30,92,33],[92,34,92,37],[93,1,97,29],[93,30,93,33],[93,34,93,37],[94,30,94,33],[94,34,94,37],[95,30,95,33],[95,34,95,37],[96,30,96,33],[96,34,96,37],[97,30,97,33],[97,34,97,37],[99,1,99,2],[99,3,99,5],[100,1,100,2],[100,3,100,5],[100,6,100,7],[100,8,100,10],[100,11,100,12],[100,13,100,16],[100,17,100,20],[100,21,100,27],[100,28,100,39],[101,1,103,2],[101,3,101,5],[101,6,101,8],[101,9,101,11],[101,12,101,14],[101,15,101,17],[101,18,101,20],[101,21,101,23],[101,24,101,26],[101,27,101,29],[101,30,103,37],[101,38,103,39],[102,4,102,5],[102,7,102,8],[102,10,102,11],[102,13,102,14],[102,16,102,17],[102,19,102,20],[102,22,102,23],[102,25,102,26],[102,28,102,29],[104,1,104,2],[104,30,104,33],[108,30,108,33],[108,34,108,37],[109,30,109,33],[109,34,109,37],[104,34,104,37],[104,38,110,39],[105,30,105,33],[105,34,105,37],[106,1,106,29],[106,30,106,33],[106,34,106,37],[111,30,111,33],[111,34,111,37],[113,1,113,2],[113,3,113,5],[114,1,114,2],[114,3,114,5],[114,6,114,7],[114,8,114,10],[114,11,114,12],[114,13,114,16],[114,17,114,20],[114,21,114,27],[114,28,114,39],[107,1,111,29],[107,30,107,33],[107,34,107,37],[110,30,110,33],[110,34,110,37],[115,27,115,29],[115,30,117,37],[115,38,117,39],[116,4,116,5],[116,7,116,8],[116,10,116,11],[116,13,116,14],[116,16,116,17],[120,1,120,29],[120,30,120,33],[120,34,120,37],[118,38,124,39],[115,1,117,2],[115,3,115,5],[115,6,115,8],[115,9,115,11],[115,12,115,14],[115,15,115,17],[115,18,115,20],[115,21,115,23],[115,24,115,26],[121,1,125,29],[121,30,121,33],[121,34,121,37],[116,19,116,20],[116,22,116,23],[116,25,116,26],[116,28,116,29],[118,1,118,2],[118,30,118,33],[122,30,122,33],[122,34,122,37],[123,30,123,33],[123,34,123,37],[124,30,124,33],[124,34,124,37],[118,34,118,37],[119,30,119,33],[119,34,119,37],[125,30,125,33],[125,34,125,37],[127,1,127,2],[127,3,127,5],[128,1,128,2],[128,3,128,5],[128,6,128,7],[128,8,128,10],[128,11,128,12],[128,13,128,16],[128,17,128,20],[128,21,128,27],[128,28,128,39],[129,1,131,2],[129,3,129,5],[129,6,129,8],[129,9,129,11],[129,12,129,14],[129,15,129,17],[129,18,129,20],[129,21,129,23],[129,24,129,26],[129,27,129,29],[129,30,131,37],[129,38,131,39],[130,4,130,5],[130,7,130,8],[130,10,130,11],[130,13,130,14],[130,16,130,17],[130,19,130,20],[130,22,130,23],[130,25,130,26],[130,28,130,29],[143,1,145,2],[132,1,132,2],[132,30,132,33],[136,30,136,33],[136,34,136,37],[137,30,137,33],[137,34,137,37],[132,34,132,37],[132,38,138,39],[133,30,133,33],[133,34,133,37],[134,1,134,29],[134,30,134,33],[134,34,134,37],[139,30,139,33],[139,34,139,37],[141,1,141,2],[141,3,141,5],[142,1,142,2],[142,3,142,5],[142,6,142,7],[142,8,142,10],[142,11,142,12],[142,13,142,16],[135,1,139,29],[135,30,135,33],[135,34,135,37],[138,30,138,33],[138,34,138,37],[143,38,145,39],[144,4,144,5],[144,7,144,8],[144,10,144,11],[144,13,144,14],[144,16,144,17],[142,17,142,20],[142,21,142,27],[142,28,142,39],[143,3,143,5],[143,6,143,8],[143,9,143,11],[143,12,143,14],[143,15,143,17],[143,18,143,20],[144,19,144,20],[144,22,144,23],[144,25,144,26],[144,28,144,29],[143,21,143,23],[143,24,143,26],[143,27,143,29],[143,30,145,37],[146,38,152,39],[147,30,147,33],[147,34,147,37],[148,1,148,29],[148,30,148,33],[148,34,148,37],[149,1,153,29],[149,30,149,33],[149,34,149,37],[153,30,153,33],[153,34,153,37],[150,30,150,33],[150,34,150,37],[151,30,151,33],[151,34,151,37],[152,30,152,33],[152,34,152,37],[146,34,146,37],[146,1,146,2],[146,30,146,33]]}
[null,"Subsecretaría de Educación Básica\nDirección General de Desarrollo Curricular\nDirección de Fortalecimiento Curricular para la \nFormación Personal y Social en la Educación Básica\nEducación Especial"]
[]
[]
[]
[]
[null,"Componente: 2. Acciones de atención complementaria para estudiantes con discapacidad"]
[null,"Para garantizar el cumplimiento de los objetivos del PFSEE las AEL podrán  destinar hasta  un 50% del recurso, de acuerdo con lo estipulado en las reglas de operación 2025."]
[null,"2.1 Acciones orientadas a la intervención directa y la atención complementaria: académica, artística, deportiva, rehabilitadora, desarrollo de habilidades socioafectivas y/o que contribuyan en el diagnóstico de las y los estudiantes con discapacidad"]
[null,"Recurso programado:",null,{"$f":"'Distribución presupuestal 2025'!H56","v":277800},null,null,null,"SEE focalizados:",null,null,"USAER",{"$f":"'SEE 2025'!B21","v":64},"CAM básico",{"$f":"'SEE 2025'!C21","v":0},"Básico FpT",{"$f":"'SEE 2025'!C23","v":28},"CAM laboral",{"$f":"'SEE 2025'!D21","v":2},"CAPEP",{"$f":"'SEE 2025'!E21","v":0},"CRIE",{"$f":"'SEE 2025'!F21","v":0},"UOP",{"$f":"'SEE 2025'!G21","v":0},"UAEBH",{"$f":"'SEE 2025'!H21","v":0},"Otro",{"$f":"'SEE 2025'!I21","v":0}]
[null,"Remanente",null,{"$f":"D9-SUM(A13:A81)","v":0}]
[]
[null,"Numero de actividad",null,"2.1.1"]
[{"$f":"R13","v":277800},"Tipo de actividad",null,"Trimestre de inicio",null,null,"3ro",null,"Trimestre de término",null,null,"4to",null,"Presupuesto de la actividad",null,null,null,277800,null,null,null,"Título de la actividad",null,null,null,null,null,null,"MAÑANA ACADÉMICA"]
[null,"Académica",null,"USAER",null,null,"CAM básico",null,null,"CAM básico con FpT",null,null,"CAM laboral",null,null,"CAPEP",null,null,"CRIE",null,null,"UOP",null,null,"UAEBH",null,null,"Otro",null,null,"Especifique producto o servicio en lo que se planea ejercer",null,null,null,null,null,null,null,"Propósito de la actividad"]
[null,null,null,"SEE:",56,null,"SEE:",0,null,"SEE:",0,null,"SEE:",0,null,"SEE:",0,null,"SEE:",0,null,"SEE:",0,null,"SEE:",0,null,"SEE:",0]
[null,null,null,"M","H","T","M","H","T","M","H","T","M","H","T","M","H","T","M","H","T","M","H","T","M","H","T","M","H","T"]
[null,"Estudiantes beneficiados",null,170,300,{"$f":"SUM(D17,E17)","v":470},0,0,{"$f":"SUM(G17,H17)","v":0},0,0,0,0,0,{"$f":"SUM(M17,N17)","v":0},0,0,{"$f":"SUM(P17,Q17)","v":0},0,0,{"$f":"SUM(S17,T17)","v":0},0,0,{"$f":"SUM(V17,W17)","v":0},0,0,{"$f":"SUM(Y17,Z17)","v":0},0,0,{"$f":"SUM(AB17,AC17)","v":0},"Pago de traslados para asistentes",null,null,null,"N/A",null,null,null,"Potenciar el desarrollo de habilidades sociales, emocionales, acedémicas y culturales de los alumnos, a través de experiencias vivenciales en entornos estimulantes."]
[null,null,null,null,null,null,null,null,null,null,null,null,null,null,null,null,null,null,null,null,null,null,null,null,null,null,null,null,null,null,"Compra de Box lunch",null,null,null,"N/A"]
[null,"En caso de requerir alguna precisión o aclaración, describa brevemente: ",null,null,null,null,null,null,null,null,null,null,null,null,null,null,null,null,null,null,null,null,null,null,null,null,null,null,null,null,"Diseño y producción de lonas",null,null,null,"N/A"]
[null,"       470 alumnos de  USAER.  Z1-30 (1c), z2-30(1c), z3-30(1c), z4-30(1c), z5-60(2c), z6-60(2c), z7-60(2C), z8-50(2c), z9-30(1c), z10-60(2c), z11-30(1c).                                                                                                                                                                                   Pago de accesos a museo interactivo de 470 alumnos y 192 acompañantes, 662 total.                                                                                                                                                                                                                                                                                                                                              ",null,null,null,null,null,null,null,null,null,null,null,null,null,null,null,null,null,null,null,null,null,null,null,null,null,null,null,null,"N/A",null,null,null,"N/A"]
[null,null,null,null,null,null,null,null,null,null,null,null,null,null,null,null,null,null,null,null,null,null,null,null,null,null,null,null,null,null,"N/A",null,null,null,"N/A"]
[null,null,null,null,null,null,null,null,null,null,null,null,null,null,null,null,null,null,null,null,null,null,null,null,null,null,null,null,null,null,"N/A",null,null,null,"N/A"]
[null,null,null,null,null,null,null,null,null,null,null,null,null,null,null,null,null,null,null,null,null,null,null,null,null,null,null,null,null,null,"N/A",null,null,null,"N/A"]
[null,null,null,null,null,null,null,null,null,null,null,null,null,null,null,null,null,null,null,null,null,null,null,null,null,null,null,null,null,null,"N/A",null,null,null,"N/A"]
[]
[null,"Numero de actividad",null,"2.1.2"]
[{"$f":"R27","v":0},"Tipo de actividad",null,"Trimestre de inicio",null,null,null,null,"Trimestre de término",null,null,null,null,"Presupuesto de la actividad",null,null,null,null,null,null,null,"Título de la actividad"]
[null,null,null,"USAER",null,null,"CAM básico",null,null,"CAM básico con FpT",null,null,"CAM laboral",null,null,"CAPEP",null,null,"CRIE",null,null,"UOP",null,null,"UAEBH",null,null,"Otro",null,null,"Especifique producto o servicio en lo que se planea ejercer",null,null,null,null,null,null,null,"Propósito de la actividad"]
[null,null,null,"SEE:",null,null,"SEE:",0,null,"SEE:",null,null,"SEE:",null,null,"SEE:",0,null,"SEE:",0,null,"SEE:",0,null,"SEE:",0,null,"SEE:",0]
[null,null,null,"M","H","T","M","H","T","M","H","T","M","H","T","M","H","T","M","H","T","M","H","T","M","H","T","M","H","T"]
[null,"Estudiantes beneficiados",null,null,null,{"$f":"SUM(D31,E31)","v":0},null,null,{"$f":"SUM(G31,H31)","v":0},null,null,{"$f":"SUM(J31,K31)","v":0},null,null,{"$f":"SUM(M31,N31)","v":0},0,null,{"$f":"SUM(P31,Q31)","v":0},null,null,{"$f":"SUM(S31,T31)","v":0},null,null,{"$f":"SUM(V31,W31)","v":0},null,null,{"$f":"SUM(Y31,Z31)","v":0},null,null,{"$f":"SUM(AB31,AC31)","v":0}]
[]
[null,"En caso de requerir alguna precisión o aclaración, describa brevemente: "]
[]
[]
[]
[]
[]
[]
[null,"Numero de actividad",null,"2.1.3"]
[{"$f":"R41","v":0},"Tipo de actividad",null,"Trimestre de inicio",null,null,null,null,"Trimestre de término",null,null,null,null,"Presupuesto de la actividad",null,null,null,null,null,null,null,"Título de la actividad"]
[null,null,null,"USAER",null,null,"CAM básico",null,null,"CAM básico con FpT",null,null,"CAM laboral",null,null,"CAPEP",null,null,"CRIE",null,null,"UOP",null,null,"UAEBH",null,null,"Otro",null,null,"Especifique producto o servicio en lo que se planea ejercer",null,null,null,null,null,null,null,"Propósito de la actividad"]
[null,null,null,"SEE:",null,null,"SEE:",null,null,"SEE:",null,null,"SEE:",null,null,"SEE:",null,null,"SEE:",null,null,"SEE:",null,null,"SEE:",null,null,"SEE:"]
[null,null,null,"M","H","T","M","H","T","M","H","T","M","H","T","M","H","T","M","H","T","M","H","T","M","H","T","M","H","T"]
[null,"Estudiantes beneficiados",null,null,null,{"$f":"SUM(D45,E45)","v":0},null,null,{"$f":"SUM(G45,H45)","v":0},null,null,{"$f":"SUM(J45,K45)","v":0},null,null,{"$f":"SUM(M45,N45)","v":0},null,null,{"$f":"SUM(P45,Q45)","v":0},null,null,{"$f":"SUM(S45,T45)","v":0},null,null,{"$f":"SUM(V45,W45)","v":0},null,null,{"$f":"SUM(Y45,Z45)","v":0},null,null,{"$f":"SUM(AB45,AC45)","v":0}]
[]
[null,"En caso de requerir alguna precisión o aclaración, describa brevemente: "]
[]
[]
[]
[]
[]
[]
[null,"Numero de actividad",null,"2.1.4"]
[{"$f":"R55","v":0},"Tipo de actividad",null,"Trimestre de inicio",null,null,null,null,"Trimestre de término",null,null,null,null,"Presupuesto de la actividad",null,null,null,null,null,null,null,"Título de la actividad"]
[null,null,null,"USAER",null,null,"CAM básico",null,null,"CAM básico con FpT",null,null,"CAM laboral",null,null,"CAPEP",null,null,"CRIE",null,null,"UOP",null,null,"UAEBH",null,null,"Otro",null,null,"Especifique producto o servicio en lo que se planea ejercer",null,null,null,null,null,null,null,"Propósito de la actividad"]
[null,null,null,"SEE:",null,null,"SEE:",null,null,"SEE:",null,null,"SEE:",null,null,"SEE:",null,null,"SEE:",null,null,"SEE:",null,null,"SEE:",null,null,"SEE:"]
[null,null,null,"M","H","T","M","H","T","M","H","T","M","H","T","M","H","T","M","H","T","M","H","T","M","H","T","M","H","T"]
[null,"Estudiantes beneficiados",null,null,null,{"$f":"SUM(D59,E59)","v":0},null,null,{"$f":"SUM(G59,H59)","v":0},null,null,{"$f":"SUM(J59,K59)","v":0},null,null,{"$f":"SUM(M59,N59)","v":0},null,null,{"$f":"SUM(P59,Q59)","v":0},null,null,{"$f":"SUM(S59,T59)","v":0},null,null,{"$f":"SUM(V59,W59)","v":0},null,null,{"$f":"SUM(Y59,Z59)","v":0},null,null,{"$f":"SUM(AB59,AC59)","v":0}]
[]
[null,"En caso de requerir alguna precisión o aclaración, describa brevemente: "]
[]
[]
[]
[]
[]
[]
[null,"Numero de actividad",null,"2.1.5"]
[{"$f":"R69","v":0},"Tipo de actividad",null,"Trimestre de inicio",null,null,null,null,"Trimestre de término",null,null,null,null,"Presupuesto de la actividad",null,null,null,null,null,null,null,"Título de la actividad"]
[null,null,null,"USAER",null,null,"CAM básico",null,null,"CAM básico con FpT",null,null,"CAM laboral",null,null,"CAPEP",null,null,"CRIE",null,null,"UOP",null,null,"UAEBH",null,null,"Otro",null,null,"Especifique producto o servicio en lo que se planea ejercer",null,null,null,null,null,null,null,"Propósito de la actividad"]
[null,null,null,"SEE:",null,null,"SEE:",null,null,"SEE:",null,null,"SEE:",null,null,"SEE:",null,null,"SEE:",null,null,"SEE:",null,null,"SEE:",null,null,"SEE:"]
[null,null,null,"M","H","T","M","H","T","M","H","T","M","H","T","M","H","T","M","H","T","M","H","T","M","H","T","M","H","T"]
[null,"Estudiantes beneficiados",null,null,null,{"$f":"SUM(D73,E73)","v":0},null,null,{"$f":"SUM(G73,H73)","v":0},null,null,{"$f":"SUM(J73,K73)","v":0},null,null,{"$f":"SUM(M73,N73)","v":0},null,null,{"$f":"SUM(P73,Q73)","v":0},null,null,{"$f":"SUM(S73,T73)","v":0},null,null,{"$f":"SUM(V73,W73)","v":0},null,null,{"$f":"SUM(Y73,Z73)","v":0},null,null,{"$f":"SUM(AB73,AC73)","v":0}]
[]
[null,"En caso de requerir alguna precisión o aclaración, describa brevemente: "]
[]
[]
[]
[]
[]
[]
[null,"2.2 Acciones orientadas a que las y los estudiantes con discapacidad pongan en práctica las habilidades académicas, artísticas, deportivas, para la vida y/o laborales y que promuevan la sensibilización, promoción, difusión y desarrollo en la comunidad escolar una cultura inclusiva, a través de campañas, ferias y eventos"]
[null,"Recurso programado:",null,{"$f":"'Distribución presupuestal 2025'!H57","v":1972200},null,null,null,"SEE focalizados:",null,null,"USAER",{"$f":"'SEE 2025'!B21","v":64},"CAM básico",{"$f":"'SEE 2025'!C21","v":0},"Básico FpT",{"$f":"'SEE 2025'!C23","v":28},"CAM laboral",{"$f":"'SEE 2025'!D21","v":2},"CAPEP",{"$f":"'SEE 2025'!E21","v":0},"CRIE",{"$f":"'SEE 2025'!F21","v":0},"UOP",{"$f":"'SEE 2025'!G21","v":0},"UAEBH",{"$f":"'SEE 2025'!H21","v":0},"Otro",{"$f":"'SEE 2025'!I21","v":0}]
[null,"Remanente",null,{"$f":"D83-SUM(A87:A156)","v":0}]
[]
[null,"Numero de actividad",null,"2.2.1"]
[{"$f":"R87","v":1060000},"Tipo de actividad",null,"Trimestre de inicio",null,null,"4to",null,"Trimestre de término",null,null,"4to",null,"Presupuesto de la actividad",null,null,null,1060000,null,null,null,"Título de la actividad",null,null,null,null,null,null,"LIGA DE DEPORTE ADAPTADO"]
[null,"Evento",null,"USAER",null,null,"CAM básico",null,null,"CAM básico con FpT",null,null,"CAM laboral",null,null,"CAPEP",null,null,"CRIE",null,null,"UOP",null,null,"UAEBH",null,null,"Otro",null,null,"Especifique producto o servicio en lo que se planea ejercer",null,null,null,null,null,null,null,"Propósito de la actividad"]
[null,null,null,"SEE:",0,null,"SEE:",0,null,"SEE:",28,null,"SEE:",2,null,"SEE:",0,null,"SEE:",0,null,"SEE:",0,null,"SEE:",0,null,"SEE:",0]
[null,null,null,"M","H","T","M","H","T","M","H","T","M","H","T","M","H","T","M","H","T","M","H","T","M","H","T","M","H","T"]
[null,"Estudiantes beneficiados",null,0,0,{"$f":"SUM(D91,E91)","v":0},0,0,{"$f":"SUM(G91,H91)","v":0},374,331,{"$f":"SUM(J91,K91)","v":705},30,30,{"$f":"SUM(M91,N91)","v":60},0,0,{"$f":"SUM(P91,Q91)","v":0},0,0,{"$f":"SUM(S91,T91)","v":0},0,0,{"$f":"SUM(V91,W91)","v":0},0,0,{"$f":"SUM(Y91,Z91)","v":0},0,0,{"$f":"SUM(AB91,AC91)","v":0},"Compra de material deportivo y/o artístico",null,null,null,"N/A",null,null,null,"Favorecer las habilidades psicomotrices, la salud física y emocional, con juegos de convivencia en disciplinas como futbol, básquetbol, cachibol, handball; así como demostrar las capacidades desarrolladas ante la comunidad escolar. "]
[null,null,null,null,null,null,null,null,null,null,null,null,null,null,null,null,null,null,null,null,null,null,null,null,null,null,null,null,null,null,"Compra de Box lunch",null,null,null,"N/A"]
[null,"En caso de requerir alguna precisión o aclaración, describa brevemente: ",null,null,null,null,null,null,null,null,null,null,null,null,null,null,null,null,null,null,null,null,null,null,null,null,null,null,null,null,"Pago de traslados para asistentes",null,null,null,"N/A"]
[null,"30 alumnos por CAM, Una jornada en cada zona escolar con duración de 5 horas cada una, disciplinas: futbol, básquetbol, cachibol, handball y atletísmo.",null,null,null,null,null,null,null,null,null,null,null,null,null,null,null,null,null,null,null,null,null,null,null,null,null,null,null,null,"Adquisición de uniformes",null,null,null,"N/A"]
[null,null,null,null,null,null,null,null,null,null,null,null,null,null,null,null,null,null,null,null,null,null,null,null,null,null,null,null,null,null,"Diseño y producción de lonas",null,null,null,"N/A"]
[null,null,null,null,null,null,null,null,null,null,null,null,null,null,null,null,null,null,null,null,null,null,null,null,null,null,null,null,null,null,"Renta de mobiliario",null,null,null,"N/A"]
[null,null,null,null,null,null,null,null,null,null,null,null,null,null,null,null,null,null,null,null,null,null,null,null,null,null,null,null,null,null,"N/A",null,null,null,"N/A"]
[null,null,null,null,null,null,null,null,null,null,null,null,null,null,null,null,null,null,null,null,null,null,null,null,null,null,null,null,null,null,"N/A",null,null,null,"N/A"]
[]
[null,"Numero de actividad",null,"2.2.2"]
[{"$f":"R101","v":787200},"Tipo de actividad",null,"Trimestre de inicio",null,null,"3ro",null,"Trimestre de término",null,null,"4to",null,"Presupuesto de la actividad",null,null,null,787200,null,null,null,"Título de la actividad",null,null,null,null,null,null,"MUESTRA ARTÍSTICO-CULTURAL"]
[null,"Evento",null,"USAER",null,null,"CAM básico",null,null,"CAM básico con FpT",null,null,"CAM laboral",null,null,"CAPEP",null,null,"CRIE",null,null,"UOP",null,null,"UAEBH",null,null,"Otro",null,null,"Especifique producto o servicio en lo que se planea ejercer",null,null,null,null,null,null,null,"Propósito de la actividad"]
[null,null,null,"SEE:",0,null,"SEE:",0,null,"SEE:",28,null,"SEE:",2,null,"SEE:",0,null,"SEE:",0,null,"SEE:",0,null,"SEE:",0,null,"SEE:",0]
[null,null,null,"M","H","T","M","H","T","M","H","T","M","H","T","M","H","T","M","H","T","M","H","T","M","H","T","M","H","T"]
[null,"Estudiantes beneficiados",null,0,0,{"$f":"SUM(D105,E105)","v":0},0,0,{"$f":"SUM(G105,H105)","v":0},550,858,{"$f":"SUM(J105,K105)","v":1408},49,75,{"$f":"SUM(M105,N105)","v":124},0,0,{"$f":"SUM(P105,Q105)","v":0},0,0,{"$f":"SUM(S105,T105)","v":0},0,0,{"$f":"SUM(V105,W105)","v":0},0,0,{"$f":"SUM(Y105,Z105)","v":0},0,0,{"$f":"SUM(AB105,AC105)","v":0},"Compra de material deportivo y/o artístico",null,null,null,"N/A",null,null,null,"Potenciar las habilidades artísticas  y motrices de los alumnos de los centros de atención múltiple, favoreciendo la convivencia y la expresión cultural en los entornos escolares y sociales."]
[null,null,null,null,null,null,null,null,null,null,null,null,null,null,null,null,null,null,null,null,null,null,null,null,null,null,null,null,null,null,"Diseño y producción de lonas",null,null,null,"N/A"]
[null,"En caso de requerir alguna precisión o aclaración, describa brevemente: ",null,null,null,null,null,null,null,null,null,null,null,null,null,null,null,null,null,null,null,null,null,null,null,null,null,null,null,null,"Pago de traslados para asistentes",null,null,null,"N/A"]
[null,"En cada zona escolar,se conformarán cuadros diversos para una participación al interior de la zona, posteriormente un cuadro representativo de cada zona, presentará un número conformado por 16 alumnos, en un evento artístico-cultural con duración de cinco horas.",null,null,null,null,null,null,null,null,null,null,null,null,null,null,null,null,null,null,null,null,null,null,null,null,null,null,null,null,"Arrendamiento de salas / salones ",null,null,null,"N/A"]
[null,null,null,null,null,null,null,null,null,null,null,null,null,null,null,null,null,null,null,null,null,null,null,null,null,null,null,null,null,null,"Renta de equipo de audio y/o video",null,null,null,"N/A"]
[null,null,null,null,null,null,null,null,null,null,null,null,null,null,null,null,null,null,null,null,null,null,null,null,null,null,null,null,null,null,"Pago de viáticos para asistentes",null,null,null,"N/A"]
[null,null,null,null,null,null,null,null,null,null,null,null,null,null,null,null,null,null,null,null,null,null,null,null,null,null,null,null,null,null,"Compra de Box lunch",null,null,null,"N/A"]
[null,null,null,null,null,null,null,null,null,null,null,null,null,null,null,null,null,null,null,null,null,null,null,null,null,null,null,null,null,null,"N/A",null,null,null,"N/A"]
[]
[null,"Numero de actividad",null,"2.2.3"]
[{"$f":"R115","v":125000},"Tipo de actividad",null,"Trimestre de inicio",null,null,"3ro",null,"Trimestre de término",null,null,"4to",null,"Presupuesto de la actividad",null,null,null,125000,null,null,null,"Título de la actividad",null,null,null,null,null,null,"CAMPAMENTO ACADÉMICO"]
[null,"Evento",null,"USAER",null,null,"CAM básico",null,null,"CAM básico con FpT",null,null,"CAM laboral",null,null,"CAPEP",null,null,"CRIE",null,null,"UOP",null,null,"UAEBH",null,null,"Otro",null,null,"Especifique producto o servicio en lo que se planea ejercer",null,null,null,null,null,null,null,"Propósito de la actividad"]
[null,null,null,"SEE:",8,null,"SEE:",0,null,"SEE:",4,null,"SEE:",1,null,"SEE:",0,null,"SEE:",0,null,"SEE:",0,null,"SEE:",0,null,"SEE:",0]
[null,null,null,"M","H","T","M","H","T","M","H","T","M","H","T","M","H","T","M","H","T","M","H","T","M","H","T","M","H","T"]
[null,"Estudiantes beneficiados",null,54,62,{"$f":"SUM(D119,E119)","v":116},0,0,{"$f":"SUM(G119,H119)","v":0},101,157,{"$f":"SUM(J119,K119)","v":258},27,39,{"$f":"SUM(M119,N119)","v":66},0,0,{"$f":"SUM(P119,Q119)","v":0},0,0,{"$f":"SUM(S119,T119)","v":0},0,0,{"$f":"SUM(V119,W119)","v":0},0,0,{"$f":"SUM(Y119,Z119)","v":0},0,0,{"$f":"SUM(AB119,AC119)","v":0},"N/A",null,null,null,"N/A",null,null,null,"Demostrar las habilidades sociales, motrices y académicas desarrolladas por los alumnos a través de un campamento académico entre alumnos con discapacidad de la región Laguna del Estado de Durango."]
[null,null,null,null,null,null,null,null,null,null,null,null,null,null,null,null,null,null,null,null,null,null,null,null,null,null,null,null,null,null,"Compra de material deportivo y/o artístico",null,null,null,"N/A"]
[null,"En caso de requerir alguna precisión o aclaración, describa brevemente: ",null,null,null,null,null,null,null,null,null,null,null,null,null,null,null,null,null,null,null,null,null,null,null,null,null,null,null,null,"Pago de traslados para asistentes",null,null,null,"N/A"]
[null,"Transporte para traslado de Tlahualilo a Gómez Palacio: 1 camión. ",null,null,null,null,null,null,null,null,null,null,null,null,null,null,null,null,null,null,null,null,null,null,null,null,null,null,null,null,"Compra de Box lunch",null,null,null,"N/A"]
[null,null,null,null,null,null,null,null,null,null,null,null,null,null,null,null,null,null,null,null,null,null,null,null,null,null,null,null,null,null,"N/A",null,null,null,"N/A"]
[null,null,null,null,null,null,null,null,null,null,null,null,null,null,null,null,null,null,null,null,null,null,null,null,null,null,null,null,null,null,"Renta de equipo de audio y/o video",null,null,null,"N/A"]
[null,null,null,null,null,null,null,null,null,null,null,null,null,null,null,null,null,null,null,null,null,null,null,null,null,null,null,null,null,null,"Diseño y producción de lonas",null,null,null,"N/A"]
[null,null,null,null,null,null,null,null,null,null,null,null,null,null,null,null,null,null,null,null,null,null,null,null,null,null,null,null,null,null,"N/A",null,null,null,"N/A"]
[]
[null,"Numero de actividad",null,"2.2.4"]
[{"$f":"R129","v":0},"Tipo de actividad",null,"Trimestre de inicio",null,null,null,null,"Trimestre de término",null,null,null,null,"Presupuesto de la actividad",null,null,null,null,null,null,null,"Título de la actividad"]
[null,null,null,"USAER",null,null,"CAM básico",null,null,"CAM básico con FpT",null,null,"CAM laboral",null,null,"CAPEP",null,null,"CRIE",null,null,"UOP",null,null,"UAEBH",null,null,"Otro",null,null,"Especifique producto o servicio en lo que se planea ejercer",null,null,null,null,null,null,null,"Propósito de la actividad"]
[null,null,null,"SEE:",null,null,"SEE:",null,null,"SEE:",null,null,"SEE:",null,null,"SEE:",null,null,"SEE:",null,null,"SEE:",null,null,"SEE:",null,null,"SEE:"]
[null,null,null,"M","H","T","M","H","T","M","H","T","M","H","T","M","H","T","M","H","T","M","H","T","M","H","T","M","H","T"]
[null,"Estudiantes beneficiados",null,null,null,{"$f":"SUM(D133,E133)","v":0},null,null,{"$f":"SUM(G133,H133)","v":0},null,null,{"$f":"SUM(J133,K133)","v":0},null,null,{"$f":"SUM(M133,N133)","v":0},null,null,{"$f":"SUM(P133,Q133)","v":0},null,null,{"$f":"SUM(S133,T133)","v":0},null,null,{"$f":"SUM(V133,W133)","v":0},null,null,{"$f":"SUM(Y133,Z133)","v":0},null,null,{"$f":"SUM(AB133,AC133)","v":0}]
[]
[null,"En caso de requerir alguna precisión o aclaración, describa brevemente: "]
[]
[]
[]
[]
[]
[]
[null,"Numero de actividad",null,"2.2.5"]
[{"$f":"R143","v":0},"Tipo de actividad",null,"Trimestre de inicio",null,null,null,null,"Trimestre de término",null,null,null,null,"Presupuesto de la actividad",null,null,null,null,null,null,null,"Título de la actividad"]
[null,null,null,"USAER",null,null,"CAM básico",null,null,"CAM básico con FpT",null,null,"CAM laboral",null,null,"CAPEP",null,null,"CRIE",null,null,"UOP",null,null,"UAEBH",null,null,"Otro",null,null,"Especifique producto o servicio en lo que se planea ejercer",null,null,null,null,null,null,null,"Propósito de la actividad"]
[null,null,null,"SEE:",null,null,"SEE:",null,null,"SEE:",null,null,"SEE:",null,null,"SEE:",null,null,"SEE:",null,null,"SEE:",null,null,"SEE:",null,null,"SEE:"]
[null,null,null,"M","H","T","M","H","T","M","H","T","M","H","T","M","H","T","M","H","T","M","H","T","M","H","T","M","H","T"]
[null,"Estudiantes beneficiados",null,null,null,{"$f":"SUM(D147,E147)","v":0},null,null,{"$f":"SUM(G147,H147)","v":0},null,null,{"$f":"SUM(J147,K147)","v":0},null,null,{"$f":"SUM(M147,N147)","v":0},null,null,{"$f":"SUM(P147,Q147)","v":0},null,null,{"$f":"SUM(S147,T147)","v":0},null,null,{"$f":"SUM(V147,W147)","v":0},null,null,{"$f":"SUM(Y147,Z147)","v":0},null,null,{"$f":"SUM(AB147,AC147)","v":0}]
[]
[null,"En caso de requerir alguna precisión o aclaración, describa brevemente: "]

{"sheet":"Atención complementaria AS","index":11,"n_rows":149,"n_cols":24,"rows_kept":149,"cut":false,"hidden":false,"merged":[[9,1,9,2],[9,3,9,6],[11,1,11,2],[11,3,11,5],[12,1,12,2],[12,3,12,5],[12,6,12,7],[0,1,4,25],[5,1,5,25],[6,1,6,25],[7,1,7,25],[8,1,8,2],[8,3,8,6],[8,7,8,8],[12,8,12,10],[12,11,12,12],[12,13,12,16],[12,17,12,20],[12,22,12,25],[25,1,25,2],[25,3,25,5],[13,15,13,17],[13,18,13,20],[13,21,15,22],[13,23,15,25],[14,4,14,5],[14,7,14,8],[14,10,14,11],[14,13,14,14],[14,16,14,17],[14,19,14,20],[13,1,15,2],[13,3,13,5],[13,6,13,8],[13,9,13,11],[13,12,13,14],[16,1,16,2],[16,23,21,25],[18,1,18,20],[19,1,23,20],[26,17,26,20],[26,22,26,25],[27,1,29,2],[27,3,27,5],[27,6,27,8],[27,9,27,11],[27,12,27,14],[27,15,27,17],[27,18,27,20],[27,21,29,22],[26,1,26,2],[26,3,26,5],[26,6,26,7],[26,8,26,10],[26,11,26,12],[26,13,26,16],[30,1,30,2],[30,23,35,25],[32,1,32,20],[33,1,37,20],[39,1,39,2],[39,3,39,5],[27,23,29,25],[28,4,28,5],[28,7,28,8],[28,10,28,11],[28,13,28,14],[28,16,28,17],[28,19,28,20],[40,17,40,20],[40,22,40,25],[41,1,43,2],[41,3,41,5],[41,6,41,8],[41,9,41,11],[41,12,41,14],[41,15,41,17],[41,18,41,20],[41,21,43,22],[40,1,40,2],[40,3,40,5],[40,6,40,7],[40,8,40,10],[40,11,40,12],[40,13,40,16],[44,1,44,2],[44,23,49,25],[46,1,46,20],[47,1,51,20],[53,1,53,2],[53,3,53,5],[41,23,43,25],[42,4,42,5],[42,7,42,8],[42,10,42,11],[42,13,42,14],[42,16,42,17],[42,19,42,20],[54,17,54,20],[54,22,54,25],[55,1,57,2],[55,3,55,5],[55,6,55,8],[55,9,55,11],[55,12,55,14],[55,15,55,17],[55,18,55,20],[55,21,57,22],[54,1,54,2],[54,3,54,5],[54,6,54,7],[54,8,54,10],[54,11,54,12],[54,13,54,16],[58,1,58,2],[58,23,63,25],[60,1,60,20],[61,1,65,20],[67,1,67,2],[67,3,67,5],[55,23,57,25],[56,4,56,5],[56,7,56,8],[56,10,56,11],[56,13,56,14],[56,16,56,17],[56,19,56,20],[69,1,71,2],[69,3,69,5],[69,6,69,8],[69,9,69,11],[69,12,69,14],[69,15,69,17],[69,18,69,20],[69,21,71,22],[68,1,68,2],[68,3,68,5],[68,6,68,7],[68,8,68,10],[68,11,68,12],[68,13,68,16],[69,23,71,25],[70,4,70,5],[70,7,70,8],[70,10,70,11],[70,13,70,14],[70,16,70,17],[70,19,70,20],[68,17,68,20],[68,22,68,25],[83,1,83,2],[83,3,83,6],[85,1,85,2],[85,3,85,5],[86,1,86,2],[86,3,86,5],[86,6,86,7],[72,1,72,2],[72,23,77,25],[74,1,74,20],[75,1,79,20],[81,1,81,25],[82,1,82,2],[82,3,82,6],[82,7,82,8],[86,8,86,10],[86,11,86,12],[86,13,86,16],[86,17,86,20],[86,22,86,25],[99,1,99,2],[99,3,99,5],[87,15,87,17],[87,18,87,20],[87,21,89,22],[87,23,89,25],[88,4,88,5],[88,7,88,8],[88,10,88,11],[88,13,88,14],[88,16,88,17],[88,19,88,20],[87,1,89,2],[87,3,87,5],[87,6,87,8],[87,9,87,11],[87,12,87,14],[90,1,90,2],[90,23,95,25],[92,1,92,20],[93,1,97,20],[100,17,100,20],[100,22,100,25],[101,1,103,2],[101,3,101,5],[101,6,101,8],[101,9,101,11],[101,12,101,14],[101,15,101,17],[101,18,101,20],[101,21,103,22],[100,1,100,2],[100,3,100,5],[100,6,100,7],[100,8,100,10],[100,11,100,12],[100,13,100,16],[104,1,104,2],[104,23,109,25],[106,1,106,20],[107,1,111,20],[113,1,113,2],[113,3,113,5],[101,23,103,25],[102,4,102,5],[102,7,102,8],[102,10,102,11],[102,13,102,14],[102,16,102,17],[102,19,102,20],[114,17,114,20],[114,22,114,25],[115,1,117,2],[115,3,115,5],[115,6,115,8],[115,9,115,11],[115,12,115,14],[115,15,115,17],[115,18,115,20],[115,21,117,22],[114,1,114,2],[114,3,114,5],[114,6,114,7],[114,8,114,10],[114,11,114,12],[114,13,114,16],[118,1,118,2],[118,23,123,25],[120,1,120,20],[121,1,125,20],[127,1,127,2],[127,3,127,5],[115,23,117,25],[116,4,116,5],[116,7,116,8],[116,10,116,11],[116,13,116,14],[116,16,116,17],[116,19,116,20],[128,17,128,20],[128,22,128,25],[129,1,131,2],[129,3,129,5],[129,6,129,8],[129,9,129,11],[129,12,129,14],[129,15,129,17],[129,18,129,20],[129,21,131,22],[128,1,128,2],[128,3,128,5],[128,6,128,7],[128,8,128,10],[128,11,128,12],[128,13,128,16],[132,1,132,2],[132,23,137,25],[134,1,134,20],[135,1,139,20],[141,1,141,2],[141,3,141,5],[129,23,131,25],[130,4,130,5],[130,7,130,8],[130,10,130,11],[130,13,130,14],[130,16,130,17],[130,19,130,20],[142,17,142,20],[142,22,142,25],[143,1,145,2],[143,3,143,5],[143,6,143,8],[143,9,143,11],[143,12,143,14],[143,15,143,17],[143,18,143,20],[143,21,145,22],[142,1,142,2],[142,3,142,5],[142,6,142,7],[142,8,142,10],[142,11,142,12],[142,13,142,16],[146,1,146,2],[146,23,151,25],[148,1,148,20],[149,1,153,20],[143,23,145,25],[144,4,144,5],[144,7,144,8],[144,10,144,11],[144,13,144,14],[144,16,144,17],[144,19,144,20]]}
[null,"Subsecretaría de Educación Básica\nDirección General de Desarrollo Curricular\nDirección de Fortalecimiento Curricular para la \nFormación Personal y Social en la Educación Básica\nEducación Especial"]
[]
[]
[]
[]
[null,"Componente: 2. Atención complementaria a estudiantes con aptitudes sobresalientes"]
[null,"Para garantizar el cumplimiento de los objetivos del PFSEE las AEL podrán  destinar hasta  un 50% del recurso, de acuerdo con lo estipulado en las reglas de operación 2025."]
[null,"2.1 Acciones orientadas a la intervención directa y la atención complementaria: académica, artística, deportiva, rehabilitadora, desarrollo de habilidades socioafectivas y/o que contribuyan en el diagnóstico de las y los estudiantes con aptitudes sobresalientes"]
[null,"Recurso programado:",null,{"$f":"'Distribución presupuestal 2025'!W56","v":106500},null,null,null,"SEE focalizados:",null,"USAER",{"$f":"'SEE 2025'!N21","v":53},"CAPEP",{"$f":"'SEE 2025'!O21","v":0},"CRIE",{"$f":"'SEE 2025'!P21","v":0},"UOP",{"$f":"'SEE 2025'!Q21","v":0},"UAEBH",{"$f":"'SEE 2025'!R21","v":0},"Otro",{"$f":"'SEE 2025'!S21","v":0}]
[null,"Remanente",null,{"$f":"D9-SUM(A13:A81)","v":0}]
[]
[null,"Numero de actividad",null,"2.1.1"]
[{"$f":"R13","v":106500},"Tipo de actividad",null,"Trimestre de inicio",null,null,"4to",null,"Trimestre de término",null,null,"4to",null,"Presupuesto de la actividad",null,null,null,106500,null,null,null,"Título de la actividad","TALLER DE ENRIQUECIMIENTO EXTRACURRICULAR DE ARTES"]
[null,"Artística",null,"USAER",null,null,"CAPEP",null,null,"CRIE",null,null,"UOP",null,null,"UAEBH",null,null,"Otro",null,null,"Especifique producto o servicio en lo que se planea ejercer",null,"Propósito de la actividad"]
[null,null,null,"SEE:",53,null,"SEE:",0,null,"SEE:",0,null,"SEE:",0,null,"SEE:",0,null,"SEE:",0]
[null,null,null,"M","H","T","M","H","T","M","H","T","M","H","T","M","H","T","M","H","T"]
[null,"Estudiantes beneficiados",null,100,80,{"$f":"SUM(D17,E17)","v":180},0,0,{"$f":"SUM(G17,H17)","v":0},0,0,{"$f":"SUM(J17,K17)","v":0},0,0,{"$f":"SUM(M17,N17)","v":0},0,0,{"$f":"SUM(P17,Q17)","v":0},0,0,{"$f":"SUM(S17,T17)","v":0},"Pago a especialistas","N/A","Potenciar las habilidades artísticas de los alumnos con aptitudes sobresalientes, "]
[null,null,null,null,null,null,null,null,null,null,null,null,null,null,null,null,null,null,null,null,null,"N/A","N/A"]
[null,"En caso de requerir alguna precisión o aclaración, describa brevemente: ",null,null,null,null,null,null,null,null,null,null,null,null,null,null,null,null,null,null,null,"N/A","N/A"]
[null,"Durango (3 grupos) y laguna (3 grupos). Durango asisten USAER de la zona urbana. 30 servicios Durango, 23 servicios laguna, . Servicios total.",null,null,null,null,null,null,null,null,null,null,null,null,null,null,null,null,null,null,null,"N/A","N/A"]
[null,null,null,null,null,null,null,null,null,null,null,null,null,null,null,null,null,null,null,null,null,"N/A","N/A"]
[null,null,null,null,null,null,null,null,null,null,null,null,null,null,null,null,null,null,null,null,null,"N/A","N/A"]
[null,null,null,null,null,null,null,null,null,null,null,null,null,null,null,null,null,null,null,null,null,"N/A","N/A"]
[null,null,null,null,null,null,null,null,null,null,null,null,null,null,null,null,null,null,null,null,null,"N/A","N/A"]
[]
[null,"Numero de actividad",null,"2.1.2"]
[{"$f":"R27","v":0},"Tipo de actividad",null,"Trimestre de inicio",null,null,"4to",null,"Trimestre de término",null,null,"4to",null,"Presupuesto de la actividad",null,null,null,null,null,null,null,"Título de la actividad"]
[null,null,null,"USAER",null,null,"CAPEP",null,null,"CRIE",null,null,"UOP",null,null,"UAEBH",null,null,"Otro",null,null,"Especifique producto o servicio en lo que se planea ejercer",null,"Propósito de la actividad"]
[null,null,null,"SEE:",0,null,"SEE:",0,null,"SEE:",0,null,"SEE:",0,null,"SEE:",0,null,"SEE:",0]
[null,null,null,"M","H","T","M","H","T","M","H","T","M","H","T","M","H","T","M","H","T"]
[null,"Estudiantes beneficiados",null,0,0,{"$f":"SUM(D31,E31)","v":0},0,0,{"$f":"SUM(G31,H31)","v":0},0,0,{"$f":"SUM(J31,K31)","v":0},0,0,{"$f":"SUM(M31,N31)","v":0},0,0,{"$f":"SUM(P31,Q31)","v":0},0,0,{"$f":"SUM(S31,T31)","v":0}]
[]
[null,"En caso de requerir alguna precisión o aclaración, describa brevemente: "]
[]
[]
[]
[]
[]
[]
[null,"Numero de actividad",null,"2.1.3"]
[{"$f":"R41","v":0},"Tipo de actividad",null,"Trimestre de inicio",null,null,null,null,"Trimestre de término",null,null,null,null,"Presupuesto de la actividad",null,null,null,null,null,null,null,"Título de la actividad"]
[null,null,null,"USAER",null,null,"CAPEP",null,null,"CRIE",null,null,"UOP",null,null,"UAEBH",null,null,"Otro",null,null,"Especifique producto o servicio en lo que se planea ejercer",null,"Propósito de la actividad"]
[null,null,null,"SEE:",null,null,"SEE:",null,null,"SEE:",null,null,"SEE:",null,null,"SEE:",null,null,"SEE:"]
[null,null,null,"M","H","T","M","H","T","M","H","T","M","H","T","M","H","T","M","H","T"]
[null,"Estudiantes beneficiados",null,null,null,{"$f":"SUM(D45,E45)","v":0},null,null,{"$f":"SUM(G45,H45)","v":0},null,null,{"$f":"SUM(J45,K45)","v":0},null,null,{"$f":"SUM(M45,N45)","v":0},null,null,{"$f":"SUM(P45,Q45)","v":0},null,null,{"$f":"SUM(S45,T45)","v":0}]
[]
[null,"En caso de requerir alguna precisión o aclaración, describa brevemente: "]
[]
[]
[]
[]
[]
[]
[null,"Numero de actividad",null,"2.1.4"]
[{"$f":"R55","v":0},"Tipo de actividad",null,"Trimestre de inicio",null,null,null,null,"Trimestre de término",null,null,null,null,"Presupuesto de la actividad",null,null,null,null,null,null,null,"Título de la actividad"]
[null,null,null,"USAER",null,null,"CAPEP",null,null,"CRIE",null,null,"UOP",null,null,"UAEBH",null,null,"Otro",null,null,"Especifique producto o servicio en lo que se planea ejercer",null,"Propósito de la actividad"]
[null,null,null,"SEE:",null,null,"SEE:",null,null,"SEE:",null,null,"SEE:",null,null,"SEE:",null,null,"SEE:"]
[null,null,null,"M","H","T","M","H","T","M","H","T","M","H","T","M","H","T","M","H","T"]
[null,"Estudiantes beneficiados",null,null,null,{"$f":"SUM(D59,E59)","v":0},null,null,{"$f":"SUM(G59,H59)","v":0},null,null,{"$f":"SUM(J59,K59)","v":0},null,null,{"$f":"SUM(M59,N59)","v":0},null,null,{"$f":"SUM(P59,Q59)","v":0},null,null,{"$f":"SUM(S59,T59)","v":0}]
[]
[null,"En caso de requerir alguna precisión o aclaración, describa brevemente: "]
[]
[]
[]
[]
[]
[]
[null,"Numero de actividad",null,"2.1.5"]
[{"$f":"R69","v":0},"Tipo de actividad",null,"Trimestre de inicio",null,null,null,null,"Trimestre de término",null,null,null,null,"Presupuesto de la actividad",null,null,null,null,null,null,null,"Título de la actividad"]
[null,null,null,"USAER",null,null,"CAPEP",null,null,"CRIE",null,null,"UOP",null,null,"UAEBH",null,null,"Otro",null,null,"Especifique producto o servicio en lo que se planea ejercer",null,"Propósito de la actividad"]
[null,null,null,"SEE:",null,null,"SEE:",null,null,"SEE:",null,null,"SEE:",null,null,"SEE:",null,null,"SEE:"]
[null,null,null,"M","H","T","M","H","T","M","H","T","M","H","T","M","H","T","M","H","T"]
[null,"Estudiantes beneficiados",null,null,null,{"$f":"SUM(D73,E73)","v":0},null,null,{"$f":"SUM(G73,H73)","v":0},null,null,{"$f":"SUM(J73,K73)","v":0},null,null,{"$f":"SUM(M73,N73)","v":0},null,null,{"$f":"SUM(P73,Q73)","v":0},null,null,{"$f":"SUM(S73,T73)","v":0}]
[]
[null,"En caso de requerir alguna precisión o aclaración, describa brevemente: "]
[]
[]
[]
[]
[]
[]
[null,"2.2 Acciones orientadas a que las y los estudiantes con aptitudes sobresalientes, pongan en práctica las habilidades académicas, artísticas, deportivas, para la vida y/o laborales y que promuevan la sensibilización, promoción, difusión y desarrollo en la comunidad escolar una cultura inclusiva, a través de campañas, ferias y eventos"]
[null,"Recurso programado:",null,{"$f":"'Distribución presupuestal 2025'!W57","v":510000},null,null,null,"SEE focalizados:",null,"USAER",{"$f":"'SEE 2025'!N21","v":53},"CAPEP",{"$f":"'SEE 2025'!O21","v":0},"CRIE",{"$f":"'SEE 2025'!P21","v":0},"UOP",{"$f":"'SEE 2025'!Q21","v":0},"UAEBH",{"$f":"'SEE 2025'!R21","v":0},"Otro",{"$f":"'SEE 2025'!S21","v":0}]
[null,"Remanente",null,{"$f":"D83-SUM(A87:A154)","v":510000}]
[]
[null,"Numero de actividad",null,"2.2.1"]
[{"$f":"R87","v":0},"Tipo de actividad",null,"Trimestre de inicio",null,null,null,null,"Trimestre de término",null,null,null,null,"Presupuesto de la actividad",null,null,null,null,null,null,null,"Título de la actividad"]
[null,null,null,"USAER",null,null,"CAPEP",null,null,"CRIE",null,null,"UOP",null,null,"UAEBH",null,null,"Otro",null,null,"Especifique producto o servicio en lo que se planea ejercer",null,"Propósito de la actividad"]
[null,null,null,"SEE:",null,null,"SEE:",null,null,"SEE:",null,null,"SEE:",null,null,"SEE:",null,null,"SEE:"]
[null,null,null,"M","H","T","M","H","T","M","H","T","M","H","T","M","H","T","M","H","T"]
[null,"Estudiantes beneficiados",null,null,null,{"$f":"SUM(D91,E91)","v":0},null,null,{"$f":"SUM(G91,H91)","v":0},null,null,{"$f":"SUM(J91,K91)","v":0},null,null,{"$f":"SUM(M91,N91)","v":0},null,null,{"$f":"SUM(P91,Q91)","v":0},null,null,{"$f":"SUM(S91,T91)","v":0}]
[]
[null,"En caso de requerir alguna precisión o aclaración, describa brevemente: "]
[]
[]
[]
[]
[]
[]
[null,"Numero de actividad",null,"2.2.2"]
[{"$f":"R101","v":0},"Tipo de actividad",null,"Trimestre de inicio",null,null,null,null,"Trimestre de término",null,null,null,null,"Presupuesto de la actividad",null,null,null,null,null,null,null,"Título de la actividad"]
[null,null,null,"USAER",null,null,"CAPEP",null,null,"CRIE",null,null,"UOP",null,null,"UAEBH",null,null,"Otro",null,null,"Especifique producto o servicio en lo que se planea ejercer",null,"Propósito de la actividad"]
[null,null,null,"SEE:",null,null,"SEE:",null,null,"SEE:",null,null,"SEE:",null,null,"SEE:",null,null,"SEE:"]
[null,null,null,"M","H","T","M","H","T","M","H","T","M","H","T","M","H","T","M","H","T"]
[null,"Estudiantes beneficiados",null,null,null,{"$f":"SUM(D105,E105)","v":0},null,null,{"$f":"SUM(G105,H105)","v":0},null,null,{"$f":"SUM(J105,K105)","v":0},null,null,{"$f":"SUM(M105,N105)","v":0},null,null,{"$f":"SUM(P105,Q105)","v":0},null,null,{"$f":"SUM(S105,T105)","v":0}]
[]
[null,"En caso de requerir alguna precisión o aclaración, describa brevemente: "]
[]
[]
[]
[]
[]
[]
[null,"Numero de actividad",null,"2.2.3"]
[{"$f":"R115","v":0},"Tipo de actividad",null,"Trimestre de inicio",null,null,null,null,"Trimestre de término",null,null,null,null,"Presupuesto de la actividad",null,null,null,null,null,null,null,"Título de la actividad"]
[null,null,null,"USAER",null,null,"CAPEP",null,null,"CRIE",null,null,"UOP",null,null,"UAEBH",null,null,"Otro",null,null,"Especifique producto o servicio en lo que se planea ejercer",null,"Propósito de la actividad"]
[null,null,null,"SEE:",null,null,"SEE:",null,null,"SEE:",null,null,"SEE:",null,null,"SEE:",null,null,"SEE:"]
[null,null,null,"M","H","T","M","H","T","M","H","T","M","H","T","M","H","T","M","H","T"]
[null,"Estudiantes beneficiados",null,null,null,{"$f":"SUM(D119,E119)","v":0},null,null,{"$f":"SUM(G119,H119)","v":0},null,null,{"$f":"SUM(J119,K119)","v":0},null,null,{"$f":"SUM(M119,N119)","v":0},null,null,{"$f":"SUM(P119,Q119)","v":0},null,null,{"$f":"SUM(S119,T119)","v":0}]
[]
[null,"En caso de requerir alguna precisión o aclaración, describa brevemente: "]
[]
[]
[]
[]
[]
[]
[null,"Numero de actividad",null,"2.2.4"]
[{"$f":"R129","v":0},"Tipo de actividad",null,"Trimestre de inicio",null,null,null,null,"Trimestre de término",null,null,null,null,"Presupuesto de la actividad",null,null,null,null,null,null,null,"Título de la actividad"]
[null,null,null,"USAER",null,null,"CAPEP",null,null,"CRIE",null,null,"UOP",null,null,"UAEBH",null,null,"Otro",null,null,"Especifique producto o servicio en lo que se planea ejercer",null,"Propósito de la actividad"]
[null,null,null,"SEE:",null,null,"SEE:",null,null,"SEE:",null,null,"SEE:",null,null,"SEE:",null,null,"SEE:"]
[null,null,null,"M","H","T","M","H","T","M","H","T","M","H","T","M","H","T","M","H","T"]
[null,"Estudiantes beneficiados",null,null,null,{"$f":"SUM(D133,E133)","v":0},null,null,{"$f":"SUM(G133,H133)","v":0},null,null,{"$f":"SUM(J133,K133)","v":0},null,null,{"$f":"SUM(M133,N133)","v":0},null,null,{"$f":"SUM(P133,Q133)","v":0},null,null,{"$f":"SUM(S133,T133)","v":0}]
[]
[null,"En caso de requerir alguna precisión o aclaración, describa brevemente: "]
[]
[]
[]
[]
[]
[]
[null,"Numero de actividad",null,"2.2.5"]
[{"$f":"R143","v":0},"Tipo de actividad",null,"Trimestre de inicio",null,null,null,null,"Trimestre de término",null,null,null,null,"Presupuesto de la actividad",null,null,null,null,null,null,null,"Título de la actividad"]
[null,null,null,"USAER",null,null,"CAPEP",null,null,"CRIE",null,null,"UOP",null,null,"UAEBH",null,null,"Otro",null,null,"Especifique producto o servicio en lo que se planea ejercer",null,"Propósito de la actividad"]
[null,null,null,"SEE:",null,null,"SEE:",null,null,"SEE:",null,null,"SEE:",null,null,"SEE:",null,null,"SEE:"]
[null,null,null,"M","H","T","M","H","T","M","H","T","M","H","T","M","H","T","M","H","T"]
[null,"Estudiantes beneficiados",null,null,null,{"$f":"SUM(D147,E147)","v":0},null,null,{"$f":"SUM(G147,H147)","v":0},null,null,{"$f":"SUM(J147,K147)","v":0},null,null,{"$f":"SUM(M147,N147)","v":0},null,null,{"$f":"SUM(P147,Q147)","v":0},null,null,{"$f":"SUM(S147,T147)","v":0}]
[]
[null,"En caso de requerir alguna precisión o aclaración, describa brevemente: "]

{"sheet":"Equipamiento específico DIS","index":12,"n_rows":215,"n_cols":51,"rows_kept":215,"cut":false,"hidden":false,"merged":[[10,0,10,1],[10,2,10,7],[12,2,12,4],[12,5,12,6],[12,7,12,9],[12,10,12,11],[0,0,4,36],[0,47,4,50],[5,0,5,50],[6,0,6,50],[8,0,8,50],[9,0,9,1],[9,2,9,7],[12,42,12,44],[12,45,12,46],[12,30,12,31],[12,32,12,34],[12,35,12,36],[12,37,12,39],[12,40,12,41],[12,27,12,29],[12,12,12,14],[12,15,12,16],[12,17,12,19],[12,20,12,21],[12,22,12,24],[12,25,12,26],[14,28,15,28],[14,29,14,31],[13,50,15,50],[14,3,15,3],[14,4,14,6],[14,8,15,8],[14,9,14,11],[14,13,15,13],[14,14,14,16],[13,32,15,32],[13,33,13,36],[13,37,15,37],[13,38,13,41],[13,42,15,42],[13,43,13,46],[14,43,15,43],[14,44,14,46],[13,17,15,17],[13,18,13,21],[13,22,15,22],[13,23,13,26],[13,47,15,47],[13,48,15,48],[13,49,15,49],[33,0,33,1],[33,2,33,7],[14,24,14,26],[13,0,15,0],[13,1,15,1],[13,2,15,2],[13,3,13,6],[13,7,15,7],[13,8,13,11],[13,12,15,12],[13,13,13,16],[13,27,15,27],[13,28,13,31],[14,18,15,18],[14,19,14,21],[14,23,15,23],[14,33,15,33],[14,34,14,36],[14,38,15,38],[14,39,14,41],[35,7,35,9],[35,10,35,11],[26,0,26,1],[28,0,28,50],[29,0,29,50],[31,0,31,50],[32,0,32,1],[32,2,32,7],[35,42,35,44],[35,45,35,46],[35,30,35,31],[35,32,35,34],[35,35,35,36],[35,37,35,39],[35,40,35,41],[36,0,38,1],[36,2,38,2],[36,3,36,6],[36,7,38,7],[36,8,36,11],[36,12,38,12],[36,13,36,16],[36,17,38,17],[35,27,35,29],[35,12,35,14],[35,15,35,16],[35,17,35,19],[35,20,35,21],[35,22,35,24],[35,25,35,26],[37,3,38,3],[37,4,37,6],[37,8,38,8],[37,9,37,11],[37,13,38,13],[37,14,37,16],[37,18,38,18],[35,2,35,4],[35,5,35,6],[36,33,36,36],[36,37,38,37],[36,18,36,21],[36,22,38,22],[36,23,36,26],[36,27,38,27],[36,28,36,31],[36,32,38,32],[37,19,37,21],[37,23,38,23],[37,24,37,26],[37,28,38,28],[37,29,37,31],[37,33,38,33],[37,34,37,36],[37,38,38,38],[37,39,37,41],[37,43,38,43],[36,48,38,48],[36,49,38,49],[36,50,38,50],[36,38,36,41],[36,42,38,42],[36,43,36,46],[36,47,38,47],[37,44,37,46],[52,0,52,50],[45,0,45,1],[46,0,46,1],[47,0,47,1],[48,0,48,1],[49,0,49,1],[51,0,51,50],[39,0,39,1],[40,0,40,1],[41,0,41,1],[42,0,42,1],[43,0,43,1],[44,0,44,1],[56,0,56,1],[56,2,56,7],[58,2,58,4],[58,5,58,6],[58,7,58,9],[58,10,58,11],[54,0,54,50],[55,0,55,1],[55,2,55,7],[58,42,58,44],[58,45,58,46],[58,30,58,31],[58,32,58,34],[58,35,58,36],[58,37,58,39],[58,40,58,41],[59,0,61,0],[59,1,61,1],[59,2,61,2],[59,3,59,6],[59,7,61,7],[59,8,59,11],[59,12,61,12],[59,13,59,16],[58,27,58,29],[58,12,58,14],[58,15,58,16],[58,17,58,19],[58,20,58,21],[58,22,58,24],[58,25,58,26],[60,28,61,28],[60,29,60,31],[59,43,59,46],[60,43,61,43],[60,44,60,46],[59,17,61,17],[59,18,59,21],[59,22,61,22],[59,23,59,26],[59,27,61,27],[59,28,59,31],[60,18,61,18],[60,19,60,21],[60,23,61,23],[60,33,61,33],[60,34,60,36],[60,38,61,38],[60,39,60,41],[59,47,61,47],[59,48,61,48],[59,49,61,49],[79,0,79,1],[79,2,79,7],[60,24,60,26],[72,0,72,1],[74,0,74,50],[75,0,75,50],[77,0,77,50],[78,0,78,1],[78,2,78,7],[59,50,61,50],[60,3,61,3],[60,4,60,6],[60,8,61,8],[60,9,60,11],[60,13,61,13],[60,14,60,16],[59,32,61,32],[59,33,59,36],[59,37,61,37],[59,38,59,41],[59,42,61,42],[81,37,81,39],[81,40,81,41],[82,0,84,0],[82,1,84,1],[82,2,84,2],[82,3,82,6],[82,7,84,7],[82,8,82,11],[82,12,84,12],[82,13,82,16],[81,27,81,29],[81,12,81,14],[81,15,81,16],[81,17,81,19],[81,20,81,21],[81,22,81,24],[81,25,81,26],[81,2,81,4],[81,5,81,6],[81,7,81,9],[81,10,81,11],[82,33,82,36],[82,37,84,37],[82,38,82,41],[82,42,84,42],[82,43,82,46],[83,43,84,43],[83,44,83,46],[82,17,84,17],[82,18,82,21],[82,22,84,22],[82,23,82,26],[82,27,84,27],[82,28,82,31],[83,18,84,18],[83,19,83,21],[83,23,84,23],[83,24,83,26],[81,42,81,44],[81,45,81,46],[81,30,81,31],[81,32,81,34],[81,35,81,36],[104,14,104,15],[95,0,95,1],[97,0,97,50],[98,0,98,50],[100,0,100,50],[101,0,101,1],[101,2,101,7],[83,28,84,28],[83,29,83,31],[83,33,84,33],[83,34,83,36],[83,38,84,38],[83,39,83,41],[82,47,84,47],[82,48,84,48],[82,49,84,49],[82,50,84,50],[83,3,84,3],[83,4,83,6],[83,8,84,8],[83,9,83,11],[83,13,84,13],[83,14,83,16],[82,32,84,32],[105,0,107,0],[105,1,107,1],[105,2,107,5],[105,6,107,6],[105,7,105,10],[105,11,107,11],[102,0,102,1],[102,2,102,7],[104,6,104,8],[104,9,104,10],[104,11,104,13],[108,2,108,5],[108,16,108,18],[108,21,108,25],[109,2,109,5],[109,16,109,18],[109,21,109,25],[105,12,105,15],[105,16,107,18],[105,19,107,19],[105,20,107,20],[105,21,107,25],[106,7,107,7],[106,8,106,10],[106,12,107,12],[106,13,106,15],[112,2,112,5],[112,16,112,18],[112,21,112,25],[113,2,113,5],[113,16,113,18],[113,21,113,25],[110,2,110,5],[110,16,110,18],[110,21,110,25],[111,2,111,5],[111,16,111,18],[111,21,111,25],[116,2,116,5],[116,16,116,18],[116,21,116,25],[117,2,117,5],[117,16,117,18],[117,21,117,25],[114,2,114,5],[114,16,114,18],[114,21,114,25],[115,2,115,5],[115,16,115,18],[115,21,115,25],[125,0,125,1],[125,2,125,7],[128,8,128,10],[128,11,128,12],[118,0,118,5],[118,16,118,18],[120,0,120,22],[121,0,121,22],[123,0,123,50],[124,0,124,1],[124,2,124,7],[128,13,128,15],[128,0,131,1],[128,2,131,7],[128,23,131,25],[128,26,131,26],[128,27,131,27],[128,28,131,32],[128,16,128,17],[128,18,128,20],[128,21,128,22],[130,14,131,14],[130,15,130,17],[130,19,131,19],[130,20,130,22],[129,8,131,8],[129,9,129,12],[129,13,131,13],[129,14,129,17],[129,18,131,18],[129,19,129,22],[130,9,131,9],[130,10,130,12],[133,0,133,1],[133,2,133,7],[133,23,133,25],[133,28,133,32],[134,0,134,1],[134,2,134,7],[134,23,134,25],[134,28,134,32],[132,0,132,1],[132,2,132,7],[132,23,132,25],[132,28,132,32],[137,0,137,1],[137,2,137,7],[137,23,137,25],[137,28,137,32],[138,0,138,1],[138,2,138,7],[138,23,138,25],[138,28,138,32],[135,0,135,1],[135,2,135,7],[135,23,135,25],[135,28,135,32],[136,0,136,1],[136,2,136,7],[136,23,136,25],[136,28,136,32],[141,23,141,25],[144,0,144,50],[145,0,145,50],[147,0,147,50],[139,0,139,1],[139,2,139,7],[139,23,139,25],[139,28,139,32],[140,0,140,1],[140,2,140,7],[140,23,140,25],[140,28,140,32],[148,0,148,1],[148,2,148,7],[149,0,149,1],[149,2,149,7],[151,2,151,4],[151,5,151,6],[151,7,151,9],[141,0,141,1],[141,2,141,7],[151,40,151,41],[151,42,151,44],[151,45,151,46],[152,0,154,0],[152,1,154,1],[152,2,154,2],[152,3,152,6],[152,7,154,7],[152,8,152,11],[152,12,154,12],[151,25,151,26],[151,27,151,29],[151,30,151,31],[151,32,151,34],[151,35,151,36],[151,37,151,39],[151,10,151,11],[151,12,151,14],[151,15,151,16],[151,17,151,19],[151,20,151,21],[151,22,151,24],[152,43,152,46],[152,49,154,49],[152,50,154,50],[153,3,154,3],[153,4,153,6],[153,8,154,8],[153,9,153,11],[153,13,154,13],[152,28,152,31],[152,32,154,32],[152,33,152,36],[152,37,154,37],[152,38,152,41],[152,42,154,42],[153,39,153,41],[152,13,152,16],[152,17,154,17],[152,18,152,21],[152,22,154,22],[152,23,152,26],[152,27,154,27],[153,14,153,16],[171,0,171,1],[171,2,171,7],[172,0,172,1],[172,2,172,7],[174,2,174,4],[174,5,174,6],[174,7,174,9],[153,43,154,43],[153,44,153,46],[165,0,165,1],[167,0,167,50],[168,0,168,50],[170,0,170,50],[153,24,153,26],[153,28,154,28],[153,29,153,31],[153,33,154,33],[153,34,153,36],[153,38,154,38],[153,18,154,18],[153,19,153,21],[153,23,154,23],[152,47,154,47],[152,48,154,48],[174,40,174,41],[174,42,174,44],[174,45,174,46],[175,0,177,1],[175,2,177,2],[175,3,175,6],[175,7,177,7],[175,8,175,11],[175,12,177,12],[175,13,175,16],[174,25,174,26],[174,27,174,29],[174,30,174,31],[174,32,174,34],[174,35,174,36],[174,37,174,39],[174,10,174,11],[174,12,174,14],[174,15,174,16],[174,17,174,19],[174,20,174,21],[174,22,174,24],[176,28,177,28],[176,29,176,31],[175,50,177,50],[176,3,177,3],[176,4,176,6],[176,8,177,8],[176,9,176,11],[176,13,177,13],[176,14,176,16],[175,32,177,32],[175,33,175,36],[175,37,177,37],[175,38,175,41],[175,42,177,42],[175,43,175,46],[176,43,177,43],[176,44,176,46],[175,17,177,17],[175,18,175,21],[175,22,177,22],[175,23,175,26],[175,27,177,27],[175,28,175,31],[176,18,177,18],[176,19,176,21],[176,23,177,23],[176,33,177,33],[176,34,176,36],[176,38,177,38],[176,39,176,41],[175,47,177,47],[175,48,177,48],[175,49,177,49],[184,0,184,1],[176,24,176,26],[185,0,185,1],[186,0,186,1],[187,0,187,1],[188,0,188,1],[190,0,190,50],[178,0,178,1],[179,0,179,1],[180,0,180,1],[181,0,181,1],[182,0,182,1],[183,0,183,1],[197,2,197,4],[197,5,197,6],[197,7,197,9],[197,10,197,11],[197,12,197,14],[197,15,197,16],[191,0,191,50],[193,0,193,50],[194,0,194,1],[194,2,194,7],[195,0,195,1],[195,2,195,7],[198,12,200,12],[198,13,198,16],[198,17,200,19],[198,20,200,20],[198,21,200,21],[198,22,200,25],[199,13,200,13],[199,14,199,16],[198,0,200,0],[198,1,200,1],[198,2,200,2],[198,3,198,6],[198,7,200,7],[198,8,198,11],[199,3,200,3],[199,4,199,6],[199,8,200,8],[199,9,199,11],[204,17,204,19],[204,22,204,25],[205,17,205,19],[205,22,205,25],[206,17,206,19],[206,22,206,25],[201,17,201,19],[201,22,201,25],[202,17,202,19],[202,22,202,25],[203,17,203,19],[203,22,203,25],[210,17,210,19],[210,22,210,25],[211,17,211,19],[213,0,213,25],[214,0,214,25],[207,17,207,19],[207,22,207,25],[208,17,208,19],[208,22,208,25],[209,17,209,19],[209,22,209,25]]}
[null,null,null,null,null,null,null,null,null,null,null,null,null,null,null,null,null,null,null,null,null,null,null,null,null,null,null,null,null,null,null,null,null,null,null,null,null,null,null,null,null,null,null,null,null,null,null,"Subsecretaría de Educación Básica\nDirección General de Desarrollo Curricular\nDirección de Fortalecimiento Curricular para la \nFormación Personal y Social en la Educación Básica\nEducación Especial"]
[]
[]
[]
[]
["Componente: 3. Equipamiento específico en beneficio de estudiantes con discapacidad"]
["Para garantizar el cumplimiento de  los objetivos del PFSEE las AEL podrán destinar hasta un 80% del recurso, de acuerdo con lo estipulado en las reglas de operación 2025."]
[]
["3.1 Dotar de material didáctico especializado para estudiantes con discapacidad"]
["Recurso programado:",null,{"$f":"'Distribución presupuestal 2025'!H61","v":633427.18999999994}]
["Remanente ",null,{"$f":"C10-AV27","v":0}]
[]
[null,null,"Focalizados USAER",null,null,{"$f":"'SEE 2025'!B$26","v":81},null,"Focalizados CAM básico",null,null,{"$f":"'SEE 2025'!C$26","v":0},null,"Focalizados CAM b con FpT",null,null,{"$f":"'SEE 2025'!C$28","v":28},null,"Focalizados CAM laboral",null,null,{"$f":"'SEE 2025'!D$26","v":2},null,"Focalizados CAPEP",null,null,{"$f":"'SEE 2025'!E$26","v":0},null,"Focalizados CRIE",null,null,{"$f":"'SEE 2025'!F$26","v":0},null,"Focalizados UOP",null,null,{"$f":"'SEE 2025'!G$26","v":0},null,"Focalizados UAEBH",null,null,{"$f":"'SEE 2025'!H$26","v":0},null,"Focalizados Otro",null,null,{"$f":"'SEE 2025'!I$26","v":0}]
["Tipo de materiales\n(seleccione)","Material a adquirir","Cantidad a distribuir","USAER",null,null,null,"Cantidad a distribuir","CAM básico",null,null,null,"Cantidad a distribuir","CAM básico con FpT",null,null,null,"Cantidad a distribuir","CAM laboral",null,null,null,"Cantidad a distribuir","CAPEP",null,null,null,"Cantidad a distribuir","CRIE",null,null,null,"Cantidad a distribuir","UOP",null,null,null,"Cantidad a distribuir","UAEBH",null,null,null,"Cantidad a distribuir","Otro",null,null,null,"Presupuesto","Trimestre de inicio","Trimestre de término","Propósito educativo\n(específico del material a adquirir)"]
[null,null,null,"SEE","Estudiantes",null,null,null,"SEE","Estudiantes",null,null,null,"SEE","Estudiantes",null,null,null,"SEE","Estudiantes",null,null,null,"SEE","Estudiantes",null,null,null,"SEE","Estudiantes",null,null,null,"SEE","Estudiantes",null,null,null,"SEE","Estudiantes",null,null,null,"SEE","Estudiantes"]
[null,null,null,null,"M","H","T",null,null,"M","H","T",null,null,"M","H","T",null,null,"M","H","T",null,null,"M","H","T",null,null,"M","H","T",null,null,"M","H","T",null,null,"M","H","T",null,null,"M","H","T"]
[null,null,0,0,0,0,{"$f":"SUM(E17,F17)","v":0},0,0,0,0,{"$f":"SUM(J17,K17)","v":0},0,0,0,0,{"$f":"SUM(O17,P17)","v":0},0,0,0,0,{"$f":"SUM(T17,U17)","v":0},0,0,0,0,{"$f":"SUM(Y17,Z17)","v":0},0,0,0,0,{"$f":"SUM(AD17,AE17)","v":0},0,0,0,0,{"$f":"SUM(AI17,AJ17)","v":0},0,0,0,0,{"$f":"SUM(AN17,AO17)","v":0},0,0,0,0,{"$f":"SUM(AS17,AT17)","v":0},"N/A"]
["Paquetes con diversos materiales","1 Vamos de compras, 1 asociación por familias, 1 juego de preguntas rápidas ¿qué soy? Hedband, 1 juego abremente caja 3360 preguntas, 1 juego differix, 1 juguemos a identificar los sonidos, 1 tapetijuego huracán de animales.",405,81,759,2019,{"$f":"SUM(E18,F18)","v":2778},0,0,0,0,{"$f":"SUM(J18,K18)","v":0},0,0,0,0,{"$f":"SUM(O18,P18)","v":0},0,0,0,0,{"$f":"SUM(T18,U18)","v":0},0,0,0,0,{"$f":"SUM(Y18,Z18)","v":0},0,0,0,0,{"$f":"SUM(AD18,AE18)","v":0},0,0,0,0,{"$f":"SUM(AI18,AJ18)","v":0},0,0,0,0,{"$f":"SUM(AN18,AO18)","v":0},0,0,0,0,{"$f":"SUM(AS18,AT18)","v":0},324403.19,"4to","4to"]
["Paquetes con diversos materiales","1 Juego detective en acción, 1 juego bottón clothes, 1 juego nanú, 1 juego magic block, 1 juego figurix, 1 rompecabezas de cubos.",243,81,759,2019,2778,0,0,0,0,0,28,28,550,858,1408,2,2,49,75,124,0,0,0,0,0,0,0,0,0,0,0,0,0,0,0,0,0,0,0,0,0,0,0,0,0,309024,"4to","4to"]
[null,"N/A",0,0,0,0,0,0,0,0,0,0,0,0,0,0,0,0,0,0,0,0,0,0,0,0,0,0,0,0,0,0,0,0,0,0,0,0,0,0,0,0,0,0,0,0,0,"N/A",null,null,"N/A"]
[null,"N/A",0,0,0,0,0,0,0,0,0,0,0,0,0,0,0,0,0,0,0,0,0,0,0,0,0,0,0,0,0,0,0,0,0,0,0,0,0,0,0,0,0,0,0,0,0,"N/A",null,null,"N/A"]
[null,"N/A",0,0,0,0,0,0,0,0,0,0,0,0,0,0,0,0,0,0,0,0,0,0,0,0,0,0,0,0,0,0,0,0,0,0,0,0,0,0,0,0,0,0,0,0,0,"N/A",null,null,"N/A"]
[null,"N/A",0,0,0,0,0,0,0,0,0,0,0,0,0,0,0,0,0,0,0,0,0,0,0,0,0,0,0,0,0,0,0,0,0,0,0,0,0,0,0,0,0,0,0,0,0,"N/A",null,null,"N/A"]
[null,"N/A",0,0,0,0,0,0,0,0,0,0,0,0,0,0,0,0,0,0,0,0,0,0,0,0,0,0,0,0,0,0,0,0,0,0,0,0,0,0,0,0,0,0,0,0,0,"N/A",null,null,"N/A"]
[null,"N/A",0,0,0,0,0,0,0,0,0,0,0,0,0,0,0,0,0,0,0,0,0,0,0,0,0,0,0,0,0,0,0,0,0,0,0,0,0,0,0,0,0,0,0,0,0,"N/A",null,null,"N/A"]
[null,"N/A",0,0,0,0,0,0,0,0,0,0,0,0,0,0,0,0,0,0,0,0,0,0,0,0,0,0,0,0,0,0,0,0,0,0,0,0,0,0,0,0,0,0,0,0,0,"N/A",null,null,"N/A"]
["Total",null,{"$f":"SUM(C17:C26)","v":648},162,1518,4038,5556,{"$f":"SUM(H17:H26)","v":0},{"$f":"SUM(I17:I26)","v":0},{"$f":"SUM(J17:J26)","v":0},{"$f":"SUM(K17:K26)","v":0},{"$f":"SUM(L17:L26)","v":0},28,28,550,858,1408,2,2,49,75,124,{"$f":"SUM(W17:W26)","v":0},0,0,0,0,0,0,0,0,0,0,0,0,0,0,{"$f":"SUM(AL17:AL26)","v":0},0,0,0,0,0,0,0,0,0,633427.18999999994]
[]
["En caso de requerir alguna precisión o aclaración, describa brevemente: "]
["Cada paquete considera cinco piezas del material descrito."]
[]
["3.2 Adquirir equipamiento y materiales para salas de lectura y dotar de material bibliográfico para estudiantes con discapacidad"]
["Recurso programado:",null,{"$f":"'Distribución presupuestal 2025'!H62","v":0}]
["Remanente ",null,{"$f":"C33-AV50","v":{"$error":"#VALUE!"}}]
[]
[null,null,"Focalizados USAER",null,null,{"$f":"'SEE 2025'!B$26","v":81},null,"Focalizados CAM básico",null,null,{"$f":"'SEE 2025'!C$26","v":0},null,"Focalizados CAM b con FpT",null,null,{"$f":"'SEE 2025'!C$28","v":28},null,"Focalizados CAM laboral",null,null,{"$f":"'SEE 2025'!D$26","v":2},null,"Focalizados CAPEP",null,null,{"$f":"'SEE 2025'!E$26","v":0},null,"Focalizados CRIE",null,null,{"$f":"'SEE 2025'!F$26","v":0},null,"Focalizados UOP",null,null,{"$f":"'SEE 2025'!G$26","v":0},null,"Focalizados UAEBH",null,null,{"$f":"'SEE 2025'!H$26","v":0},null,"Focalizados Otro",null,null,{"$f":"'SEE 2025'!I$26","v":0}]
["Tipo de material\n(seleccione)",null,"Cantidad a distribuir","USAER",null,null,null,"Cantidad a distribuir","CAM básico",null,null,null,"Cantidad a distribuir","CAM básico con FpT",null,null,null,"Cantidad a distribuir","CAM laboral",null,null,null,"Cantidad a distribuir","CAPEP",null,null,null,"Cantidad a distribuir","CRIE",null,null,null,"Cantidad a distribuir","UOP",null,null,null,"Cantidad a distribuir","UAEBH",null,null,null,"Cantidad a distribuir","Otro",null,null,null,"Presupuesto","Trimestre de inicio","Trimestre de término","Propósito educativo\n(específico de la bibliografía a adquirir)"]
[null,null,null,"SEE","Estudiantes",null,null,null,"SEE","Estudiantes",null,null,null,"SEE","Estudiantes",null,null,null,"SEE","Estudiantes",null,null,null,"SEE","Estudiantes",null,null,null,"SEE","Estudiantes",null,null,null,"SEE","Estudiantes",null,null,null,"SEE","Estudiantes",null,null,null,"SEE","Estudiantes"]
[null,null,null,null,"M","H","T",null,null,"M","H","T",null,null,"M","H","T",null,null,"M","H","T",null,null,"M","H","T",null,null,"M","H","T",null,null,"M","H","T",null,null,"M","H","T",null,null,"M","H","T"]
[null,null,0,0,0,0,{"$f":"SUM(E40,F40)","v":0},0,0,0,0,{"$f":"SUM(J40,K40)","v":0},0,0,0,0,{"$f":"SUM(O40,P40)","v":0},0,0,0,0,{"$f":"SUM(T40,U40)","v":0},0,0,0,0,{"$f":"SUM(Y40,Z40)","v":0},0,0,0,0,{"$f":"SUM(AD40,AE40)","v":0},0,0,0,0,{"$f":"SUM(AI40,AJ40)","v":0},0,0,0,0,{"$f":"SUM(AN40,AO40)","v":0},0,0,0,0,{"$f":"SUM(AS40,AT40)","v":0},"N/A",null,null,"N/A"]
[null,null,0,0,0,0,{"$f":"SUM(E41,F41)","v":0},0,0,0,0,{"$f":"SUM(J41,K41)","v":0},0,0,0,0,{"$f":"SUM(O41,P41)","v":0},0,0,0,0,{"$f":"SUM(T41,U41)","v":0},0,0,0,0,{"$f":"SUM(Y41,Z41)","v":0},0,0,0,0,{"$f":"SUM(AD41,AE41)","v":0},0,0,0,0,{"$f":"SUM(AI41,AJ41)","v":0},0,0,0,0,{"$f":"SUM(AN41,AO41)","v":0},0,0,0,0,{"$f":"SUM(AS41,AT41)","v":0},"N/A",null,null,"N/A"]
[null,null,0,0,0,0,0,0,0,0,0,0,0,0,0,0,0,0,0,0,0,0,0,0,0,0,0,0,0,0,0,0,0,0,0,0,0,0,0,0,0,0,0,0,0,0,0,"N/A",null,null,"N/A"]
[null,null,0,0,0,0,0,0,0,0,0,0,0,0,0,0,0,0,0,0,0,0,0,0,0,0,0,0,0,0,0,0,0,0,0,0,0,0,0,0,0,0,0,0,0,0,0,"N/A",null,null,"N/A"]
[null,null,0,0,0,0,0,0,0,0,0,0,0,0,0,0,0,0,0,0,0,0,0,0,0,0,0,0,0,0,0,0,0,0,0,0,0,0,0,0,0,0,0,0,0,0,0,"N/A",null,null,"N/A"]
[null,null,0,0,0,0,0,0,0,0,0,0,0,0,0,0,0,0,0,0,0,0,0,0,0,0,0,0,0,0,0,0,0,0,0,0,0,0,0,0,0,0,0,0,0,0,0,"N/A",null,null,"N/A"]
[null,null,0,0,0,0,0,0,0,0,0,0,0,0,0,0,0,0,0,0,0,0,0,0,0,0,0,0,0,0,0,0,0,0,0,0,0,0,0,0,0,0,0,0,0,0,0,"N/A",null,null,"N/A"]
[null,null,0,0,0,0,0,0,0,0,0,0,0,0,0,0,0,0,0,0,0,0,0,0,0,0,0,0,0,0,0,0,0,0,0,0,0,0,0,0,0,0,0,0,0,0,0,"N/A",null,null,"N/A"]
[null,null,0,0,0,0,0,0,0,0,0,0,0,0,0,0,0,0,0,0,0,0,0,0,0,0,0,0,0,0,0,0,0,0,0,0,0,0,0,0,0,0,0,0,0,0,0,"N/A",null,null,"N/A"]
[null,null,0,0,0,0,0,0,0,0,0,0,0,0,0,0,0,0,0,0,0,0,0,0,0,0,0,0,0,0,0,0,0,0,0,0,0,0,0,0,0,0,0,0,0,0,0,"N/A",null,null,"N/A"]
["Total",null,{"$f":"SUM(C40:C49)","v":0},0,0,0,0,0,0,0,0,0,0,0,0,0,0,0,0,0,0,0,0,0,0,0,0,0,0,0,0,0,0,0,0,0,0,0,0,0,0,0,0,0,0,0,0,"N/A"]
[]
["En caso de requerir alguna precisión o aclaración, describa brevemente: "]
[]
[]
["3.3 Diseño, producción e impresión de material en formatos adaptados para favorecer la accesibilidad de estudiantes con discapacidad"]
["Recurso programado:",null,{"$f":"'Distribución presupuestal 2025'!H63","v":0}]
["Remanente ",null,{"$f":"C56-AV73","v":0}]
[]
[null,null,"Focalizados USAER",null,null,{"$f":"'SEE 2025'!B$26","v":81},null,"Focalizados CAM básico",null,null,{"$f":"'SEE 2025'!C$26","v":0},null,"Focalizados CAM b con FpT",null,null,{"$f":"'SEE 2025'!C$28","v":28},null,"Focalizados CAM laboral",null,null,{"$f":"'SEE 2025'!D$26","v":2},null,"Focalizados CAPEP",null,null,{"$f":"'SEE 2025'!E$26","v":0},null,"Focalizados CRIE",null,null,{"$f":"'SEE 2025'!F$26","v":0},null,"Focalizados UOP",null,null,{"$f":"'SEE 2025'!G$26","v":0},null,"Focalizados UAEBH",null,null,{"$f":"'SEE 2025'!H$26","v":0},null,"Focalizados Otro",null,null,{"$f":"'SEE 2025'!I$26","v":0}]
["Tipo de material a reproducir\n(seleccione)","Título de los materiales","Cantidad a distribuir","USAER",null,null,null,"Cantidad a distribuir","CAM básico",null,null,null,"Cantidad a distribuir","CAM básico con FpT",null,null,null,"Cantidad a distribuir","CAM laboral",null,null,null,"Cantidad a distribuir","CAPEP",null,null,null,"Cantidad a distribuir","CRIE",null,null,null,"Cantidad a distribuir","UOP",null,null,null,"Cantidad a distribuir","UAEBH",null,null,null,"Cantidad a distribuir","Otro",null,null,null,"Presupuesto","Trimestre de inicio","Trimestre de término","Propósito educativo\n(específico de los materiales a reproducir)"]
[null,null,null,"SEE","Estudiantes",null,null,null,"SEE","Estudiantes",null,null,null,"SEE","Estudiantes",null,null,null,"SEE","Estudiantes",null,null,null,"SEE","Estudiantes",null,null,null,"SEE","Estudiantes",null,null,null,"SEE","Estudiantes",null,null,null,"SEE","Estudiantes",null,null,null,"SEE","Estudiantes"]
[null,null,null,null,"M","H","T",null,null,"M","H","T",null,null,"M","H","T",null,null,"M","H","T",null,null,"M","H","T",null,null,"M","H","T",null,null,"M","H","T",null,null,"M","H","T",null,null,"M","H","T"]
[null,"N/A",0,0,0,0,{"$f":"SUM(E63,F63)","v":0},0,0,0,0,{"$f":"SUM(J63,K63)","v":0},0,0,0,0,{"$f":"SUM(O63,P63)","v":0},0,0,0,0,{"$f":"SUM(T63,U63)","v":0},0,0,0,0,{"$f":"SUM(Y63,Z63)","v":0},0,0,0,0,{"$f":"SUM(AD63,AE63)","v":0},0,0,0,0,{"$f":"SUM(AI63,AJ63)","v":0},0,0,0,0,{"$f":"SUM(AN63,AO63)","v":0},0,0,0,0,{"$f":"SUM(AS63,AT63)","v":0},"N/A",null,null,"N/A"]
[null,"N/A",0,0,0,0,{"$f":"SUM(E64,F64)","v":0},0,0,0,0,{"$f":"SUM(J64,K64)","v":0},0,0,0,0,{"$f":"SUM(O64,P64)","v":0},0,0,0,0,{"$f":"SUM(T64,U64)","v":0},0,0,0,0,{"$f":"SUM(Y64,Z64)","v":0},0,0,0,0,{"$f":"SUM(AD64,AE64)","v":0},0,0,0,0,{"$f":"SUM(AI64,AJ64)","v":0},0,0,0,0,{"$f":"SUM(AN64,AO64)","v":0},0,0,0,0,{"$f":"SUM(AS64,AT64)","v":0},"N/A",null,null,"N/A"]
[null,"N/A",0,0,0,0,0,0,0,0,0,0,0,0,0,0,0,0,0,0,0,0,0,0,0,0,0,0,0,0,0,0,0,0,0,0,0,0,0,0,0,0,0,0,0,0,0,"N/A",null,null,"N/A"]
[null,"N/A",0,0,0,0,0,0,0,0,0,0,0,0,0,0,0,0,0,0,0,0,0,0,0,0,0,0,0,0,0,0,0,0,0,0,0,0,0,0,0,0,0,0,0,0,0,"N/A",null,null,"N/A"]
[null,"N/A",0,0,0,0,0,0,0,0,0,0,0,0,0,0,0,0,0,0,0,0,0,0,0,0,0,0,0,0,0,0,0,0,0,0,0,0,0,0,0,0,0,0,0,0,0,"N/A",null,null,"N/A"]
[null,"N/A",0,0,0,0,0,0,0,0,0,0,0,0,0,0,0,0,0,0,0,0,0,0,0,0,0,0,0,0,0,0,0,0,0,0,0,0,0,0,0,0,0,0,0,0,0,"N/A",null,null,"N/A"]
[null,"N/A",0,0,0,0,0,0,0,0,0,0,0,0,0,0,0,0,0,0,0,0,0,0,0,0,0,0,0,0,0,0,0,0,0,0,0,0,0,0,0,0,0,0,0,0,0,"N/A",null,null,"N/A"]
[null,"N/A",0,0,0,0,0,0,0,0,0,0,0,0,0,0,0,0,0,0,0,0,0,0,0,0,0,0,0,0,0,0,0,0,0,0,0,0,0,0,0,0,0,0,0,0,0,"N/A",null,null,"N/A"]
[null,"N/A",0,0,0,0,0,0,0,0,0,0,0,0,0,0,0,0,0,0,0,0,0,0,0,0,0,0,0,0,0,0,0,0,0,0,0,0,0,0,0,0,0,0,0,0,0,"N/A",null,null,"N/A"]
[null,"N/A",0,0,0,0,0,0,0,0,0,0,0,0,0,0,0,0,0,0,0,0,0,0,0,0,0,0,0,0,0,0,0,0,0,0,0,0,0,0,0,0,0,0,0,0,0,"N/A",null,null,"N/A"]
["Total",null,{"$f":"SUM(C63:C72)","v":0},0,0,0,0,0,0,0,0,0,0,0,0,0,0,0,0,0,0,0,0,0,0,0,0,0,0,0,0,0,0,0,0,0,0,0,0,0,0,0,0,0,0,0,0,0]
[]
["En caso de requerir alguna precisión o aclaración, describa brevemente: "]
[]
[]
["3.4 Dotar de equipo adaptado, tecnológico y/o multimedia para estudiantes con discapacidad"]
["Recurso programado:",null,{"$f":"'Distribución presupuestal 2025'!H64","v":0}]
["Remanente ",null,{"$f":"C79-AV96","v":0}]
[]
[null,null,"Focalizados USAER",null,null,{"$f":"'SEE 2025'!B$26","v":81},null,"Focalizados CAM básico",null,null,{"$f":"'SEE 2025'!C$26","v":0},null,"Focalizados CAM b con FpT",null,null,{"$f":"'SEE 2025'!C$28","v":28},null,"Focalizados CAM laboral",null,null,{"$f":"'SEE 2025'!D$26","v":2},null,"Focalizados CAPEP",null,null,{"$f":"'SEE 2025'!E$26","v":0},null,"Focalizados CRIE",null,null,{"$f":"'SEE 2025'!F$26","v":0},null,"Focalizados UOP",null,null,{"$f":"'SEE 2025'!G$26","v":0},null,"Focalizados UAEBH",null,null,{"$f":"'SEE 2025'!H$26","v":0},null,"Focalizados Otro",null,null,{"$f":"'SEE 2025'!I$26","v":0}]
["Tipo de equipo\n(seleccione)","Características generales de los equipos","Cantidad a distribuir","USAER",null,null,null,"Cantidad a distribuir","CAM básico",null,null,null,"Cantidad a distribuir","CAM básico con FpT",null,null,null,"Cantidad a distribuir","CAM laboral",null,null,null,"Cantidad a distribuir","CAPEP",null,null,null,"Cantidad a distribuir","CRIE",null,null,null,"Cantidad a distribuir","UOP",null,null,null,"Cantidad a distribuir","UAEBH",null,null,null,"Cantidad a distribuir","Otro",null,null,null,"Presupuesto","Trimestre de inicio","Trimestre de término","Propósito educativo\n(específico de los materiales)"]
[null,null,null,"SEE","Estudiantes",null,null,null,"SEE","Estudiantes",null,null,null,"SEE","Estudiantes",null,null,null,"SEE","Estudiantes",null,null,null,"SEE","Estudiantes",null,null,null,"SEE","Estudiantes",null,null,null,"SEE","Estudiantes",null,null,null,"SEE","Estudiantes",null,null,null,"SEE","Estudiantes"]
[null,null,null,null,"M","H","T",null,null,"M","H","T",null,null,"M","H","T",null,null,"M","H","T",null,null,"M","H","T",null,null,"M","H","T",null,null,"M","H","T",null,null,"M","H","T",null,null,"M","H","T"]
[null,"N/A",0,0,0,0,{"$f":"SUM(E86,F86)","v":0},0,0,0,0,{"$f":"SUM(J86,K86)","v":0},0,0,0,0,{"$f":"SUM(O86,P86)","v":0},0,0,0,0,{"$f":"SUM(T86,U86)","v":0},0,0,0,0,{"$f":"SUM(Y86,Z86)","v":0},0,0,0,0,{"$f":"SUM(AD86,AE86)","v":0},0,0,0,0,{"$f":"SUM(AI86,AJ86)","v":0},0,0,0,0,{"$f":"SUM(AN86,AO86)","v":0},0,0,0,0,{"$f":"SUM(AS86,AT86)","v":0},"N/A",null,null,"N/A"]
[null,"N/A",0,0,0,0,{"$f":"SUM(E87,F87)","v":0},0,0,0,0,{"$f":"SUM(J87,K87)","v":0},0,0,0,0,{"$f":"SUM(O87,P87)","v":0},0,0,0,0,{"$f":"SUM(T87,U87)","v":0},0,0,0,0,{"$f":"SUM(Y87,Z87)","v":0},0,0,0,0,{"$f":"SUM(AD87,AE87)","v":0},0,0,0,0,{"$f":"SUM(AI87,AJ87)","v":0},0,0,0,0,{"$f":"SUM(AN87,AO87)","v":0},0,0,0,0,{"$f":"SUM(AS87,AT87)","v":0},"N/A",null,null,"N/A"]
[null,"N/A",0,0,0,0,0,0,0,0,0,0,0,0,0,0,0,0,0,0,0,0,0,0,0,0,0,0,0,0,0,0,0,0,0,0,0,0,0,0,0,0,0,0,0,0,0,"N/A",null,null,"N/A"]
[null,"N/A",0,0,0,0,0,0,0,0,0,0,0,0,0,0,0,0,0,0,0,0,0,0,0,0,0,0,0,0,0,0,0,0,0,0,0,0,0,0,0,0,0,0,0,0,0,"N/A",null,null,"N/A"]
[null,"N/A",0,0,0,0,0,0,0,0,0,0,0,0,0,0,0,0,0,0,0,0,0,0,0,0,0,0,0,0,0,0,0,0,0,0,0,0,0,0,0,0,0,0,0,0,0,"N/A",null,null,"N/A"]
[null,"N/A",0,0,0,0,0,0,0,0,0,0,0,0,0,0,0,0,0,0,0,0,0,0,0,0,0,0,0,0,0,0,0,0,0,0,0,0,0,0,0,0,0,0,0,0,0,"N/A",null,null,"N/A"]
[null,"N/A",0,0,0,0,0,0,0,0,0,0,0,0,0,0,0,0,0,0,0,0,0,0,0,0,0,0,0,0,0,0,0,0,0,0,0,0,0,0,0,0,0,0,0,0,0,"N/A",null,null,"N/A"]
[null,"N/A",0,0,0,0,0,0,0,0,0,0,0,0,0,0,0,0,0,0,0,0,0,0,0,0,0,0,0,0,0,0,0,0,0,0,0,0,0,0,0,0,0,0,0,0,0,"N/A",null,null,"N/A"]
[null,"N/A",0,0,0,0,0,0,0,0,0,0,0,0,0,0,0,0,0,0,0,0,0,0,0,0,0,0,0,0,0,0,0,0,0,0,0,0,0,0,0,0,0,0,0,0,0,"N/A",null,null,"N/A"]
[null,"N/A",0,0,0,0,0,0,0,0,0,0,0,0,0,0,0,0,0,0,0,0,0,0,0,0,0,0,0,0,0,0,0,0,0,0,0,0,0,0,0,0,0,0,0,0,0,"N/A",null,null,"N/A"]
["Total",null,{"$f":"SUM(C86:C95)","v":0},0,0,0,0,0,0,0,0,0,0,0,0,0,0,0,0,0,0,0,0,0,0,0,0,0,0,0,0,0,0,0,0,0,0,0,0,0,0,0,0,0,0,0,0,0]
[]
["En caso de requerir alguna precisión o aclaración, describa brevemente: "]
[]
[]
["3.5 Adquirir herramientas, utensilios, enseres domésticos y aparatos electrónicos que se requieren para impartir las especialidades que se ofertan en los CAM Laboral y con Formación para el Trabajo"]
["Recurso programado:",null,{"$f":"'Distribución presupuestal 2025'!H65","v":136527.81}]
["Remanente ",null,{"$f":"C102-Q119","v":0}]
[]
[null,null,null,null,null,null,"Focalizados CAM b con FpT",null,null,{"$f":"'SEE 2025'!C28","v":28},null,"Focalizados CAM laboral",null,null,{"$f":"'SEE 2025'!D26","v":2}]
["Taller a equipar","Herramienta, utensilio, mobiliario o aparato a adquirir","Insumo para instalación, mantenimiento y/o reparación",null,null,null,"Cantidad a distribuir","CAM básico con FpT",null,null,null,"Cantidad a distribuir","CAM laboral",null,null,null,"Presupuesto",null,null,"Trimestre de inicio","Trimestre de término","Propósito educativo\n(específico de los materiales a reproducir)"]
[null,null,null,null,null,null,null,"SEE","Estudiantes",null,null,null,"SEE","Estudiantes"]
[null,null,null,null,null,null,null,null,"M","H","T",null,null,"M","H","T"]
["Taller Cocina","1 procesador de alimentos, 2.84l, 1000 watts, 1.3 caballos de fuerza, cuchillas para amasar, picar, puré, rallar, rebanar, desmontable, 3 velocidades.","N/A",null,null,null,22,22,501,777,{"$f":"SUM(I109,J109)","v":1278},2,2,49,75,{"$f":"SUM(N109,O109)","v":124},93600,null,null,"4to","4to","Fortalecer las habilidades y destrezas laborales de los alumnos de CAM"]
["Taller Manualidades","1 cortador de unicel, 1 engargoladora, 1 enmicadora, 1 guillotina, 1 pistola de silicón, 1 tijeras eléctricas, 1 engrapadora industrial, 1 set de tres pinzas.","N/A",null,null,null,6,6,49,81,{"$f":"SUM(I110,J110)","v":130},0,0,0,0,{"$f":"SUM(N110,O110)","v":0},42927.81,null,null,"4to","4to","Fortalecer las habilidades y destrezas laborales de los alumnos de CAM"]
["N/A","N/A","N/A",null,null,null,0,0,0,0,0,0,0,0,0,0,"N/A",null,null,null,null,"N/A"]
["N/A","N/A","N/A",null,null,null,0,0,0,0,0,0,0,0,0,0,"N/A",null,null,null,null,"N/A"]
["N/A","N/A","N/A",null,null,null,0,0,0,0,0,0,0,0,0,0,"N/A",null,null,null,null,"N/A"]
["N/A","N/A","N/A",null,null,null,0,0,0,0,0,0,0,0,0,0,"N/A",null,null,null,null,"N/A"]
["N/A","N/A","N/A",null,null,null,0,0,0,0,0,0,0,0,0,0,"N/A",null,null,null,null,"N/A"]
["N/A","N/A","N/A",null,null,null,0,0,0,0,0,0,0,0,0,0,"N/A",null,null,null,null,"N/A"]
["N/A","N/A","N/A",null,null,null,0,0,0,0,0,0,0,0,0,0,"N/A",null,null,null,null,"N/A"]
["N/A","N/A","N/A",null,null,null,0,0,0,0,0,0,0,0,0,0,"N/A",null,null,null,null,"N/A"]
["Total",null,null,null,null,null,{"$f":"SUM(G109:G118)","v":28},28,550,858,1408,2,2,49,75,124,136527.81]
[]
["En caso de requerir alguna precisión o aclaración, describa brevemente: "]
[]
[]
["3.6 Dotar de insumos y materiales consumibles no perecederos que requieren en las especialidades que se ofertan los CAM Laboral y con Formación para el Trabajo para apoyar las actividades de estudiantes con discapacidad"]
["Recurso programado:",null,{"$f":"'Distribución presupuestal 2025'!H67","v":70000}]
["Remanente ",null,{"$f":"C125-X142","v":0}]
[]
[]
["Especifique el taller al que se beneficia",null,"Especifique el tipo de insumos",null,null,null,null,null,"Focalizados CAM básico",null,null,{"$f":"'SEE 2025'!D$26","v":2},null,"Focalizados CAM b con FpT",null,null,{"$f":"'SEE 2025'!D$28","v":0},null,"Focalizados CAM laboral",null,null,{"$f":"'SEE 2025'!E$26","v":0},null,"Presupuesto",null,null,"Trimestre de inicio","Trimestre de término","Propósito educativo\n(específico de los materiales)"]
[null,null,null,null,null,null,null,null,"Cantidad a distribuir","CAM básico",null,null,null,"Cantidad a distribuir","CAM básico con FpT",null,null,null,"Cantidad a distribuir","CAM laboral"]
[null,null,null,null,null,null,null,null,null,"SEE","Estudiantes",null,null,null,"SEE","Estudiantes",null,null,null,"SEE","Estudiantes"]
[null,null,null,null,null,null,null,null,null,null,"M","H","T",null,null,"M","H","T",null,null,"M","H","T"]
["Taller de Trapeadores",null,"200 palos estandar sin rosca, 1 rollo de alambre galvanizado cal 18, tres rollos de material para trapeadores: hilaza española y pabilaza caramelo.",null,null,null,null,null,0,0,0,0,{"$f":"SUM(K133,L133)","v":0},6,6,122,198,{"$f":"SUM(P133,Q133)","v":320},1,1,28,39,{"$f":"SUM(U133,V133)","v":67},70000,null,null,"4to","4to","Favorecer las habilidades y destrezas para la elaboración de productos de limpieza, así como su comercialización."]
["N/A",null,"N/A",null,null,null,null,null,0,0,0,0,{"$f":"SUM(K134,L134)","v":0},0,0,0,0,{"$f":"SUM(P134,Q134)","v":0},0,0,0,0,{"$f":"SUM(U134,V134)","v":0},"N/A",null,null,null,null,"N/A"]
["N/A",null,"N/A",null,null,null,null,null,0,0,0,0,0,0,0,0,0,0,0,0,0,0,0,"N/A",null,null,null,null,"N/A"]
["N/A",null,"N/A",null,null,null,null,null,0,0,0,0,0,0,0,0,0,0,0,0,0,0,0,"N/A",null,null,null,null,"N/A"]
["N/A",null,"N/A",null,null,null,null,null,0,0,0,0,0,0,0,0,0,0,0,0,0,0,0,"N/A",null,null,null,null,"N/A"]
["N/A",null,"N/A",null,null,null,null,null,0,0,0,0,0,0,0,0,0,0,0,0,0,0,0,"N/A",null,null,null,null,"N/A"]
["N/A",null,"N/A",null,null,null,null,null,0,0,0,0,0,0,0,0,0,0,0,0,0,0,0,"N/A",null,null,null,null,"N/A"]
["N/A",null,"N/A",null,null,null,null,null,0,0,0,0,0,0,0,0,0,0,0,0,0,0,0,"N/A",null,null,null,null,"N/A"]
["N/A",null,"N/A",null,null,null,null,null,0,0,0,0,0,0,0,0,0,0,0,0,0,0,0,"N/A",null,null,null,null,"N/A"]
["Total",null,"Total",null,null,null,null,null,0,0,0,0,0,0,0,0,0,0,0,0,0,0,0,{"$f":"SUM(X132:X141)","v":70000}]
[null,null,null,null,null,null,null,null,0,{"$f":"SUM(J133:J142)","v":0},0,0,0,6,6,122,198,320,1,1,28,39,67]
[]
["En caso de requerir alguna precisión o aclaración, describa brevemente: "]
[]
[]
["3.7 Adquirir ayudas técnicas para la accesibilidad y movilidad que mejoren las condiciones para el desplazamiento, orientación y comunicación del estudiante con discapacidad"]
["Recurso programado:",null,{"$f":"'Distribución presupuestal 2025'!H68","v":30000}]
["Remanente ",null,{"$f":"C149-AV166","v":0}]
[]
[null,null,"Focalizados USAER",null,null,{"$f":"'SEE 2025'!B$26","v":81},null,"Focalizados CAM básico",null,null,{"$f":"'SEE 2025'!C$26","v":0},null,"Focalizados CAM b con FpT",null,null,{"$f":"'SEE 2025'!C$28","v":28},null,"Focalizados CAM laboral",null,null,{"$f":"'SEE 2025'!D$26","v":2},null,"Focalizados CAPEP",null,null,{"$f":"'SEE 2025'!E$26","v":0},null,"Focalizados CRIE",null,null,{"$f":"'SEE 2025'!F$26","v":0},null,"Focalizados UOP",null,null,{"$f":"'SEE 2025'!G$26","v":0},null,"Focalizados UAEBH",null,null,{"$f":"'SEE 2025'!H$26","v":0},null,"Focalizados Otro",null,null,{"$f":"'SEE 2025'!I$26","v":0}]
["Tipo de ayuda\n(seleccione)","Ayuda a adquirir","Cantidad a distribuir","USAER",null,null,null,"Cantidad a distribuir","CAM básico",null,null,null,"Cantidad a distribuir","CAM básico con FpT",null,null,null,"Cantidad a distribuir","CAM laboral",null,null,null,"Cantidad a distribuir","CAPEP",null,null,null,"Cantidad a distribuir","CRIE",null,null,null,"Cantidad a distribuir","UOP",null,null,null,"Cantidad a distribuir","UAEBH",null,null,null,"Cantidad a distribuir","Otro",null,null,null,"Presupuesto","Trimestre de inicio","Trimestre de término","Propósito educativo\n(específico de los materiales a adquirir)"]
[null,null,null,"SEE","Estudiantes",null,null,null,"SEE","Estudiantes",null,null,null,"SEE","Estudiantes",null,null,null,"SEE","Estudiantes",null,null,null,"SEE","Estudiantes",null,null,null,"SEE","Estudiantes",null,null,null,"SEE","Estudiantes",null,null,null,"SEE","Estudiantes",null,null,null,"SEE","Estudiantes"]
[null,null,null,null,"M","H","T",null,null,"M","H","T",null,null,"M","H","T",null,null,"M","H","T",null,null,"M","H","T",null,null,"M","H","T",null,null,"M","H","T",null,null,"M","H","T",null,null,"M","H","T"]
["Para el desplazamiento","Grúa hidráulica ajustable para elevación de. alumnos, voltaje 24V, capacidad de soporte hasta 185 kg",0,0,0,0,{"$f":"SUM(E156,F156)","v":0},0,0,0,0,{"$f":"SUM(J156,K156)","v":0},1,1,2,5,{"$f":"SUM(O156,P156)","v":7},0,0,0,0,{"$f":"SUM(T156,U156)","v":0},0,0,0,0,{"$f":"SUM(Y156,Z156)","v":0},0,0,0,0,{"$f":"SUM(AD156,AE156)","v":0},0,0,0,0,{"$f":"SUM(AI156,AJ156)","v":0},0,0,0,0,{"$f":"SUM(AN156,AO156)","v":0},0,0,0,0,{"$f":"SUM(AS156,AT156)","v":0},30000,"4to","4to","Favorecer el movimiento, traslado y aséo de alumnos con discapacidad motora dentro de los espacios educativos"]
[null,"N/A",0,0,0,0,{"$f":"SUM(E157,F157)","v":0},0,0,0,0,{"$f":"SUM(J157,K157)","v":0},0,0,0,0,{"$f":"SUM(O157,P157)","v":0},0,0,0,0,{"$f":"SUM(T157,U157)","v":0},0,0,0,0,{"$f":"SUM(Y157,Z157)","v":0},0,0,0,0,{"$f":"SUM(AD157,AE157)","v":0},0,0,0,0,{"$f":"SUM(AI157,AJ157)","v":0},0,0,0,0,{"$f":"SUM(AN157,AO157)","v":0},0,0,0,0,{"$f":"SUM(AS157,AT157)","v":0},"N/A",null,null,"N/A"]
[null,"N/A",0,0,0,0,0,0,0,0,0,0,0,0,0,0,0,0,0,0,0,0,0,0,0,0,0,0,0,0,0,0,0,0,0,0,0,0,0,0,0,0,0,0,0,0,0,"N/A",null,null,"N/A"]
[null,"N/A",0,0,0,0,0,0,0,0,0,0,0,0,0,0,0,0,0,0,0,0,0,0,0,0,0,0,0,0,0,0,0,0,0,0,0,0,0,0,0,0,0,0,0,0,0,"N/A",null,null,"N/A"]
[null,"N/A",0,0,0,0,0,0,0,0,0,0,0,0,0,0,0,0,0,0,0,0,0,0,0,0,0,0,0,0,0,0,0,0,0,0,0,0,0,0,0,0,0,0,0,0,0,"N/A",null,null,"N/A"]
[null,"N/A",0,0,0,0,0,0,0,0,0,0,0,0,0,0,0,0,0,0,0,0,0,0,0,0,0,0,0,0,0,0,0,0,0,0,0,0,0,0,0,0,0,0,0,0,0,"N/A",null,null,"N/A"]
[null,"N/A",0,0,0,0,0,0,0,0,0,0,0,0,0,0,0,0,0,0,0,0,0,0,0,0,0,0,0,0,0,0,0,0,0,0,0,0,0,0,0,0,0,0,0,0,0,"N/A",null,null,"N/A"]
[null,"N/A",0,0,0,0,0,0,0,0,0,0,0,0,0,0,0,0,0,0,0,0,0,0,0,0,0,0,0,0,0,0,0,0,0,0,0,0,0,0,0,0,0,0,0,0,0,"N/A",null,null,"N/A"]
[null,"N/A",0,0,0,0,0,0,0,0,0,0,0,0,0,0,0,0,0,0,0,0,0,0,0,0,0,0,0,0,0,0,0,0,0,0,0,0,0,0,0,0,0,0,0,0,0,"N/A",null,null,"N/A"]
[null,"N/A",0,0,0,0,0,0,0,0,0,0,0,0,0,0,0,0,0,0,0,0,0,0,0,0,0,0,0,0,0,0,0,0,0,0,0,0,0,0,0,0,0,0,0,0,0,"N/A",null,null,"N/A"]
["Total",null,{"$f":"SUM(C156:C165)","v":0},0,0,0,0,0,0,0,0,0,1,1,2,5,7,0,0,0,0,0,0,0,0,0,0,0,0,0,0,0,0,0,0,0,0,0,0,0,0,0,0,0,0,0,0,30000]
[]
["En caso de requerir alguna precisión o aclaración, describa brevemente: "]
[]
[]
["3.8 Dotar de mobiliario ordinario y/o adaptado para estudiantes con discapacidad"]
["Recurso programado:",null,{"$f":"'Distribución presupuestal 2025'!H69","v":0}]
["Remanente ",null,{"$f":"C172-AV189","v":0}]
[]
[null,null,"Focalizados USAER",null,null,{"$f":"'SEE 2025'!B$26","v":81},null,"Focalizados CAM básico",null,null,{"$f":"'SEE 2025'!C$26","v":0},null,"Focalizados CAM b con FpT",null,null,{"$f":"'SEE 2025'!C$28","v":28},null,"Focalizados CAM laboral",null,null,{"$f":"'SEE 2025'!D$26","v":2},null,"Focalizados CAPEP",null,null,{"$f":"'SEE 2025'!E$26","v":0},null,"Focalizados CRIE",null,null,{"$f":"'SEE 2025'!F$26","v":0},null,"Focalizados UOP",null,null,{"$f":"'SEE 2025'!G$26","v":0},null,"Focalizados UAEBH",null,null,{"$f":"'SEE 2025'!H$26","v":0},null,"Focalizados Otro",null,null,{"$f":"'SEE 2025'!I$26","v":0}]
["Especifique el tipo de mobiliario a adquirir",null,"Cantidad a distribuir","USAER",null,null,null,"Cantidad a distribuir","CAM básico",null,null,null,"Cantidad a distribuir","CAM básico con FpT",null,null,null,"Cantidad a distribuir","CAM laboral",null,null,null,"Cantidad a distribuir","CAPEP",null,null,null,"Cantidad a distribuir","CRIE",null,null,null,"Cantidad a distribuir","UOP",null,null,null,"Cantidad a distribuir","UAEBH",null,null,null,"Cantidad a distribuir","Otro",null,null,null,"Presupuesto","Trimestre de inicio","Trimestre de término","Propósito educativo\n(específico del mobiliario a adquirir)"]
[null,null,null,"SEE","Estudiantes",null,null,null,"SEE","Estudiantes",null,null,null,"SEE","Estudiantes",null,null,null,"SEE","Estudiantes",null,null,null,"SEE","Estudiantes",null,null,null,"SEE","Estudiantes",null,null,null,"SEE","Estudiantes",null,null,null,"SEE","Estudiantes",null,null,null,"SEE","Estudiantes"]
[null,null,null,null,"M","H","T",null,null,"M","H","T",null,null,"M","H","T",null,null,"M","H","T",null,null,"M","H","T",null,null,"M","H","T",null,null,"M","H","T",null,null,"M","H","T",null,null,"M","H","T"]
[null,null,null,null,null,null,{"$f":"SUM(E179,F179)","v":0},null,null,null,null,{"$f":"SUM(J179,K179)","v":0},null,null,null,null,{"$f":"SUM(O179,P179)","v":0},null,null,null,null,{"$f":"SUM(T179,U179)","v":0},null,null,null,null,{"$f":"SUM(Y179,Z179)","v":0},null,null,null,null,{"$f":"SUM(AD179,AE179)","v":0},null,null,null,null,{"$f":"SUM(AI179,AJ179)","v":0},null,null,null,null,{"$f":"SUM(AN179,AO179)","v":0},null,null,null,null,{"$f":"SUM(AS179,AT179)","v":0}]
[null,null,null,null,null,null,{"$f":"SUM(E180,F180)","v":0},null,null,null,null,{"$f":"SUM(J180,K180)","v":0},null,null,null,null,{"$f":"SUM(O180,P180)","v":0},null,null,null,null,{"$f":"SUM(T180,U180)","v":0},null,null,null,null,{"$f":"SUM(Y180,Z180)","v":0},null,null,null,null,{"$f":"SUM(AD180,AE180)","v":0},null,null,null,null,{"$f":"SUM(AI180,AJ180)","v":0},null,null,null,null,{"$f":"SUM(AN180,AO180)","v":0},null,null,null,null,{"$f":"SUM(AS180,AT180)","v":0}]
[null,null,null,null,null,null,0,null,null,null,null,0,null,null,null,null,0,null,null,null,null,0,null,null,null,null,0,null,null,null,null,0,null,null,null,null,0,null,null,null,null,0,null,null,null,null,0]
[null,null,null,null,null,null,0,null,null,null,null,0,null,null,null,null,0,null,null,null,null,0,null,null,null,null,0,null,null,null,null,0,null,null,null,null,0,null,null,null,null,0,null,null,null,null,0]
[null,null,null,null,null,null,0,null,null,null,null,0,null,null,null,null,0,null,null,null,null,0,null,null,null,null,0,null,null,null,null,0,null,null,null,null,0,null,null,null,null,0,null,null,null,null,0]
[null,null,null,null,null,null,0,null,null,null,null,0,null,null,null,null,0,null,null,null,null,0,null,null,null,null,0,null,null,null,null,0,null,null,null,null,0,null,null,null,null,0,null,null,null,null,0]
[null,null,null,null,null,null,0,null,null,null,null,0,null,null,null,null,0,null,null,null,null,0,null,null,null,null,0,null,null,null,null,0,null,null,null,null,0,null,null,null,null,0,null,null,null,null,0]
[null,null,null,null,null,null,0,null,null,null,null,0,null,null,null,null,0,null,null,null,null,0,null,null,null,null,0,null,null,null,null,0,null,null,null,null,0,null,null,null,null,0,null,null,null,null,0]
[null,null,null,null,null,null,0,null,null,null,null,0,null,null,null,null,0,null,null,null,null,0,null,null,null,null,0,null,null,null,null,0,null,null,null,null,0,null,null,null,null,0,null,null,null,null,0]
[null,null,null,null,null,null,0,null,null,null,null,0,null,null,null,null,0,null,null,null,null,0,null,null,null,null,0,null,null,null,null,0,null,null,null,null,0,null,null,null,null,0,null,null,null,null,0]
["Total",null,{"$f":"SUM(C179:C188)","v":0},0,0,0,0,0,0,0,0,0,0,0,0,0,0,0,0,0,0,0,0,0,0,0,0,0,0,0,0,0,0,0,0,0,0,0,0,0,0,0,0,0,0,0,0,0]
[]
["En caso de requerir alguna precisión o aclaración, describa brevemente: "]
[]
[]
["3.9 Adquirir equipamiento y materiales para aulas multisensoriales"]
["Recurso programado:",null,{"$f":"'Distribución presupuestal 2025'!H70","v":4662364.8899999997}]
["Remanente ",null,{"$f":"C195-R212","v":0}]
[]
[null,null,"Focalizados CAM básico",null,null,{"$f":"'SEE 2025'!C26","v":0},null,"Focalizados CAM b con FpT",null,null,{"$f":"'SEE 2025'!C28","v":28},null,"Focalizados CAM laboral",null,null,{"$f":"'SEE 2025'!D26","v":2}]
["Marque con \"X\" cuando sea aula de nueva creación","Material a adquirir","Cantidad a distribuir","CAM básico",null,null,null,"Cantidad a distribuir","CAM básico con FpT",null,null,null,"Cantidad a distribuir","CAM laboral",null,null,null,"Presupuesto",null,null,"Trimestre de inicio","Trimestre de término","Propósito educativo\n(específico de los materiales a adquirir)"]
[null,null,null,"SEE","Estudiantes",null,null,null,"SEE","Estudiantes",null,null,null,"SEE","Estudiantes"]
[null,null,null,null,"M","H","T",null,null,"M","H","T",null,null,"M","H","T"]
["x","1 tubo de burbujas acrilico de 200 cm x 15 cm con base acolchada de 1m po 1m. 1 cortina de fibra óptica 3m. De longitud, hipoalergénica, 1 panel 1 panel interactivo (colourcatch) de 115x67 x 10cm. 1 Proyector de oleaje efecto acuático luz LED. 1 tiras LED 8 colores (set de 4 tiras), 1 panel infinito figuras geométricas de 52 x 160 x 12 cm, luz LED con cambio de color. 1 set cubo mágico 20 cm cúbicos, bocina con grabadora de mensajes y controlador maestro. 1 control de equipos del cuarto para desarrollar coordinacion motora 200 x 65 x 25 cm. 1 controlador de contacto con teclados de control intercambiable tipo piano. controlador inalámbrico por medio de sonidos con 4 tipos de programación. 1 controlador en tableta electrónica. 1 panel luz LED interactivo equipado con dos bocinas, una pantalla LED touch con 6 diferentes cambios de  programación. 1 alberca de pelotas con vibración y cambio de color en madera y hule espuma con cubierta lonatex, 150 x 150 x 65 cm. 1000 pelotas de plástico transparente, bocina bluetooth. 1 proyector solar Led con lente de enfoque de 85 mm. luz Led ahorradora de energía, repisa de madera acabado color blanco medidas 32.5 x 12.5 x 15 cm. 1 set de 3 discos temáticos con rotador de disco de 6 pulgadas de diámetro. 1 set fluorescente con reflector de luz , parachute de nylon de 1.80 m de diámetro, esfera de luz giratoria y 100 figuras fluorescentes. 1 columpio con sillón cónico con rango de posición horizontal y vertical y apoyo para pies, y cinturones de seguridad, resiste 136 kg. dimensiones del asiento: 105 x 58 cm. 1 espejo de burbujas acrílico de paredes aclchadas, medidas: 85 cm cuadrados y 9 bubrbujas de 22.5 cm de diámetro c/u. 1 bi-proyector de estrellas y cúmulos espaciales con tecnología holográfica. 1 set de cojines graduados musicales, 6 piezas de diferente altura de 32.5 cm de diámetro. 1 set de aromaterapia con difusor con baterías, incluye repisa, 10 almoadillas de algodón, 8 piezas de escencias de aceites y set de 10 escencias de aromas direrentes. 1 Panel de tiras de tela que se mueven con la intensidad del viento y tiras de color. 1 panel de canicas de 80 x 40 x 14 cm, incluye 400 canicas y pantalla de luz, 1 set de panel de elementos llamativos, variables, sonoros, y de textura, medida 1.15 x 1.15 m. 1 set de 13 paquetes piso de foamy de colores antiderrapante 3.2 m cuadrados. 1 set controlador en forma de botonera eléctrica que controla todos los equipos del aula. 3 set de 2 espejos de acrílico medidas: 1.22 x 2.44 m.     ",0,0,0,0,{"$f":"SUM(E202,F202)","v":0},3,3,349,548,{"$f":"SUM(J202,K202)","v":897},0,0,0,0,{"$f":"SUM(O202,P202)","v":0},4662364.8899999997,null,null,"4to","4to","Crear ambientes de inmersión con imágenes, videos, colores, onomatopeyas, voz, música, aromas, texturas, sensaciones térmicas y vibraciones, con el objeto de estimular el desarrollo integral de los alumnos con materiales especializados y los espacios físicos adaptados para garantizar que los alumnos puedan participar plenamente en el proceso educativo, lo que fomenta su autonomía y participación activa, promoviendo una verdadera inclusión."]
[null,null,0,0,0,0,{"$f":"SUM(E203,F203)","v":0},0,0,0,0,{"$f":"SUM(J203,K203)","v":0},0,0,0,0,{"$f":"SUM(O203,P203)","v":0}]
[null,null,0,0,0,0,0,0,0,0,0,0,0,0,0,0,0]
[null,null,0,0,0,0,0,0,0,0,0,0,0,0,0,0,0]
[null,null,0,0,0,0,0,0,0,0,0,0,0,0,0,0,0]
[null,null,0,0,0,0,0,0,0,0,0,0,0,0,0,0,0]
[null,null,0,0,0,0,0,0,0,0,0,0,0,0,0,0,0]
[null,null,0,0,0,0,0,0,0,0,0,0,0,0,0,0,0]
[null,null,0,0,0,0,0,0,0,0,0,0,0,0,0,0,0]
[null,null,0,0,0,0,0,0,0,0,0,0,0,0,0,0,0]
[{"$f":"COUNTIF(A202:A211,\"X\")","v":1},"Total",{"$f":"SUM(C202:C211)","v":0},0,0,0,0,3,3,349,548,897,0,0,0,0,0,4662364.8899999997]
[]
["En caso de requerir alguna precisión o aclaración, describa brevemente: "]
["Se benefician un total 63 servicios (CAM básico con FpT, laboral y USAER)con la insatlación de estas tres aulas, beneficiando un gran total de 2320 alumnos. "]

{"sheet":"Equipamiento específico AS","index":13,"n_rows":121,"n_cols":36,"rows_kept":121,"cut":false,"hidden":false,"merged":[[71,0,71,1],[62,0,62,1],[63,0,63,1],[64,0,64,1],[65,0,65,1],[66,0,66,1],[67,0,67,1],[68,0,68,1],[69,0,69,1],[70,0,70,1],[10,0,10,1],[10,2,10,6],[12,2,12,4],[12,5,12,6],[12,7,12,9],[12,10,12,11],[0,0,4,21],[0,32,4,35],[5,0,5,35],[6,0,6,35],[8,0,8,35],[9,0,9,1],[9,2,9,6],[13,0,15,0],[13,1,15,1],[13,2,15,2],[13,3,13,6],[13,7,15,7],[13,8,13,11],[13,12,15,12],[13,13,13,16],[12,12,12,14],[12,15,12,16],[13,22,15,22],[13,23,13,26],[13,27,15,27],[13,28,13,31],[14,18,15,18],[14,19,14,21],[14,23,15,23],[14,24,14,26],[12,27,12,29],[12,30,12,31],[12,17,12,19],[12,20,12,21],[12,22,12,24],[12,25,12,26],[32,0,32,1],[32,2,32,6],[33,0,33,1],[33,2,33,6],[35,2,35,4],[35,5,35,6],[14,28,15,28],[14,29,14,31],[26,0,26,1],[28,0,28,35],[29,0,29,35],[31,0,31,35],[13,32,15,32],[13,33,15,33],[13,34,15,34],[13,35,15,35],[14,3,15,3],[14,4,14,6],[14,8,15,8],[14,9,14,11],[14,13,15,13],[14,14,14,16],[13,17,15,17],[13,18,13,21],[35,22,35,24],[35,25,35,26],[35,27,35,29],[35,30,35,31],[36,0,38,1],[36,2,38,2],[36,3,36,6],[36,7,38,7],[36,8,36,11],[36,12,38,12],[35,7,35,9],[35,10,35,11],[35,12,35,14],[35,15,35,16],[35,17,35,19],[35,20,35,21],[36,28,36,31],[36,32,38,32],[36,33,38,33],[36,34,38,34],[36,35,38,35],[37,3,38,3],[37,4,37,6],[37,8,38,8],[37,9,37,11],[37,13,38,13],[36,13,36,16],[36,17,38,17],[36,18,36,21],[36,22,38,22],[36,23,36,26],[36,27,38,27],[37,14,37,16],[37,18,38,18],[37,19,37,21],[37,23,38,23],[42,0,42,1],[43,0,43,1],[44,0,44,1],[45,0,45,1],[46,0,46,1],[47,0,47,1],[37,24,37,26],[37,28,38,28],[37,29,37,31],[39,0,39,1],[40,0,40,1],[41,0,41,1],[56,0,56,1],[56,2,56,6],[58,2,58,4],[58,5,58,6],[58,7,58,9],[58,10,58,11],[48,0,48,1],[49,0,49,1],[51,0,51,35],[52,0,52,35],[54,0,54,35],[55,0,55,1],[55,2,55,6],[59,2,61,2],[59,3,59,6],[59,7,61,7],[59,8,59,11],[59,12,61,12],[59,13,59,16],[58,12,58,14],[58,15,58,16],[59,0,61,1],[59,22,61,22],[59,23,59,26],[59,27,61,27],[59,28,59,31],[60,18,61,18],[60,19,60,21],[60,23,61,23],[60,24,60,26],[58,27,58,29],[58,30,58,31],[58,17,58,19],[58,20,58,21],[58,22,58,24],[58,25,58,26],[78,0,78,1],[78,2,78,6],[79,0,79,1],[79,2,79,6],[81,2,81,4],[81,5,81,6],[60,28,61,28],[60,29,60,31],[72,0,72,1],[74,0,74,35],[75,0,75,35],[77,0,77,35],[59,32,61,32],[59,33,61,33],[59,34,61,34],[59,35,61,35],[60,3,61,3],[60,4,60,6],[60,8,61,8],[60,9,60,11],[60,13,61,13],[60,14,60,16],[59,17,61,17],[59,18,59,21],[81,22,81,24],[81,25,81,26],[81,27,81,29],[81,30,81,31],[82,0,84,0],[82,1,84,1],[82,2,84,2],[82,3,82,6],[82,7,84,7],[82,8,82,11],[81,7,81,9],[81,10,81,11],[81,12,81,14],[81,15,81,16],[81,17,81,19],[81,20,81,21],[83,3,84,3],[83,4,83,6],[83,8,84,8],[83,9,83,11],[82,33,84,33],[82,34,84,34],[82,35,84,35],[83,28,84,28],[83,29,83,31],[82,12,84,12],[82,13,82,16],[82,17,84,17],[82,18,82,21],[82,22,84,22],[82,23,82,26],[83,18,84,18],[83,19,83,21],[83,23,84,23],[83,24,83,26],[83,13,84,13],[83,14,83,16],[82,27,84,27],[82,28,82,31],[82,32,84,32],[102,0,102,1],[102,2,102,6],[104,2,104,4],[104,5,104,6],[104,7,104,9],[104,10,104,11],[95,0,95,1],[97,0,97,35],[98,0,98,35],[100,0,100,35],[101,0,101,1],[101,2,101,6],[104,27,104,29],[104,30,104,31],[104,20,104,21],[104,22,104,24],[104,25,104,26],[105,0,107,1],[105,2,107,2],[105,3,105,6],[105,7,107,7],[105,8,105,11],[105,12,107,12],[105,13,105,16],[105,17,107,17],[104,12,104,14],[104,15,104,16],[104,17,104,19],[105,18,105,21],[105,22,107,22],[105,23,105,26],[105,27,107,27],[105,28,105,31],[105,32,107,32],[106,19,106,21],[106,23,107,23],[106,24,106,26],[106,28,107,28],[120,0,120,35],[121,0,121,35],[113,0,113,1],[114,0,114,1],[115,0,115,1],[116,0,116,1],[117,0,117,1],[118,0,118,1],[106,29,106,31],[108,0,108,1],[109,0,109,1],[110,0,110,1],[111,0,111,1],[112,0,112,1],[105,33,107,33],[105,34,107,34],[105,35,107,35],[106,3,107,3],[106,4,106,6],[106,8,107,8],[106,9,106,11],[106,13,107,13],[106,14,106,16],[106,18,107,18]]}
[null,null,null,null,null,null,null,null,null,null,null,null,null,null,null,null,null,null,null,null,null,null,null,null,null,null,null,null,null,null,null,null,"Subsecretaría de Educación Básica\nDirección General de Desarrollo Curricular\nDirección de Fortalecimiento Curricular para la \nFormación Personal y Social en la Educación Básica\nEducación Especial"]
[]
[]
[]
[]
["Componente: 3. Equipamiento específico en beneficio de estudiantes con aptitudes sobresalientes"]
["Para garantizar el cumplimiento de  los objetivos del PFSEE las AEL podrán destinar hasta un 80% del recurso, de acuerdo con lo estipulado en las reglas de operación 2025"]
[]
["3.10 Dotar de material didáctico especializado para estudiantes con aptitudes sobresalientes"]
["Recurso programado:",null,{"$f":"'Distribución presupuestal 2025'!W61","v":2351313.16}]
["Remanente ",null,{"$f":"C10-AG27","v":0}]
[]
[null,null,"Focalizados USAER",null,null,{"$f":"'SEE 2025'!N$26","v":76},null,"Focalizados CAPEP",null,null,{"$f":"'SEE 2025'!O$26","v":0},null,"Focalizados CRIE",null,null,{"$f":"'SEE 2025'!P$26","v":0},null,"Focalizados UOP",null,null,{"$f":"'SEE 2025'!Q$26","v":0},null,"Focalizados UAEBH",null,null,{"$f":"'SEE 2025'!R$26","v":0},null,"Focalizados Otro",null,null,{"$f":"'SEE 2025'!S$26","v":1}]
["Tipo de materiales\n(seleccione)","Material a adquirir","Cantidad a distribuir","USAER",null,null,null,"Cantidad a distribuir","CAPEP",null,null,null,"Cantidad a distribuir","CRIE",null,null,null,"Cantidad a distribuir","UOP",null,null,null,"Cantidad a distribuir","UAEBH",null,null,null,"Cantidad a distribuir","Otro",null,null,null,"Presupuesto","Trimestre de inicio","Trimestre de término","Propósito educativo\n(específico del material a adquirir)"]
[null,null,null,"SEE","Estudiantes",null,null,null,"SEE","Estudiantes",null,null,null,"SEE","Estudiantes",null,null,null,"SEE","Estudiantes",null,null,null,"SEE","Estudiantes",null,null,null,"SEE","Estudiantes"]
[null,null,null,null,"M","H","T",null,null,"M","H","T",null,null,"M","H","T",null,null,"M","H","T",null,null,"M","H","T",null,null,"M","H","T"]
["Paquetes con diversos materiales","1 basta electrónico. 1 juégo didáctico triángulo por triángulo. 1 rompecabezas 3d block by block, 1 juego de mesa rush hour, 1 juego de las emociones, 1 juego de preguntas y respuestaas conector quiz. ",380,76,543,585,{"$f":"SUM(E17,F17)","v":1128},0,0,0,0,{"$f":"SUM(J17,K17)","v":0},0,0,0,0,{"$f":"SUM(O17,P17)","v":0},0,0,0,0,{"$f":"SUM(T17,U17)","v":0},0,0,0,0,{"$f":"SUM(Y17,Z17)","v":0},0,0,0,0,{"$f":"SUM(AD17,AE17)","v":0},1372370,"4to","4to","Fomentar la creatividad e innovación, el pensamiento crítico, memoria, concentración y toma de desiciones de los  estudiantes con AS."]
["Material para ciencia","1 kit de ciencia para niños. Laboratorio de ciéncias.",380,76,543,585,{"$f":"SUM(E18,F18)","v":1128},0,0,0,0,{"$f":"SUM(J18,K18)","v":0},0,0,0,0,{"$f":"SUM(O18,P18)","v":0},0,0,0,0,{"$f":"SUM(T18,U18)","v":0},0,0,0,0,{"$f":"SUM(Y18,Z18)","v":0},0,0,0,0,{"$f":"SUM(AD18,AE18)","v":0},246240,"4to","4to","Estimular el pensamiento crítico y la creatividad a través de la exploración y experimentación de conceptos avanzados de química, en estudiantes con AS."]
["Material para artes","1 kit de  1 paquete de 50 charola térmica de unicel 15.2 x 21.5 cm, 5 tinta china negra 15 mil, 5 pincel redondo fino #4, 1 jabón de barra rosa 100 gr., 1 paquete de 100 hojas papel bond blanco tamaño carta, pieza piedra alumbre 25 gr., 1 paquete 50 hojas papel bond negro tamaño carta, 5 pintura acrílico azul 15 ml., 5 pintura acrílico amarillo 15 ml., 5 pintura acrílico rojo 15ml., 5 pintura acrílico blanco 15 ml., 1 bolsa de 120 isopos, 1 caja con 12 lápiz de dibujo, 2 bolsas de alginato de magnesio de 454 gr. cada una, 1 bolsa de 1 kg. de abatelenguas de madera, 1 pquete de 25 piezas de bote de litro de plástico transparente.   ",76,76,543,585,1128,0,0,0,0,0,0,0,0,0,0,0,0,0,0,0,0,0,0,0,0,0,0,0,0,0,191753.4,"4to","4to","Fortalecer el desarrollo integral y motivación, mediante actividades artísticas que les permitan experimentar en diveras disciplinas."]
["Material de robótica ","16 VEX iq Education kit 2ND generation. 16 robot battery. !6 controller batter. 96 smart motor .",0,0,0,0,0,0,0,0,0,0,0,0,0,0,0,0,0,0,0,0,0,0,0,0,0,1,1,60,105,165,540949.76000000001,"4to","4to","facilitar el aprendizaje y la enseñanza de conceptos relacionados con la tecnología, la programación y la ingeniería, a través de actividades prácticas y lúdicas."]
[null,null,0,0,0,0,0,0,0,0,0,0,0,0,0,0,0,0,0,0,0,0,0,0,0,0,0,0,0,0,0,0,"N/A",null,null,"N/A"]
[null,null,0,0,0,0,0,0,0,0,0,0,0,0,0,0,0,0,0,0,0,0,0,0,0,0,0,0,0,0,0,0,"N/A",null,null,"N/A"]
[null,null,0,0,0,0,0,0,0,0,0,0,0,0,0,0,0,0,0,0,0,0,0,0,0,0,0,0,0,0,0,0,"N/A",null,null,"N/A"]
[null,null,0,0,0,0,0,0,0,0,0,0,0,0,0,0,0,0,0,0,0,0,0,0,0,0,0,0,0,0,0,0,"N/A",null,null,"N/A"]
[null,null,0,0,0,0,0,0,0,0,0,0,0,0,0,0,0,0,0,0,0,0,0,0,0,0,0,0,0,0,0,0,"N/A",null,null,"N/A"]
[null,null,0,0,0,0,0,0,0,0,0,0,0,0,0,0,0,0,0,0,0,0,0,0,0,0,0,0,0,0,0,0,"N/A",null,null,"N/A"]
["Total",null,{"$f":"SUM(C17:C26)","v":836},228,1629,1755,3384,0,0,0,0,0,0,0,0,0,0,0,0,0,0,0,0,0,0,0,0,1,1,60,105,165,2351313.16]
[]
["En caso de requerir alguna precisión o aclaración, describa brevemente: "]
[]
[]
["3.11 Adquirir equipamiento y materiales para espacios de lectura y dotar de material bibliográfico para estudiantes con aptitudes sobresalientes"]
["Recurso programado:",null,{"$f":"'Distribución presupuestal 2025'!W62","v":0}]
["Remanente ",null,{"$f":"C33-AG50","v":0}]
[]
[null,null,"Focalizados USAER",null,null,{"$f":"'SEE 2025'!N$26","v":76},null,"Focalizados CAPEP",null,null,{"$f":"'SEE 2025'!O$26","v":0},null,"Focalizados CRIE",null,null,{"$f":"'SEE 2025'!P$26","v":0},null,"Focalizados UOP",null,null,{"$f":"'SEE 2025'!Q$26","v":0},null,"Focalizados UAEBH",null,null,{"$f":"'SEE 2025'!R$26","v":0},null,"Focalizados Otro",null,null,{"$f":"'SEE 2025'!S$26","v":1}]
["Tipo de material\n(seleccione)",null,"Cantidad a distribuir","USAER",null,null,null,"Cantidad a distribuir","CAPEP",null,null,null,"Cantidad a distribuir","CRIE",null,null,null,"Cantidad a distribuir","UOP",null,null,null,"Cantidad a distribuir","UAEBH",null,null,null,"Cantidad a distribuir","Otro",null,null,null,"Presupuesto","Trimestre de inicio","Trimestre de término","Propósito educativo\n(específico de la bibliografía a adquirir)"]
[null,null,null,"SEE","Estudiantes",null,null,null,"SEE","Estudiantes",null,null,null,"SEE","Estudiantes",null,null,null,"SEE","Estudiantes",null,null,null,"SEE","Estudiantes",null,null,null,"SEE","Estudiantes"]
[null,null,null,null,"M","H","T",null,null,"M","H","T",null,null,"M","H","T",null,null,"M","H","T",null,null,"M","H","T",null,null,"M","H","T"]
[null,null,null,null,null,null,{"$f":"SUM(E40,F40)","v":0},null,null,null,null,{"$f":"SUM(J40,K40)","v":0},null,null,null,null,{"$f":"SUM(O40,P40)","v":0},null,null,null,null,{"$f":"SUM(T40,U40)","v":0},null,null,null,null,{"$f":"SUM(Y40,Z40)","v":0},null,null,null,null,{"$f":"SUM(AD40,AE40)","v":0}]
[null,null,null,null,null,null,{"$f":"SUM(E41,F41)","v":0},null,null,null,null,{"$f":"SUM(J41,K41)","v":0},null,null,null,null,{"$f":"SUM(O41,P41)","v":0},null,null,null,null,{"$f":"SUM(T41,U41)","v":0},null,null,null,null,{"$f":"SUM(Y41,Z41)","v":0},null,null,null,null,{"$f":"SUM(AD41,AE41)","v":0}]
[null,null,null,null,null,null,0,null,null,null,null,0,null,null,null,null,0,null,null,null,null,0,null,null,null,null,0,null,null,null,null,0]
[null,null,null,null,null,null,0,null,null,null,null,0,null,null,null,null,0,null,null,null,null,0,null,null,null,null,0,null,null,null,null,0]
[null,null,null,null,null,null,0,null,null,null,null,0,null,null,null,null,0,null,null,null,null,0,null,null,null,null,0,null,null,null,null,0]
[null,null,null,null,null,null,0,null,null,null,null,0,null,null,null,null,0,null,null,null,null,0,null,null,null,null,0,null,null,null,null,0]
[null,null,null,null,null,null,0,null,null,null,null,0,null,null,null,null,0,null,null,null,null,0,null,null,null,null,0,null,null,null,null,0]
[null,null,null,null,null,null,0,null,null,null,null,0,null,null,null,null,0,null,null,null,null,0,null,null,null,null,0,null,null,null,null,0]
[null,null,null,null,null,null,0,null,null,null,null,0,null,null,null,null,0,null,null,null,null,0,null,null,null,null,0,null,null,null,null,0]
[null,null,null,null,null,null,0,null,null,null,null,0,null,null,null,null,0,null,null,null,null,0,null,null,null,null,0,null,null,null,null,0]
["Total",null,{"$f":"SUM(C40:C49)","v":0},0,0,0,0,0,0,0,0,0,0,0,0,0,0,0,0,0,0,0,0,0,0,0,0,0,0,0,0,0,0]
[]
["En caso de requerir alguna precisión o aclaración, describa brevemente: "]
[]
[]
["3.12 Dotar de insumos de papelería (hojas, tóner) para la reproducción de entrevistas, cuestionarios e inventarios para la detección de estudiantes con aptitudes sobresalientes, así como para la contratación de servicios de aplicación y procesamiento en línea, de instrumentos de evaluación"]
["Recurso programado:",null,{"$f":"'Distribución presupuestal 2025'!W63","v":375000}]
["Remanente ",null,{"$f":"C56-AG73","v":0}]
[]
[null,null,"Focalizados USAER",null,null,{"$f":"'SEE 2025'!N$26","v":76},null,"Focalizados CAPEP",null,null,{"$f":"'SEE 2025'!O$26","v":0},null,"Focalizados CRIE",null,null,{"$f":"'SEE 2025'!P$26","v":0},null,"Focalizados UOP",null,null,{"$f":"'SEE 2025'!Q$26","v":0},null,"Focalizados UAEBH",null,null,{"$f":"'SEE 2025'!R$26","v":0},null,"Focalizados Otro",null,null,{"$f":"'SEE 2025'!S$26","v":1}]
["Material a adquirir",null,"Cantidad a distribuir","USAER",null,null,null,"Cantidad a distribuir","CAPEP",null,null,null,"Cantidad a distribuir","CRIE",null,null,null,"Cantidad a distribuir","UOP",null,null,null,"Cantidad a distribuir","UAEBH",null,null,null,"Cantidad a distribuir","Otro",null,null,null,"Presupuesto","Trimestre de inicio","Trimestre de término","Propósito educativo\n(específico de la prueba a adquirir)"]
[null,null,null,"SEE","Estudiantes",null,null,null,"SEE","Estudiantes",null,null,null,"SEE","Estudiantes",null,null,null,"SEE","Estudiantes",null,null,null,"SEE","Estudiantes",null,null,null,"SEE","Estudiantes"]
[null,null,null,null,"M","H","T",null,null,"M","H","T",null,null,"M","H","T",null,null,"M","H","T",null,null,"M","H","T",null,null,"M","H","T"]
["Toner",null,228,76,543,585,{"$f":"SUM(E63,F63)","v":1128},0,0,0,0,{"$f":"SUM(J63,K63)","v":0},0,0,0,0,{"$f":"SUM(O63,P63)","v":0},0,0,0,0,{"$f":"SUM(T63,U63)","v":0},0,0,0,0,{"$f":"SUM(Y63,Z63)","v":0},4,1,60,15,{"$f":"SUM(AD63,AE63)","v":75},200000,"4to","4to","Elaboración de materiales visuales atractivos para captar la atención de los estudiantes yfacilitar su comprensión."]
["Papelería: hojas de máquina: 1 paquete de 5000 hojas tamaño carta , 1128 lápiz, 1128 pluma, 1128 plumines, 1128 paquete de post it.",null,1,76,543,585,{"$f":"SUM(E64,F64)","v":1128},0,0,0,0,{"$f":"SUM(J64,K64)","v":0},0,0,0,0,{"$f":"SUM(O64,P64)","v":0},0,0,0,0,{"$f":"SUM(T64,U64)","v":0},0,0,0,0,{"$f":"SUM(Y64,Z64)","v":0},1,1,60,15,{"$f":"SUM(AD64,AE64)","v":75},175000,"4to","4to","N/A"]
["N/A",null,0,0,0,0,0,0,0,0,0,0,0,0,0,0,0,0,0,0,0,0,0,0,0,0,0,0,0,0,0,0,"N/A",null,null,"N/A"]
["N/A",null,0,0,0,0,0,0,0,0,0,0,0,0,0,0,0,0,0,0,0,0,0,0,0,0,0,0,0,0,0,0,"N/A",null,null,"N/A"]
["N/A",null,0,0,0,0,0,0,0,0,0,0,0,0,0,0,0,0,0,0,0,0,0,0,0,0,0,0,0,0,0,0,"N/A",null,null,"N/A"]
["N/A",null,0,0,0,0,0,0,0,0,0,0,0,0,0,0,0,0,0,0,0,0,0,0,0,0,0,0,0,0,0,0,"N/A",null,null,"N/A"]
["N/A",null,0,0,0,0,0,0,0,0,0,0,0,0,0,0,0,0,0,0,0,0,0,0,0,0,0,"0'",0,0,0,0,"N/A",null,null,"N/A"]
["N/A",null,0,0,0,0,0,0,0,0,0,0,0,0,0,0,0,0,0,0,0,0,0,0,0,0,0,0,0,0,0,0,"N/A",null,null,"N/A"]
["N/A",null,0,0,0,0,0,0,0,0,0,0,0,0,0,0,0,0,0,0,0,0,0,0,0,0,0,0,0,0,0,0,"N/A",null,null,"N/A"]
["N/A",null,0,0,0,0,0,0,0,0,0,0,0,0,0,0,0,0,0,0,0,0,0,0,0,0,0,0,0,0,0,0,"N/A",null,null,"N/A"]
["Total",null,{"$f":"SUM(C63:C72)","v":229},152,1086,1170,2256,0,0,0,0,0,0,0,0,0,0,0,0,0,0,0,0,0,0,0,0,5,2,120,30,150,375000]
[]
["En caso de requerir alguna precisión o aclaración, describa brevemente: "]
[]
[]
["3.13 Dotar de euipo tecnológico y/o multimedia para estudiantes con aptitudes sobresalientes"]
["Recurso programado:",null,{"$f":"'Distribución presupuestal 2025'!W64","v":528900}]
["Remanente ",null,{"$f":"C79-AG96","v":0}]
[]
[null,null,"Focalizados USAER",null,null,{"$f":"'SEE 2025'!N$26","v":76},null,"Focalizados CAPEP",null,null,{"$f":"'SEE 2025'!O$26","v":0},null,"Focalizados CRIE",null,null,{"$f":"'SEE 2025'!P$26","v":0},null,"Focalizados UOP",null,null,{"$f":"'SEE 2025'!Q$26","v":0},null,"Focalizados UAEBH",null,null,{"$f":"'SEE 2025'!R$26","v":0},null,"Focalizados Otro",null,null,{"$f":"'SEE 2025'!S$26","v":1}]
["Tipo de equipo\n(seleccione)","Características generales de los equipos","Cantidad a distribuir","USAER",null,null,null,"Cantidad a distribuir","CAPEP",null,null,null,"Cantidad a distribuir","CRIE",null,null,null,"Cantidad a distribuir","UOP",null,null,null,"Cantidad a distribuir","UAEBH",null,null,null,"Cantidad a distribuir","Otro",null,null,null,"Presupuesto","Trimestre de inicio","Trimestre de término","Propósito educativo\n(específico de los materiales)"]
[null,null,null,"SEE","Estudiantes",null,null,null,"SEE","Estudiantes",null,null,null,"SEE","Estudiantes",null,null,null,"SEE","Estudiantes",null,null,null,"SEE","Estudiantes",null,null,null,"SEE","Estudiantes"]
[null,null,null,null,"M","H","T",null,null,"M","H","T",null,null,"M","H","T",null,null,"M","H","T",null,null,"M","H","T",null,null,"M","H","T"]
["Equipo de cómputo","PC de escritorio intel core 15 145000T vpro 24mb Cache 14 Cores 20 threads Windows 11 ",3,3,33,36,{"$f":"SUM(E86,F86)","v":69},0,0,0,0,{"$f":"SUM(J86,K86)","v":0},0,0,0,0,{"$f":"SUM(O86,P86)","v":0},0,0,0,0,{"$f":"SUM(T86,U86)","v":0},0,0,0,0,{"$f":"SUM(Y86,Z86)","v":0},8,1,60,105,{"$f":"SUM(AD86,AE86)","v":165},275000,"4to","4to","Facilitar el acceso a diversos recursos educativos, como videos, tutoriales que favorezcan la retención de la informaci´pon y su comprensión."]
["Cañón","Proyector lcd de 3400 lúmenes, brillo de proyector, lampara uhe 210 vatios tecnología de proyección lcd resolución de proyección xga 1024X768 resolución de contraste 15000:1 dinámico.",1,1,8,7,{"$f":"SUM(E87,F87)","v":15},0,0,0,0,{"$f":"SUM(J87,K87)","v":0},0,0,0,0,{"$f":"SUM(O87,P87)","v":0},0,0,0,0,{"$f":"SUM(T87,U87)","v":0},0,0,0,0,{"$f":"SUM(Y87,Z87)","v":0},0,0,0,0,{"$f":"SUM(AD87,AE87)","v":0},15700,"4to","4to","Facilitar la visualización de información compleja para que el mensaje sea accesible a los estudiantes."]
["Impresora","Multifuncional de inyección de tinta contínua, vol de impresión 500 pp, vel de impresión en negro 10ppm. Vel  de impresión color 5 ppm. Interfase ethernet integrada, WIFI, Bluetooth.",5,5,60,42,102,0,0,0,0,0,0,0,0,0,0,0,0,0,0,0,0,0,0,0,0,1,1,60,105,165,68400,"4to","4to","favorecer el acceso a materiales impresos para complementar la enseñanza y el trabajo colaborativo. Así como el intercambio de ideas entre estudiantes."]
["Equipo de cómputo","Laptop",5,5,66,49,115,0,0,0,0,0,0,0,0,0,0,0,0,0,0,0,0,0,0,0,0,0,0,0,0,0,157500,"4to","4to","Facilitar el acceso a diversos recursos educativos en distintos espacios, como videos, tutoriales que favorezcan la retención de la informaci´pon y su comprensión."]
["Enmicadora","Emnicadora fellowes spectra 125 uso.",4,4,50,53,103,0,0,0,0,0,0,0,0,0,0,0,0,0,0,0,0,0,0,0,0,0,0,0,0,0,8800,"4to","4to","Preservar matriales educativos durante tiempo prolongado"]
["Otro (especifique)","Guillotina, capacidad hasta 10 hoja, largo máximo de corte 30 cm, co traba de seguridad y guía de corte antideslizante.",1,1,15,15,30,0,0,0,0,0,0,0,0,0,0,0,0,0,0,0,0,0,0,0,0,0,0,0,0,0,3500,"4to","4to","Reproducción de materiales educativos, para que sean adecuados y presentables."]
[null,"N/A",0,0,0,0,0,0,0,0,0,0,0,0,0,0,0,0,0,0,0,0,0,0,0,0,0,0,0,0,0,0,"N/A",null,null,"N/A"]
[null,"N/A",0,0,0,0,0,0,0,0,0,0,0,0,0,0,0,0,0,0,0,0,0,0,0,0,0,0,0,0,0,0,"N/A",null,null,"N/A"]
[null,"N/A",0,0,0,0,0,0,0,0,0,0,0,0,0,0,0,0,0,0,0,0,0,0,0,0,0,0,0,0,0,0,"N/A",null,null,"N/A"]
[null,"N/A",0,0,0,0,0,0,0,0,0,0,0,0,0,0,0,0,0,0,0,0,0,0,0,0,0,0,0,0,0,0,"N/A",null,null,"N/A"]
["Total",null,{"$f":"SUM(C86:C95)","v":19},19,232,202,434,0,0,0,0,0,0,0,0,0,0,0,0,0,0,0,0,0,0,0,0,9,2,120,210,330,528900]
[]
["En caso de requerir alguna precisión o aclaración, describa brevemente: "]
[]
[]
["3.14 Dotar de insumos y materiales consumibles no perecederos que se requieren para apoyar las actividades curriculares y extracurriculares de estudiantes con aptitudes sobresalientes"]
["Recurso programado:",null,{"$f":"'Distribución presupuestal 2025'!W65","v":0}]
["Remanente ",null,{"$f":"C102-AG119","v":0}]
[]
[null,null,"Focalizados USAER",null,null,{"$f":"'SEE 2025'!N$26","v":76},null,"Focalizados CAPEP",null,null,{"$f":"'SEE 2025'!O$26","v":0},null,"Focalizados CRIE",null,null,{"$f":"'SEE 2025'!P$26","v":0},null,"Focalizados UOP",null,null,{"$f":"'SEE 2025'!Q$26","v":0},null,"Focalizados UAEBH",null,null,{"$f":"'SEE 2025'!R$26","v":0},null,"Focalizados Otro",null,null,{"$f":"'SEE 2025'!S$26","v":1}]
["Especifique el tipo de insumos",null,"Cantidad a distribuir","USAER",null,null,null,"Cantidad a distribuir","CAPEP",null,null,null,"Cantidad a distribuir","CRIE",null,null,null,"Cantidad a distribuir","UOP",null,null,null,"Cantidad a distribuir","UAEBH",null,null,null,"Cantidad a distribuir","Otro",null,null,null,"Presupuesto","Trimestre de inicio","Trimestre de término","Propósito educativo\n(específico de los materiales)"]
[null,null,null,"SEE","Estudiantes",null,null,null,"SEE","Estudiantes",null,null,null,"SEE","Estudiantes",null,null,null,"SEE","Estudiantes",null,null,null,"SEE","Estudiantes",null,null,null,"SEE","Estudiantes"]
[null,null,null,null,"M","H","T",null,null,"M","H","T",null,null,"M","H","T",null,null,"M","H","T",null,null,"M","H","T",null,null,"M","H","T"]
[null,null,null,null,null,null,{"$f":"SUM(E109,F109)","v":0},null,null,null,null,{"$f":"SUM(J109,K109)","v":0},null,null,null,null,{"$f":"SUM(O109,P109)","v":0},null,null,null,null,{"$f":"SUM(T109,U109)","v":0},null,null,null,null,0,null,null,null,null,{"$f":"SUM(AD109,AE109)","v":0}]
[null,null,null,null,null,null,{"$f":"SUM(E110,F110)","v":0},null,null,null,null,{"$f":"SUM(J110,K110)","v":0},null,null,null,null,{"$f":"SUM(O110,P110)","v":0},null,null,null,null,{"$f":"SUM(T110,U110)","v":0},null,null,null,null,{"$f":"SUM(Y110,Z110)","v":0},null,null,null,null,{"$f":"SUM(AD110,AE110)","v":0}]
[null,null,null,null,null,null,0,null,null,null,null,0,null,null,null,null,0,null,null,null,null,0,null,null,null,null,0,null,null,null,null,0]
[null,null,null,null,null,null,0,null,null,null,null,0,null,null,null,null,0,null,null,null,null,0,null,null,null,null,0,null,null,null,null,0]
[null,null,null,null,null,null,0,null,null,null,null,0,null,null,null,null,0,null,null,null,null,0,null,null,null,null,0,null,null,null,null,0]
[null,null,null,null,null,null,0,null,null,null,null,0,null,null,null,null,0,null,null,null,null,0,null,null,null,null,0,null,null,null,null,0]
[null,null,null,null,null,null,0,null,null,null,null,0,null,null,null,null,0,null,null,null,null,0,null,null,null,null,0,null,null,null,null,0]
[null,null,null,null,null,null,0,null,null,null,null,0,null,null,null,null,0,null,null,null,null,0,null,null,null,null,0,null,null,null,null,0]
[null,null,null,null,null,null,0,null,null,null,null,0,null,null,null,null,0,null,null,null,null,0,null,null,null,null,0,null,null,null,null,0]
[null,null,null,null,null,null,0,null,null,null,null,0,null,null,null,null,0,null,null,null,null,0,null,null,null,null,0,null,null,null,null,0]
["Total",null,{"$f":"SUM(C109:C118)","v":0},0,0,0,0,0,0,0,0,0,0,0,0,0,0,0,0,0,0,0,0,0,0,0,0,0,0,0,0,0,0]
[]
["En caso de requerir alguna precisión o aclaración, describa brevemente: "]

{"sheet":"GOL","index":14,"n_rows":18,"n_cols":5,"rows_kept":18,"cut":false,"hidden":false,"merged":[[0,0,4,4],[0,16,4,22],[8,0,8,4],[17,0,17,4],[18,0,21,4]]}
["Subsecretaría de Educación Básica\nDirección General de Desarrollo Curricular\nDirección de Fortalecimiento Curricular para la \nFormación Personal y Social en la Educación Básica\nEducación Especial"]
[]
[]
[]
[]
["Recurso programado:",{"$f":"'Distribución presupuestal 2025'!S14","v":443727.06}]
["Remanente",{"$f":"B6-E16","v":0}]
[]
["Gastos de operación local 2025"]
["Tipo","Descripción de las actividades a realizar en cada caso","Trimestre de inicio","Trimestre de término","Presupuesto"]
["Seguimiento y supervisión","Viáticos, combustible, coffee brakehospedaje y alimentación.","2do","4to",97727.06]
["Evaluación","Aplicación de la Evaluación Interna, según lo marcan las RO en el numeral 6.1.","4to","4to",116000]
["Acciones de Contraloría Social","Las actividades de contraloría social serán descritas en el programa de trabajo de la instancia ejecutora.","3ro","4to",115000]
["Asistencia a reuniones convocadas por la DGDC","Viáticos y pasajes aereos","3ro","4to",64000]
["Distribución de materiales a los SEE focalizados","viáticos, combustible, servicio de paquetería.","3ro","4to",51000]
[null,null,null,null,{"$f":"SUM(E11:E15)","v":443727.06}]
[]
[" En caso de requerir alguna precisión o aclaración, describa brevemente:"]

{"sheet":"Autorización","index":15,"n_rows":23,"n_cols":7,"rows_kept":23,"cut":false,"hidden":false,"merged":[[0,0,4,4],[0,6,4,9],[5,0,5,9],[14,0,14,9],[15,0,15,2],[15,3,15,9],[12,0,12,2],[12,3,12,9],[6,0,7,9],[9,0,9,9],[10,0,10,2],[10,3,10,9],[11,0,11,2],[11,3,11,9],[22,0,22,2],[22,3,22,9],[16,0,16,2],[16,3,16,9],[19,0,19,9],[20,0,20,2],[20,3,20,9],[21,0,21,2],[21,3,21,9],[17,0,17,2],[17,3,17,9]]}
[null,null,null,null,null,null,"Subsecretaría de Educación Básica\nDirección General de Desarrollo Curricular\nDirección de Fortalecimiento Curricular para la \nFormación Personal y Social en la Educación Básica"]
[]
[]
[]
[]
["AUTORIZACIÓN PLAN ANUAL DE TRABAJO 2025"]
["En caso de que en su entidad federativa no se cuente con alguno de los subsistemas, se solicita no dejar en blanco el apartado de firmas, sino agregar N/A en cada caso"]
[]
[]
["Validación de la Persona Coordinadora Local del PFSEE"]
["Nombre ",null,null,"Dr. Antonio Herrera Montes"]
["Cargo",null,null,"Coordinador Estatal de PFSEE Durango"]
["Firma y sello"]
[]
["Validación de la / del Responsable de Educación Especial subsistema Estatal"]
["Nombre ",null,null,"N/A"]
["Cargo",null,null,"N/A"]
["Firma y sello",null,null,"N/A"]
[]
["Validación de la / del Responsable de Educación Especial subsistema Federal"]
["Nombre ",null,null,"Dr. Antonio Herrera Montes"]
["Cargo",null,null,"Encargado del Departamento de Educación Especial"]
["Firma y sello"]